{"text_format":"1","workbook":"xlsx","n_sheets":18,"sheets":["説明書","共通入力","休業損害","入通院慰謝料","後遺障害慰謝料","逸失利益","算定物損","算定傷後","算定原票（傷・後）-既払","算定死亡","算定死亡-既払","賃セＲ５","賃セＲ４","賃セＲ３","賃セＲ２","賃セＲ１","賃セＨ３０","平均余命"],"not_rendered":{"charts":0,"images":0,"macros":1,"external_links":0,"defined_names":5,"comments":10,"pivot_tables":0},"unopened":[],"bounds":{"document_bytes":16777216,"sheet_cells":100000,"rows_first":2000,"rows_last":500,"rows_between":2000,"halvings":0,"cell_chars":16384,"cell_head_chars":4096},"cells_cut":0,"cells_raw":0,"read":"whole","date_system":"1900"}

{"sheet":"説明書","index":0,"n_rows":24,"n_cols":8,"rows_kept":24,"cut":false,"hidden":false,"merged":[]}
[null,null,"交通事故損害計算ワークシート TRACALCU",null,null,null,"TRaffic Accident damages CALCUlator　とらかるく","ver4.1"]
[]
[null,null,"  このワークシートは交通事故における損害額の算出にあたり、相談・調停等の場面で、迅速に計算を実行することを目標に開発されています。"]
[null,null,"  主に、相談を受ける立場にある専門家向けに制作しているため、それ以外の方は専門家のアドバイスのもとに使用してください。"]
[null,null,"　　対象のタブをクリックするか、下のリンクから開いてください。画面はHD(1920x1080)以上の解像度を推奨します。"]
[]
[null,null,null,null,"＊交通事故紛争処理センター使用書式"]
[null,null,"共通データ入力","個別事案ごとの共通データを入力します。","書式セット"]
[null,null,null,null,"＊","物損"]
[null,null,"休業損害","治療期間中の休業に関する損害の項目です。"]
[null,null,null,null,"＊","傷害","＊","傷害既払"]
[null,null,"傷害慰謝料","症状固定までに入通院したことによる慰謝料項目です"]
[null,null,null,null,"＊","死亡","＊","死亡既払"]
[null,null,"逸失利益","逸失利益の損害項目です。"]
[]
[null,null,"後遺障害慰謝料","症状固定後の損失に対する慰謝料項目です"]
[]
[]
[]
[]
[null,null,"この表計算シートに関するご意見、お問い合わせは、"]
[null,null,"交通事故賠償額計算の表計算シート | 梅新東法律事務所 弁護士　山之内桂　WEB"]
[null,null,"までお願いいたします。"]
[null,null,"©2015-2024 UHL software corporation."]

{"sheet":"共通入力","index":1,"n_rows":24,"n_cols":15,"rows_kept":24,"cut":false,"hidden":false,"merged":[]}
["データ入力シート",null,"メニューに戻る",null,"担当者名","受付番号","作成日",null,null,"等級","性別","学歴","賃金表","余命表","余命データ"]
[null,null,null,null,"ＫＹ",1,{"$f":"TODAY()","v":"2024-07-14"},null,null,"非該当","女","全学歴","賃セＲ５",0,"Ｒ４"]
["申立人氏名","Ａ",null,null,null,null,null,null,null,14,"男","中学","賃セＲ４",1,"Ｒ３"]
["生年月日","1969-09-26","作成日の年齢",{"$f":"IF(YEAR(G2)-YEAR(B4)-1>106,\"\",DATEDIF(B4,G2,\"Y\"))","v":54},null,null,null,null,null,13,null,"高校","賃セＲ３",2,"Ｒ２"]
["性別","女",null,null,null,null,null,null,null,12,null,"専門学校","賃セＲ２",3,"Ｒ１"]
["最終学歴","全学歴",null,null,null,null,null,null,null,11,null,"高専・短大","賃セＲ１",4,"Ｈ３０"]
["職業","主婦",null,null,null,null,null,null,null,10,null,"大学","賃セＨ３０",5,"Ｈ２９"]
["代理人名","ＡＤ",null,null,null,null,null,null,null,9,null,"大学院"]
["事故日","2022-10-06","事故発生時年齢",{"$f":"IF(B9<>\"\",IF(YEAR(B9)-YEAR(B4)-1>106,\"\",DATEDIF(B4,B9,\"Y\")),\"\")","v":53},null,null,null,null,null,8,null,"不明"]
["症状固定日","2024-08-31","症状固定時年齢",{"$f":"IF(B10<>\"\",IF(YEAR(B10)-YEAR(B4)-1>106,\"\",DATEDIF(B4,B10,\"Y\")),\"\")","v":54},null,null,null,null,null,7]
["死亡日","2024-10-06","死亡時年齢",{"$f":"IF(B11<>\"\",IF(YEAR(B11)-YEAR(B4)-1>106,\"\",DATEDIF(B4,B11,\"Y\")),\"\")","v":55},null,null,null,null,null,6]
["後遺障害等級",14,null,null,null,null,null,null,null,5]
["過失割合％",0,"％",null,null,null,null,null,null,4]
["傷害素因",0,"％",null,"    各計算表のデータは保存されません。",null,null,null,null,3]
["後遺障害素因",0,"％",null,"    各シートをコピーして新しいブックに保存",null,null,null,null,2]
["素因全体",0,"％",null,"  してください。",null,null,null,null,1]
["相手方(運転者)","Ｂ"]
["相手方(保有者)","Ｃ"]
["相手方(保険会社)","Ｄ"]
["相手方(代理人)","ＢＤ"]
[null,null,null,null,null,null,null,true]
["用法","この色部分は、選択式",null,null,null,null,"最終更新","更新予定日"]
[null,"この色部分のみ入力可",null,null,null,"  賃金センサス"]
[null,"この色部分は、自動入力",null,null,null,"簡易生命表"]

{"sheet":"休業損害","index":2,"n_rows":40,"n_cols":8,"rows_kept":40,"cut":false,"hidden":false,"merged":[]}
[null,null,"休業損害算定","休業証明からの計算は下部欄\n（ここをクリックで移動します）",null,null,"メニューに戻る"]
[null,null,"年齢","性別","学歴","後遺障害等級",14,"級"]
[null,null,null,"女","全学歴","喪失率",{"$f":"VLOOKUP(IF(G2=\"\",H3,G2),後遺障害慰謝料!A3:G17,7)","v":0.05}]
[null,null,{"$f":"IF(C3>69,12,IF(C3>64,11,IF(C3>59,10,IF(C3>54,9,IF(C3>49,8,IF(C3>44,7,IF(C3>39,6,IF(C3>34,5,IF(C3>29,4,IF(C3>24,3,IF(C3>19,2,IF(C3>0,1,0))))))))))))+13*E4","v":0},{"$f":"IF(D3=\"男\",22,IF(D3=\"女\",34,10))","v":34},{"$f":"IF(D5=\"賃セＲ２\",IF(E3=\"全学歴\",0,IF(E3=\"中学\",1,IF(E3=\"高校\",2,IF(E3=\"専門学校\",3,IF(E3=\"高専・短大\",4,IF(E3=\"大学\",5,IF(E3=\"大学院\",6,7))))))),IF(E3=\"全学歴\",0,IF(E3=\"中学\",1,IF(OR(E3=\"不明\",E3=\"高校\"),2,IF(OR(E3=\"専門学校\",E3=\"高専・短大\"),4,5)))))","v":0}]
[null,null,"賃金センサス年度","賃セＲ５","産業計企業規模１０人以上"]
[null,null,"　基準収入",{"$f":"VLOOKUP(C4,INDIRECT(D5&\"!A9:AJ112\"),D4)*1000","v":3996499.9999999995},"円／年","  日額",{"$f":"ROUNDDOWN(D6/365,0)","v":10949},"円　A"]
[null,null,"減額後割合",null,null,"減額後日額",{"$f":"G6*D7","v":0},"円（A×減額率）"]
[null,null,"手入力＞",null,"円／年","  適用日額",{"$f":"IF(D8<>0,ROUNDDOWN(D8/365,0),IF(D7<>0,G7,G6))","v":10949},"円"]
[]
[null,null,"＜各期別平均計算＞",null,null,{"$f":"(1+G3)/2","v":0.52500000000000002},"＜後遺障害に応じた中央値"]
[null,null,"計算始期","終期","日数","平均休業率％","金額"]
[null,null,"事故の日から","退院日まで",null,1,{"$f":"$G$8*F12*E12","v":0}]
[null,null,"退院翌日から","通院　症状重",null,null,{"$f":"$G$8*F13*E13","v":0},"通院時"]
[null,null,null,"通院　症状中",null,null,{"$f":"$G$8*F14*E14","v":0}]
[null,null,null,"通院　症状軽",null,null,{"$f":"$G$8*F15*E15","v":0}]
[null,null,"症状固定（死亡）日の","当日まで",null,null,{"$f":"$G$8*F16*E16","v":0}]
[null,null,null,"延日数",{"$f":"SUM(E12:E16)","v":0},"日　　　　　　　　　　　　合計",{"$f":"SUM(G12:G16)","v":0},"円"]
[]
[null,null,"＜日数計算＞"]
[null,null,"開始日","終了日","期間日数"]
[null,null,null,null,{"$f":"D21-C21+1","v":1}]
[]
[null,null,"用法　　","この色部分は、選択式","この色部分のみ入力可","この色部分は、自動入力"]
[]
[null,null,"休業証明書計算","　　＊計算は最終結果部分で四捨五入しています。"]
[]
[null,null,"事故前稼働月","月日数","稼働日","本給","付加給"]
[]
[]
[null,null,null,null,null,null,null,"累計総支給"]
[null,null,"計",{"$f":"SUM(D28:D30)","v":0},{"$f":"SUM(E28:E30)","v":0},{"$f":"SUM(F28:F30)","v":0},{"$f":"SUM(G28:G30)","v":0},{"$f":"SUM(F31:G31)","v":0}]
[]
[null,null,null,null,null,null,"①総日平均",{"$f":"ROUNDUP(H31/IF(D31=0,1,D31),0)","v":0}]
[null,null,null,null,null,null,"②稼働日平均",{"$f":"ROUNDUP(H31/IF(E31=0,1,E31),0)","v":0}]
[null,null,null,null,null,null,null,"傷害表↓　　　死亡表↓"]
[null,null,{"$f":"H33","v":0},"×（a延休業期間",null,"日）　＝",{"$f":"ROUND(C36*E36,0)","v":0},"　　　　　　　①ａ"]
[null,null,{"$f":"H34","v":0},"×（b実休業日",null,"日）　＝",{"$f":"ROUND(C37*E37,0)","v":0},"　　　　　　　②ｂ"]
[null,null,{"$f":"H33","v":0},"×（b実休業日",null,"日）　＝",{"$f":"ROUND(C38*E38,0)","v":0},"　　　　　　　①ｂ"]
[]
[null,null,"トップに戻る",null,null,null,null,"トップに戻る"]

{"sheet":"入通院慰謝料","index":3,"n_rows":167,"n_cols":46,"rows_kept":167,"cut":false,"hidden":false,"merged":[]}
[null,"入通院慰謝料算定",null,null,"＊月＝３０日として計算",null,"メニューに戻る",null,"H30\n基準表"]
[null,"A 事故日","B 退院日","C 症状固定日","入院日数","入院簡易入力",null,null,null,"Ⅰ",null,"Ⅱ",null,"Ⅰ修正",null,"Ⅰ",null,"Ⅱ",null,"Ⅰ修正",null,"重症",null,"通常",null,"通常修正",null,"重症",null,"通常"]
[null,null,null,null,{"$f":"IF(F3<>\"\",F3,IF(C3<>\"\",C3-B3+1,0))","v":0},null,null,null,null,"通","入","通","入","通","入","通","入","通","入","通","入","通","入","通","入","通","入","通","入","通","入"]
[null,"実通院日数",null,"修正通院日数","修正総治療日数","延通院簡易入力","C-A",null,0,{"$f":"K33","v":0},{"$f":"K33","v":0},{"$f":"K52","v":0},{"$f":"K52","v":0},{"$f":"AD33","v":0},{"$f":"AD33","v":0},{"$f":"K72","v":0},{"$f":"K72","v":0},{"$f":"K91","v":0},{"$f":"K91","v":0},{"$f":"AD72","v":0},{"$f":"AD72","v":0},{"$f":"K111","v":0},{"$f":"K111","v":0},{"$f":"K130","v":0},{"$f":"K130","v":0},{"$f":"AD130","v":0},{"$f":"AD130","v":0},{"$f":"AC33","v":0},{"$f":"AC33","v":0},{"$f":"AC52","v":0},{"$f":"AC52","v":0}]
[null,null,3.5,{"$f":"IF(F5<>\"\",IF(B5*C5<F5,B5*C5,F5),IF(B5*C5<G5,B5*C5,G5))","v":0},{"$f":"D5+$E$3","v":0},null,{"$f":"IF(F5<>\"\",F5,D3-B3+1-E3)","v":1},null,1,{"$f":"K34","v":29},{"$f":"L33","v":60},16,{"$f":"L52","v":32},20.299999999999997,{"$f":"AE33","v":42},28,53,19,{"$f":"L91","v":35},36.4,{"$f":"AE72","v":68.900000000000006},34,{"$f":"L111","v":64},27,{"$f":"L130","v":53},17.82,{"$f":"AE130","v":34.980000000000004},{"$f":"AD152","v":32.5},{"$f":"AE151","v":65},{"$f":"K152","v":25},{"$f":"L151","v":50}]
[null,null,3,{"$f":"IF(F5<>\"\",IF(B5*C6<F5,B5*C6,F5),IF(B5*C6<G5,B5*C6,G5))","v":0},{"$f":"D6+$E$3","v":0},null,null,null,2,{"$f":"K35","v":57},{"$f":"M33","v":117},31,{"$f":"M52","v":63},39.9,{"$f":"AF33","v":81.899999999999991},52,{"$f":"M72","v":101},36,{"$f":"M91","v":66},67.600000000000009,{"$f":"AF72","v":131.30000000000001},61,{"$f":"M111","v":121},49,{"$f":"M130","v":101},32.340000000000003,{"$f":"AF130","v":66.66},61.1,{"$f":"AF151","v":122.2},47,{"$f":"M151","v":94}]
[null,"３．５倍　",{"$f":"ROUNDDOWN(E3/30,0)","v":0},{"$f":"C7+1","v":1},"総治療月",{"$f":"ROUNDDOWN(D5/30,0)","v":0},{"$f":"F7+1","v":1},null,3,84,{"$f":"N33","v":171},46,{"$f":"N52","v":92},58.8,{"$f":"AG33","v":119.69999999999999},73,{"$f":"N72","v":145},53,{"$f":"N91","v":92},94.9,{"$f":"AG72","v":188.5},90,{"$f":"N111","v":175},72,{"$f":"N130","v":146},47.52,{"$f":"AG130","v":96.36},87.100000000000009,{"$f":"AG151","v":176.8},67,{"$f":"N151","v":136}]
[null,null,{"$f":"E3-(C7*30)","v":0},null,"端数日",{"$f":"D5-(F7*30)","v":0},null,null,4,105,{"$f":"O33","v":214},57,{"$f":"O52","v":115},73.5,{"$f":"AH33","v":149.79999999999998},90,{"$f":"O72","v":184},67,{"$f":"O91","v":116},117,{"$f":"AH72","v":239.20000000000002},113,{"$f":"O111","v":223},90,{"$f":"O130","v":186},59.400000000000006,{"$f":"AH130","v":122.76},109.2,{"$f":"AH151","v":218.4},84,{"$f":"O151","v":168}]
[null,"３倍　　",null,null,"総治療月",{"$f":"ROUNDDOWN(D6/30,0)","v":0},{"$f":"F9+1","v":1},null,5,123,{"$f":"P33","v":252},67,{"$f":"P52","v":135},86.1,{"$f":"AI33","v":176.39999999999998},105,{"$f":"P72","v":217},79,{"$f":"P91","v":135},136.5,{"$f":"AI72","v":282.10000000000002},135,{"$f":"P111","v":264},108,{"$f":"P130","v":220},71.28,{"$f":"AI130","v":145.20000000000002},127.4,{"$f":"AI151","v":256.10000000000002},98,{"$f":"P151","v":197}]
[null,null,null,null,"端数日",{"$f":"D6-(F9*30)","v":0},null,null,6,139,{"$f":"Q33","v":284},76,{"$f":"Q52","v":153},97.3,{"$f":"AJ33","v":198.79999999999998},116,{"$f":"Q72","v":244},89,{"$f":"Q91","v":152},150.80000000000001,{"$f":"AJ72","v":317.2},150,{"$f":"Q111","v":300},120,228,79.2,{"$f":"AJ130","v":165},143,{"$f":"AJ151","v":289.90000000000003},110,{"$f":"Q151","v":223}]
[null,"通院率判定",{"$f":"B5/G5","v":0},{"$f":"2/7","v":0.2857142857142857},{"$f":"IF(C11>=D11,\"標準通院より多い\",\"標準通院より少ない\")","v":"標準通院より少ない"},null,null,null,7,153,{"$f":"R33","v":312},84,{"$f":"R52","v":168},107.1,{"$f":"AK33","v":218.39999999999998},124,{"$f":"R72","v":266},97,{"$f":"R91","v":165},161.20000000000002,{"$f":"AK72","v":345.8},160,{"$f":"R111","v":319},128,236,84.48,{"$f":"AK130","v":175.56},156,{"$f":"AK151","v":318.5},120,{"$f":"R151","v":245}]
[null,null,{"$f":"C5-0.5","v":3},null,null,null,null,null,8,165,{"$f":"S33","v":336},90,{"$f":"S52","v":181},115.49999999999999,{"$f":"AL33","v":235.2},132,{"$f":"S72","v":284},103,{"$f":"S91","v":176},171.6,{"$f":"AL72","v":369.2},170,{"$f":"S111","v":332},136,244,89.76,{"$f":"AL130","v":182.82000000000002},167.70000000000002,{"$f":"AL151","v":340.6},129,{"$f":"S151","v":262}]
[null,null,"入院部分","通院部分","合計","増減倍率の調整",null,null,9,174,{"$f":"T33","v":356},95,{"$f":"T52","v":191},121.8,{"$f":"AM33","v":249.2},139,{"$f":"T72","v":297},109,{"$f":"T91","v":186},180.70000000000002,{"$f":"AM72","v":386.1},180,{"$f":"T111","v":343},144,249,95.04,{"$f":"AM130","v":188.76000000000002},178.1,{"$f":"AM151","v":361.40000000000003},137,{"$f":"T151","v":278}]
[null,"青い本",null,null,null,null,null,null,10,182,{"$f":"U33","v":372},100,{"$f":"U52","v":200},127.39999999999999,{"$f":"AN33","v":260.39999999999998},145,{"$f":"U72","v":306},113,{"$f":"U91","v":195},188.5,{"$f":"AN72","v":397.8},190,{"$f":"U111","v":354},152,254,100.32000000000001,{"$f":"AN130","v":194.70000000000002},184.6,{"$f":"AN151","v":377},142,{"$f":"U151","v":290}]
[null,"Ⅰ",{"$f":"(VLOOKUP($C$7,I2:AA28,3)+(VLOOKUP($D$7,I2:AA28,3)-VLOOKUP($C$7,I2:AA28,3))/30*$C$8)","v":0},{"$f":"(VLOOKUP($F$7,$I$2:$AA$28,2)+(VLOOKUP($G$7,$I$2:$AA$28,2)-VLOOKUP($F$7,$I$2:$AA$28,2))/30*$F$8)","v":0},{"$f":"ROUNDDOWN((C15+D15)*10000,0)","v":0},null,null,null,11,189,{"$f":"V33","v":385},103,{"$f":"V52","v":207},132.29999999999998,{"$f":"AO33","v":269.5},150,{"$f":"V72","v":314},117,{"$f":"V91","v":204},195,{"$f":"AO72","v":408.2},200,{"$f":"V111","v":364},160,259,105.60000000000001,{"$f":"AO130","v":199.98000000000002},191.1,{"$f":"AO151","v":392.6},147,{"$f":"V151","v":302}]
[null,"Ⅰ修正",{"$f":"(VLOOKUP($C$7,I2:AA28,7)+(VLOOKUP($D$7,I2:AA28,7)-VLOOKUP($C$7,I2:AA28,7))/30*$C$8)","v":0},{"$f":"(VLOOKUP($F$7,$I$2:$AA$28,6)+(VLOOKUP($G$7,$I$2:$AA$28,6)-VLOOKUP($F$7,$I$2:$AA$28,6))/30*$F$8)","v":0},{"$f":"ROUNDDOWN((C16+D16)*10000,0)","v":0},0.7,"0.7-1.2",null,12,194,{"$f":"W33","v":395},106,{"$f":"W52","v":212},135.79999999999998,{"$f":"AP33","v":276.5},154,{"$f":"W72","v":321},119,{"$f":"W91","v":211},200.20000000000002,{"$f":"AP72","v":417.3},208,{"$f":"W111","v":370},166,263,109.56,{"$f":"AP130","v":203.28},197.6,{"$f":"AP151","v":406.90000000000003},152,{"$f":"W151","v":313}]
[null,"Ⅱ",{"$f":"(VLOOKUP($C$7,I2:AA28,5)+(VLOOKUP($D$7,I2:AA28,5)-VLOOKUP($C$7,I2:AA28,5))/30*$C$8)","v":0},{"$f":"(VLOOKUP($F$7,$I$2:$AA$28,4)+(VLOOKUP($G$7,$I$2:$AA$28,4)-VLOOKUP($F$7,$I$2:$AA$28,4))/30*$F$8)","v":0},{"$f":"ROUNDDOWN((C17+D17)*10000,0)","v":0},null,null,null,13,198,{"$f":"X33","v":403},108,{"$f":"X52","v":217},138.6,{"$f":"AQ33","v":282.09999999999997},158,{"$f":"X72","v":328},120,{"$f":"X91","v":218},205.4,{"$f":"AQ72","v":426.40000000000003},213,{"$f":"X111","v":374},170,267,112.2,{"$f":"AQ130","v":205.92000000000002},202.8,{"$f":"AQ151","v":416},156,{"$f":"X151","v":320}]
[null,"赤い本",null,null,null,null,null,null,14,201,{"$f":"Y33","v":408},110,{"$f":"Y52","v":221},140.69999999999999,{"$f":"AR33","v":285.59999999999997},162,{"$f":"Y72","v":334},121,{"$f":"Y91","v":223},210.6,{"$f":"AR72","v":434.2},219,{"$f":"Y111","v":379},175,271,115.5,{"$f":"AR130","v":208.56},206.70000000000002,{"$f":"AR151","v":422.5},159,{"$f":"Y151","v":325}]
[null,"Ⅰ修正",{"$f":"(VLOOKUP($C$7,I2:AA28,13)+(VLOOKUP($D$7,I2:AA28,13)-VLOOKUP($C$7,I2:AA28,13))/30*$C$8)","v":0},{"$f":"(VLOOKUP($F$9,$I$2:$AA$28,12)+(VLOOKUP($G$9,$I$2:$AA$28,12)-VLOOKUP($F$9,$I$2:$AA$28,12))/30*$F$10)","v":0},{"$f":"ROUNDDOWN((C19+D19)*10000,0)","v":0},1.3,"1-1.3",null,15,204,{"$f":"Z33","v":413},112,{"$f":"Z52","v":225},142.79999999999998,{"$f":"AS33","v":289.09999999999997},164,{"$f":"Z72","v":340},122,{"$f":"Z91","v":228},213.20000000000002,{"$f":"AS72","v":442},225,{"$f":"Z111","v":383},180,274,118.80000000000001,{"$f":"AS130","v":210.54000000000002},209.3,{"$f":"AS151","v":427.7},161,{"$f":"Z151","v":329}]
[null,"Ⅰ",{"$f":"(VLOOKUP($C$7,I2:AA28,9)+(VLOOKUP($D$7,I2:AA28,9)-VLOOKUP($C$7,I2:AA28,9))/30*$C$8)","v":0},{"$f":"(VLOOKUP($F$9,$I$2:$AA$28,8)+(VLOOKUP($G$9,$I$2:$AA$28,8)-VLOOKUP($F$9,$I$2:$AA$28,8))/30*$F$10)","v":0},{"$f":"ROUNDDOWN((C20+D20)*10000,0)","v":0},null,null,null,16,{"$f":"J19+$K$49","v":207},{"$f":"K19+$AA$33","v":418},{"$f":"L19+$K$68","v":114},{"$f":"M19+$AA$52","v":229},{"$f":"N19+$AD$49","v":145.79999999999998},{"$f":"O19+$AT$33","v":294.09999999999997},{"$f":"P19+$K$88","v":166},{"$f":"Q19+$AA$72","v":346},{"$f":"R19+$K$107","v":123},{"$f":"S19+$AA$91","v":233},{"$f":"T19+$AD$88","v":215.8},{"$f":"U19+$AT$72","v":449.8},{"$f":"V19+$K$127","v":228.1},{"$f":"W19+$AA$111","v":385.7},{"$f":"X19+$K$146","v":182.5},277,{"$f":"Z19+$AD$146","v":120.45000000000002},{"$f":"AA19+$AT$130","v":212.05800000000002},{"$f":"AD166+$AD$167","v":211.9},{"$f":"AC19+$AT$151","v":432.9},{"$f":"AD19+$K$167","v":163},{"$f":"AE19+$AA$151","v":333}]
[null,"Ⅱ",{"$f":"(VLOOKUP($C$7,I2:AA28,11)+(VLOOKUP($D$7,I2:AA28,11)-VLOOKUP($C$7,I2:AA28,11))/30*$C$8)","v":0},{"$f":"(VLOOKUP($F$9,$I$2:$AA$28,10)+(VLOOKUP($G$9,$I$2:$AA$28,10)-VLOOKUP($F$9,$I$2:$AA$28,10))/30*$F$10)","v":0},{"$f":"ROUNDDOWN((C21+D21)*10000,0)","v":0},null,null,null,17,210,423,116,233,148.79999999999998,299.09999999999997,168,352,124,238,218.4,457.6,231.2,388.4,185,281,122.10000000000002,213.57600000000002,{"$f":"AB20+$AD$167","v":214.5},438.09999999999997,165,337]
[null,"緑本",null,null,null,null,null,null,18,213,428,118,237,151.79999999999998,304.09999999999997,170,358,125,243,221,465.40000000000003,234.29999999999998,391.09999999999997,187.5,284,123.75000000000003,215.09400000000002,217.1,443.29999999999995,167,341]
[null,"重症",{"$f":"(VLOOKUP($C$7,I2:AA28,15)+(VLOOKUP($D$7,I2:AA28,15)-VLOOKUP($C$7,I2:AA28,15))/30*$C$8)","v":0},{"$f":"(VLOOKUP($F$7,$I$2:$AA$28,14)+(VLOOKUP($G$7,$I$2:$AA$28,14)-VLOOKUP($F$7,$I$2:$AA$28,14))/30*$F$8)","v":0},{"$f":"ROUNDDOWN((C23+D23)*10000,0)","v":0},null,null,null,19,216,433,120,241,154.79999999999998,309.09999999999997,172,364,126,248,223.6,473.20000000000005,237.39999999999998,393.79999999999995,190,287,125.40000000000003,216.61200000000002,219.7,448.49999999999994,169,345]
[null,"通常",{"$f":"(VLOOKUP($C$7,I2:AA28,17)+(VLOOKUP($D$7,I2:AA28,17)-VLOOKUP($C$7,I2:AA28,17))/30*$C$8)","v":0},{"$f":"(VLOOKUP($F$7,$I$2:$AA$28,16)+(VLOOKUP($G$7,$I$2:$AA$28,16)-VLOOKUP($F$7,$I$2:$AA$28,16))/30*$F$8)","v":0},{"$f":"ROUNDDOWN((C24+D24)*10000,0)","v":0},null,null,null,20,219,438,122,245,157.79999999999998,314.09999999999997,174,370,127,253,226.2,481.00000000000006,240.49999999999997,396.49999999999994,192.5,289,127.05000000000004,218.13000000000002,222.29999999999998,453.69999999999993,171,349]
[null,"通常修正",{"$f":"(VLOOKUP($C$7,I2:AA28,19)+(VLOOKUP($D$7,I2:AA28,19)-VLOOKUP($C$7,I2:AA28,19))/30*$C$8)","v":0},{"$f":"(VLOOKUP($F$7,$I$2:$AA$28,18)+(VLOOKUP($G$7,$I$2:$AA$28,18)-VLOOKUP($F$7,$I$2:$AA$28,18))/30*$F$8)","v":0},{"$f":"ROUNDDOWN((C25+D25)*10000,0)","v":0},0.66,"0.66-1.2",null,21,222,443,124,249,160.79999999999998,319.09999999999997,176,376,128,258,228.79999999999998,488.80000000000007,243.59999999999997,399.19999999999993,195,{"$f":"Y24+$AA$130","v":291.3},128.70000000000005,219.64800000000002,224.89999999999998,458.89999999999992,173,353]
[null,null,null,null,{"$f":"E24*2/3","v":0},"３分の２",null,null,22,225,448,126,253,163.79999999999998,324.09999999999997,178,382,129,263,231.39999999999998,496.60000000000008,246.69999999999996,401.89999999999992,197.5,{"$f":"Y25+$AA$130","v":293.60000000000002},130.35000000000005,221.16600000000003,227.49999999999997,464.09999999999991,175,357]
[null,"参考（日数計算は赤い本準拠）",null,null,null,null,null,null,23,228,453,128,257,166.79999999999998,329.09999999999997,180,388,130,268,233.99999999999997,504.40000000000009,249.79999999999995,404.59999999999991,200,{"$f":"Y26+$AA$130","v":295.90000000000003},132.00000000000006,222.68400000000003,230.09999999999997,469.2999999999999,177,361]
[null,"黄本",null,null,null,null,null,null,24,231,458,130,261,169.79999999999998,334.09999999999997,182,394,131,273,236.59999999999997,512.20000000000005,252.89999999999995,407.2999999999999,202.5,{"$f":"Y27+$AA$130","v":298.20000000000005},133.65000000000006,224.20200000000003,232.69999999999996,474.49999999999989,179,365]
[null,"重症",{"$f":"(VLOOKUP($C$7,I2:AE28,21)+(VLOOKUP($D$7,I2:AE28,21)-VLOOKUP($C$7,I2:AE28,21))/30*$C$8)","v":0},{"$f":"(VLOOKUP($F$9,$I$2:$AE$28,20)+(VLOOKUP($G$9,$I$2:$AE$28,20)-VLOOKUP($F$9,$I$2:$AE$28,20))/30*$F$10)","v":0},{"$f":"ROUNDDOWN((C29+D29)*10000,0)","v":0},1.3,"・・-1.3"]
[null,"通常",{"$f":"(VLOOKUP($C$7,I2:AE28,23)+(VLOOKUP($D$7,I2:AE28,23)-VLOOKUP($C$7,I2:AE28,23))/30*$C$8)","v":0},{"$f":"(VLOOKUP($F$9,$I$2:$AE$28,22)+(VLOOKUP($G$9,$I$2:$AE$28,22)-VLOOKUP($F$9,$I$2:$AE$28,22))/30*$F$10)","v":0},{"$f":"ROUNDDOWN((C30+D30)*10000,0)","v":0},null,null,null,null,null,null,null,null,null,null,null,null,null,null,null,null,null,null,null,null,null,null,null,null,null,{"$f":"F16","v":0.7},"<1.2"]
[null,"用法",null,null,null,null,null,null,null,"別表Ⅰ（上限）",null,null,null,null,null,null,null,null,null,null,null,null,null,null,null,null,null,null,"別表Ⅰの増減"]
[null,"この色部分は、選択式","この色部分のみ入力可","この色部分は、自動入力",null,null,null,null,null,"通院＼入院",null,"１月","２月","３月","４月","５月","６月","７月","８月","９月","１０月","１１月","１２月","１３月","１４月","１５月",null,null,"通院＼入院",null,"１月","２月","３月","４月","５月","６月","７月","８月","９月","１０月","１１月","１２月","１３月","１４月","１５月"]
[null,null,"この色部分は要注意入力可",null,null,null,null,null,null,null,null,60,117,171,214,252,284,312,336,356,372,385,395,403,408,413,5,null,null,null,{"$f":"L33*$AE$30","v":42},81.899999999999991,119.69999999999999,149.79999999999998,176.39999999999998,198.79999999999998,218.39999999999998,235.2,249.2,260.39999999999998,269.5,276.5,282.09999999999997,285.59999999999997,289.09999999999997,5]
[null,null,null,null,null,null,null,null,null,"１月",29,{"$f":"L33+$K35-$K34","v":88},{"$f":"M33+$K36-$K35","v":144},{"$f":"N33+$K37-$K36","v":192},{"$f":"O33+$K38-$K37","v":232},{"$f":"P33+$K39-$K38","v":268},{"$f":"Q33+$K40-$K39","v":298},{"$f":"R33+$K41-$K40","v":324},{"$f":"S33+$K42-$K41","v":345},{"$f":"T33+$K43-$K42","v":364},{"$f":"U33+$K44-$K43","v":379},{"$f":"V33+$K45-$K44","v":390},{"$f":"W33+$K46-$K45","v":399},{"$f":"X33+$K47-$K46","v":406},{"$f":"Y33+$K48-$K47","v":411},{"$f":"Z33+$K$49","v":416},null,null,"１月",{"$f":"K34*$AE$30","v":20.299999999999997},61.599999999999994,100.8,134.39999999999998,162.39999999999998,187.6,208.6,226.79999999999998,241.49999999999997,254.79999999999998,265.3,273,279.29999999999995,284.2,287.7,291.2]
[null,null,null,null,null,null,null,null,null,"２月",57,115,165,210,248,282,310,333,353,371,{"$f":"U34+$K45-$K44","v":384},{"$f":"V34+$K46-$K45","v":394},{"$f":"W34+$K47-$K46","v":402},{"$f":"X34+$K48-$K47","v":409},{"$f":"Y34+$K$49","v":414},419,null,null,"２月",39.9,80.5,115.49999999999999,147,173.6,197.39999999999998,217,233.1,247.1,259.7,268.79999999999995,275.79999999999995,281.39999999999998,286.29999999999995,289.79999999999995,293.29999999999995]
[null,null,null,null,null,null,null,null,null,"３月",84,136,183,226,262,294,319,341,360,376,{"$f":"U35+$K46-$K45","v":388},{"$f":"V35+$K47-$K46","v":397},{"$f":"W35+$K48-$K47","v":405},{"$f":"X35+$K$49","v":412},417,422,null,null,"３月",58.8,95.199999999999989,128.1,158.19999999999999,183.39999999999998,205.79999999999998,223.29999999999998,238.7,251.99999999999997,263.2,271.59999999999997,277.89999999999998,283.5,288.39999999999998,291.89999999999998,295.39999999999998]
[null,null,null,null,null,null,null,null,null,"４月",105,154,199,240,274,303,327,348,365,380,{"$f":"U36+$K47-$K46","v":391},{"$f":"V36+$K48-$K47","v":400},{"$f":"W36+$K$49","v":408},415,420,425,null,null,"４月",73.5,107.8,139.29999999999998,168,191.79999999999998,212.1,228.89999999999998,243.6,255.49999999999997,266,273.7,280,285.59999999999997,290.5,294,297.5]
[null,null,null,null,null,null,null,null,null,"５月",123,170,213,252,283,311,334,353,369,383,{"$f":"U37+$K48-$K47","v":394},{"$f":"V37+$K$49","v":403},411,418,423,428,null,null,"５月",86.1,118.99999999999999,149.1,176.39999999999998,198.1,217.7,233.79999999999998,247.1,258.3,268.09999999999997,275.79999999999995,282.09999999999997,287.7,292.59999999999997,296.09999999999997,299.59999999999997]
[null,null,null,null,null,null,null,null,null,"６月",139,184,225,261,291,318,339,357,372,386,{"$f":"U38+$K$49","v":397},406,414,421,426,431,null,null,"６月",97.3,128.79999999999998,157.5,182.7,203.7,222.6,237.29999999999998,249.89999999999998,260.39999999999998,270.2,277.89999999999998,284.2,289.79999999999995,294.7,298.2,301.7]
[null,null,null,null,null,null,null,null,null,"７月",153,196,234,269,298,323,343,360,375,{"$f":"T39+$K$49","v":389},400,409,417,424,429,434,null,null,"７月",107.1,137.19999999999999,163.79999999999998,188.29999999999998,208.6,226.1,240.1,251.99999999999997,262.5,272.29999999999995,280,286.29999999999995,291.89999999999998,296.79999999999995,300.29999999999995,303.79999999999995]
[null,null,null,null,null,null,null,null,null,"８月",165,205,242,276,303,327,346,363,{"$f":"S40+$K$49","v":378},392,403,412,420,427,432,437,null,null,"８月",115.49999999999999,143.5,169.39999999999998,193.2,212.1,228.89999999999998,242.2,254.1,264.59999999999997,274.39999999999998,282.09999999999997,288.39999999999998,294,298.89999999999998,302.39999999999998,305.89999999999998]
[null,null,null,null,null,null,null,null,null,"９月",174,213,249,281,307,330,349,{"$f":"R41+$K$49","v":366},381,395,406,415,423,430,435,440,null,null,"９月",121.8,149.1,174.29999999999998,196.7,214.89999999999998,230.99999999999997,244.29999999999998,256.2,266.7,276.5,284.2,290.5,296.09999999999997,301,304.5,308]
[null,null,null,null,null,null,null,null,null,"１０月",182,220,254,285,310,333,{"$f":"Q42+$K$49","v":352},369,384,398,409,418,426,433,438,443,null,null,"１０月",127.39999999999999,154,177.79999999999998,199.5,217,233.1,246.39999999999998,258.3,268.79999999999995,278.59999999999997,286.29999999999995,292.59999999999997,298.2,303.09999999999997,306.59999999999997,310.09999999999997]
[null,null,null,null,null,null,null,null,null,"１１月",189,225,258,288,313,{"$f":"P43+$K$49","v":336},355,372,387,401,412,421,429,436,441,446,null,null,"１１月",132.29999999999998,157.5,180.6,201.6,219.1,235.2,248.49999999999997,260.39999999999998,270.89999999999998,280.7,288.39999999999998,294.7,300.29999999999995,305.2,308.7,312.2]
[null,null,null,null,null,null,null,null,null,"１２月",194,229,261,291,{"$f":"O44+$K$49","v":316},{"$f":"P44+$K$49","v":339},358,375,390,404,415,424,432,439,444,449,null,null,"１２月",135.79999999999998,160.29999999999998,182.7,203.7,221.2,237.29999999999998,250.6,262.5,273,282.79999999999995,290.5,296.79999999999995,302.39999999999998,307.29999999999995,310.79999999999995,314.29999999999995]
[null,null,null,null,null,null,null,null,null,"１３月",198,232,264,{"$f":"N45+$K$49","v":294},{"$f":"O45+$K$49","v":319},{"$f":"P45+$K$49","v":342},361,378,393,407,418,427,435,442,447,452,null,null,"１３月",138.6,162.39999999999998,184.79999999999998,205.79999999999998,223.29999999999998,239.39999999999998,252.7,264.59999999999997,275.09999999999997,284.89999999999998,292.59999999999997,298.89999999999998,304.5,309.39999999999998,312.89999999999998,316.39999999999998]
[null,null,null,null,null,null,null,null,null,"１４月",201,235,{"$f":"M46+$K49","v":267},{"$f":"N46+$K$49","v":297},{"$f":"O46+$K$49","v":322},{"$f":"P46+$K$49","v":345},364,381,396,410,421,430,438,445,450,455,null,null,"１４月",140.69999999999999,164.5,186.89999999999998,207.89999999999998,225.39999999999998,241.49999999999997,254.79999999999998,266.7,277.2,287,294.7,301,306.59999999999997,311.5,315,318.5]
[null,null,null,null,null,null,null,null,null,"１５月",204,{"$f":"L47+$K49","v":238},{"$f":"M47+$K49","v":270},{"$f":"N47+$K$49","v":300},{"$f":"O47+$K$49","v":325},{"$f":"P47+$K$49","v":348},367,384,399,413,424,433,441,448,453,458,null,null,"１５月",142.79999999999998,166.6,189,210,227.49999999999997,243.6,256.89999999999998,268.79999999999995,279.29999999999995,289.09999999999997,296.79999999999995,303.09999999999997,308.7,313.59999999999997,317.09999999999997,320.59999999999997]
[null,null,null,null,null,null,null,null,null,null,3,null,null,null,null,null,null,null,null,null,null,null,null,null,null,null,null,null,null,3]
[null,null,null,null,null,null,null,null,null,"別表Ⅱ（下限）"]
[null,null,null,null,null,null,null,null,null,"通院＼入院",null,"１月","２月","３月","４月","５月","６月","７月","８月","９月","１０月","１１月","１２月","１３月","１４月","１５月"]
[null,null,null,null,null,null,null,null,null,null,null,32,63,92,115,135,153,168,181,191,200,207,212,217,221,225,4]
[null,null,null,null,null,null,null,null,null,"１月",16,{"$f":"L52+$K54-$K53","v":47},{"$f":"M52+$K55-$K54","v":78},{"$f":"N52+$K56-$K55","v":103},{"$f":"O52+$K57-$K56","v":125},{"$f":"P52+$K58-$K57","v":144},{"$f":"Q52+$K59-$K58","v":161},{"$f":"R52+$K60-$K59","v":174},{"$f":"S52+$K61-$K60","v":186},{"$f":"T52+$K62-$K61","v":196},{"$f":"U52+$K63-$K62","v":203},{"$f":"V52+$K64-$K63","v":210},{"$f":"W52+$K65-$K64","v":214},{"$f":"X52+$K66-$K65","v":219},{"$f":"Y52+$K67-$K66","v":223},{"$f":"Z52+$K$68","v":227}]
[null,null,null,null,null,null,null,null,null,"２月",31,62,89,113,134,152,167,179,191,199,{"$f":"U53+$K64-$K63","v":206},{"$f":"V53+$K65-$K64","v":212},{"$f":"W53+$K66-$K65","v":216},{"$f":"X53+$K67-$K66","v":221},{"$f":"Y53+$K$68","v":225},229]
[null,null,null,null,null,null,null,null,null,"３月",46,73,99,122,142,158,172,184,194,202,{"$f":"U54+$K65-$K64","v":208},{"$f":"V54+$K66-$K65","v":214},{"$f":"W54+$K67-$K66","v":218},{"$f":"X54+$K$68","v":223},227,231]
[null,null,null,null,null,null,null,null,null,"４月",57,83,108,130,148,163,177,187,197,204,{"$f":"U55+$K66-$K65","v":210},{"$f":"V55+$K67-$K66","v":216},{"$f":"W55+$K$68","v":220},225,229,233]
[null,null,null,null,null,null,null,null,null,"５月",67,92,116,136,153,168,180,190,199,206,{"$f":"U56+$K67-$K66","v":212},{"$f":"V56+$K$68","v":218},222,227,231,235]
[null,null,null,null,null,null,null,null,null,"６月",76,100,122,141,158,171,183,192,201,208,{"$f":"U57+$K$68","v":214},220,224,229,233,237]
[null,null,null,null,null,null,null,null,null,"７月",84,106,127,146,161,174,185,194,203,{"$f":"T58+$K$68","v":210},216,222,226,231,235,239]
[null,null,null,null,null,null,null,null,null,"８月",90,111,132,149,164,176,187,196,{"$f":"S59+$K$68","v":205},212,218,224,228,233,237,241]
[null,null,null,null,null,null,null,null,null,"９月",95,116,135,152,166,178,189,{"$f":"R60+$K$68","v":198},207,214,220,226,230,235,239,243]
[null,null,null,null,null,null,null,null,null,"１０月",100,119,138,154,168,180,{"$f":"Q61+$K$68","v":191},200,209,216,222,228,232,237,241,245]
[null,null,null,null,null,null,null,null,null,"１１月",103,122,140,156,170,{"$f":"P62+$K$68","v":182},193,202,211,218,224,230,234,239,243,247]
[null,null,null,null,null,null,null,null,null,"１２月",106,124,142,158,{"$f":"O63+$K$68","v":172},{"$f":"P63+$K$68","v":184},195,204,213,220,226,232,236,241,245,249]
[null,null,null,null,null,null,null,null,null,"１３月",108,126,144,{"$f":"N64+$K$68","v":160},{"$f":"O64+$K$68","v":174},{"$f":"P64+$K$68","v":186},197,206,215,222,228,234,238,243,247,251]
[null,null,null,null,null,null,null,null,null,"１４月",110,128,{"$f":"M65+$K68","v":146},{"$f":"N65+$K$68","v":162},{"$f":"O65+$K$68","v":176},{"$f":"P65+$K$68","v":188},199,208,217,224,230,236,240,245,249,253]
[null,null,null,null,null,null,null,null,null,"１５月",112,{"$f":"L66+$K68","v":130},{"$f":"M66+$K68","v":148},{"$f":"N66+$K$68","v":164},{"$f":"O66+$K$68","v":178},{"$f":"P66+$K$68","v":190},201,210,219,226,232,238,242,247,251,255]
[null,null,null,null,null,null,null,null,null,null,2]
[null,null,null,null,null,null,null,null,null,null,null,null,null,null,null,null,null,null,null,null,null,null,null,null,null,null,null,null,null,null,{"$f":"F19","v":1.3},"<1.3"]
[null,null,null,null,null,null,null,null,null,"別表Ⅰ",null,null,null,null,null,null,null,null,null,null,null,null,null,null,null,null,null,null,"別表Ⅰの増減"]
[null,null,null,null,null,null,null,null,null,"通院＼入院",null,"１月","２月","３月","４月","５月","６月","７月","８月","９月","１０月","１１月","１２月","１３月","１４月","１５月",null,null,"通院＼入院",null,"１月","２月","３月","４月","５月","６月","７月","８月","９月","１０月","１１月","１２月","１３月","１４月","１５月"]
[null,null,null,null,null,null,null,null,null,null,null,53,101,145,184,217,244,266,284,297,306,314,321,328,334,340,6,null,null,null,{"$f":"L72*$AE$69","v":68.900000000000006},131.30000000000001,188.5,239.20000000000002,282.10000000000002,317.2,345.8,369.2,386.1,397.8,408.2,417.3,426.40000000000003,434.2,442,7.8000000000000007]
[null,null,null,null,null,null,null,null,null,"１月",28,{"$f":"L72+$K74-$K73","v":77},{"$f":"M72+$K75-$K74","v":122},{"$f":"N72+$K76-$K75","v":162},{"$f":"O72+$K77-$K76","v":199},{"$f":"P72+$K78-$K77","v":228},{"$f":"Q72+$K79-$K78","v":252},{"$f":"R72+$K80-$K79","v":274},{"$f":"S72+$K81-$K80","v":291},{"$f":"T72+$K82-$K81","v":303},{"$f":"U72+$K83-$K82","v":311},{"$f":"V72+$K84-$K83","v":318},{"$f":"W72+$K85-$K84","v":325},{"$f":"X72+$K86-$K85","v":332},{"$f":"Y72+$K87-$K86","v":336},{"$f":"Z72+$K$88","v":342},null,null,"１月",{"$f":"K73*$AE$69","v":36.4},100.10000000000001,158.6,210.6,258.7,296.40000000000003,327.60000000000002,356.2,378.3,393.90000000000003,404.3,413.40000000000003,422.5,431.6,436.8,444.6]
[null,null,null,null,null,null,null,null,null,"２月",52,{"$f":"L73+$K75-$K74","v":98},{"$f":"M73+$K76-$K75","v":139},{"$f":"N73+$K77-$K76","v":177},{"$f":"O73+$K78-$K77","v":210},{"$f":"P73+$K79-$K78","v":236},260,281,297,308,{"$f":"U73+$K84-$K83","v":315},{"$f":"V73+$K85-$K84","v":322},{"$f":"W73+$K86-$K85","v":329},{"$f":"X73+$K87-$K86","v":334},{"$f":"Y73+$K$88","v":338},344,null,null,"２月",67.600000000000009,127.4,180.70000000000002,230.1,273,306.8,338,365.3,386.1,400.40000000000003,409.5,418.6,427.7,434.2,439.40000000000003,447.2]
[null,null,null,null,null,null,null,null,null,"３月",73,115,154,188,218,244,267,287,302,312,{"$f":"U74+$K85-$K84","v":319},{"$f":"V74+$K86-$K85","v":326},{"$f":"W74+$K87-$K86","v":331},{"$f":"X74+$K$88","v":336},340,346,null,null,"３月",94.9,149.5,200.20000000000002,244.4,283.40000000000003,317.2,347.1,373.1,392.6,405.6,414.7,423.8,430.3,436.8,442,449.8]
[null,null,null,null,null,null,null,null,null,"４月",90,130,165,196,226,251,273,292,306,316,{"$f":"U75+$K86-$K85","v":323},{"$f":"V75+$K87-$K86","v":328},{"$f":"W75+$K$88","v":333},338,342,348,null,null,"４月",117,169,214.5,254.8,293.8,326.3,354.90000000000003,379.6,397.8,410.8,419.90000000000003,426.40000000000003,432.90000000000003,439.40000000000003,444.6,452.40000000000003]
[null,null,null,null,null,null,null,null,null,"５月",105,141,{"$f":"M76+$K79-$K78","v":173},204,233,257,278,296,310,320,{"$f":"U76+$K87-$K86","v":325},{"$f":"V76+$K$88","v":330},335,340,344,350,null,null,"５月",136.5,183.3,224.9,265.2,302.90000000000003,334.1,361.40000000000003,384.8,403,416,422.5,429,435.5,442,447.2,455]
[null,null,null,null,null,null,null,null,null,"６月",116,149,181,211,239,262,282,300,314,322,{"$f":"U77+$K$88","v":327},332,337,342,346,352,null,null,"６月",150.80000000000001,193.70000000000002,235.3,274.3,310.7,340.6,366.6,390,408.2,418.6,425.1,431.6,438.1,444.6,449.8,457.6]
[null,null,null,null,null,null,null,null,null,"７月",124,157,188,217,244,266,286,304,316,{"$f":"T78+$K$88","v":324},329,334,339,344,348,354,null,null,"７月",161.20000000000002,204.1,244.4,282.10000000000002,317.2,345.8,371.8,395.2,410.8,421.2,427.7,434.2,440.7,447.2,452.40000000000003,460.2]
[null,null,null,null,null,null,null,null,null,"８月",132,164,194,222,248,270,290,306,{"$f":"S79+$K$88","v":318},326,331,336,341,346,350,356,null,null,"８月",171.6,213.20000000000002,252.20000000000002,288.60000000000002,322.40000000000003,351,377,397.8,413.40000000000003,423.8,430.3,436.8,443.3,449.8,455,462.8]
[null,null,null,null,null,null,null,null,null,"９月",139,170,199,226,252,274,292,{"$f":"R80+$K$88","v":308},320,328,333,338,343,348,352,358,null,null,"９月",180.70000000000002,221,258.7,293.8,327.60000000000002,356.2,379.6,400.40000000000003,416,426.40000000000003,432.90000000000003,439.40000000000003,445.90000000000003,452.40000000000003,457.6,465.40000000000003]
[null,null,null,null,null,null,null,null,null,"１０月",145,175,203,230,256,276,{"$f":"Q81+$K$88","v":294},310,322,330,335,340,345,350,354,360,null,null,"１０月",188.5,227.5,263.90000000000003,299,332.8,358.8,382.2,403,418.6,429,435.5,442,448.5,455,460.2,468]
[null,null,null,null,null,null,null,null,null,"１１月",150,179,207,234,258,{"$f":"P82+$K$88","v":278},296,312,324,332,337,342,347,352,356,362,null,null,"１１月",195,232.70000000000002,269.10000000000002,304.2,335.40000000000003,361.40000000000003,384.8,405.6,421.2,431.6,438.1,444.6,451.1,457.6,462.8,470.6]
[null,null,null,null,null,null,null,null,null,"１２月",154,183,211,{"$f":"N83+$K87-$K86","v":236},{"$f":"O83+$K$88","v":260},{"$f":"P83+$K$88","v":280},298,314,326,334,339,344,349,354,358,364,null,null,"１２月",200.20000000000002,237.9,274.3,306.8,338,364,387.40000000000003,408.2,423.8,434.2,440.7,447.2,453.7,460.2,465.40000000000003,473.2]
[null,null,null,null,null,null,null,null,null,"１３月",158,187,213,{"$f":"N84+$K$88","v":238},{"$f":"O84+$K$88","v":262},{"$f":"P84+$K$88","v":282},300,316,328,336,341,346,351,356,360,366,null,null,"１３月",205.4,243.1,276.90000000000003,309.40000000000003,340.6,366.6,390,410.8,426.40000000000003,436.8,443.3,449.8,456.3,462.8,468,475.8]
[null,null,null,null,null,null,null,null,null,"１４月",162,189,{"$f":"M85+$K88","v":215},{"$f":"N85+$K$88","v":240},{"$f":"O85+$K$88","v":264},{"$f":"P85+$K$88","v":284},302,318,330,338,343,348,353,358,362,368,null,null,"１４月",210.6,245.70000000000002,279.5,312,343.2,369.2,392.6,413.40000000000003,429,439.40000000000003,445.90000000000003,452.40000000000003,458.90000000000003,465.40000000000003,470.6,478.40000000000003]
[null,null,null,null,null,null,null,null,null,"１５月",164,{"$f":"L86+$K88","v":191},{"$f":"M86+$K88","v":217},{"$f":"N86+$K$88","v":242},{"$f":"O86+$K$88","v":266},{"$f":"P86+$K$88","v":286},304,320,332,340,345,350,355,360,364,370,null,null,"１５月",213.20000000000002,248.3,282.10000000000002,314.60000000000002,345.8,371.8,395.2,416,431.6,442,448.5,455,461.5,468,473.2,481]
[null,null,null,null,null,null,null,null,null,null,2,null,null,null,null,null,null,null,null,null,null,null,null,null,null,null,null,null,null,{"$f":"K88*$AE$69","v":2.6}]
[null,null,null,null,null,null,null,null,null,"別表Ⅱ"]
[null,null,null,null,null,null,null,null,null,"通院＼入院",null,"１月","２月","３月","４月","５月","６月","７月","８月","９月","１０月","１１月","１２月","１３月","１４月","１５月"]
[null,null,null,null,null,null,null,null,null,null,null,35,66,92,116,135,152,165,176,186,195,204,211,218,223,228,5]
[null,null,null,null,null,null,null,null,null,"１月",19,{"$f":"L91+$K93-$K92","v":52},{"$f":"M91+$K94-$K93","v":83},{"$f":"N91+$K95-$K94","v":106},{"$f":"O91+$K96-$K95","v":128},{"$f":"P91+$K97-$K96","v":145},{"$f":"Q91+$K98-$K97","v":160},{"$f":"R91+$K99-$K98","v":171},{"$f":"S91+$K100-$K99","v":182},{"$f":"T91+$K101-$K100","v":190},{"$f":"U91+$K102-$K101","v":199},{"$f":"V91+$K103-$K102","v":206},{"$f":"W91+$K104-$K103","v":212},{"$f":"X91+$K105-$K104","v":219},{"$f":"Y91+$K$107","v":224},229]
[null,null,null,null,null,null,null,null,null,"２月",36,{"$f":"L92+$K94-$K93","v":69},{"$f":"M92+$K95-$K94","v":97},{"$f":"N92+$K96-$K95","v":118},{"$f":"O92+$K97-$K96","v":138},153,{"$f":"Q92+$K99-$K98","v":166},{"$f":"R92+$K100-$K99","v":177},186,194,{"$f":"U92+$K103-$K102","v":201},{"$f":"V92+$K104-$K103","v":207},{"$f":"W92+$K105-$K104","v":213},{"$f":"X92+$K$107","v":220},225,230]
[null,null,null,null,null,null,null,null,null,"３月",53,83,109,128,146,159,{"$f":"Q93+$K100-$K99","v":172},181,190,196,{"$f":"U93+$K104-$K103","v":202},{"$f":"V93+$K105-$K104","v":208},{"$f":"W93+$K106-$K105","v":214},221,226,231]
[null,null,null,null,null,null,null,null,null,"４月",67,95,119,136,{"$f":"O94+$K99-$K98","v":152},165,176,185,192,197,{"$f":"U94+$K105-$K104","v":203},{"$f":"V94+$K106-$K105","v":209},{"$f":"W94+$K$107","v":215},222,227,232]
[null,null,null,null,null,null,null,null,null,"５月",79,105,127,142,158,169,180,187,193,198,{"$f":"U95+$K106-$K105","v":204},{"$f":"V95+$K$107","v":210},216,223,228,233]
[null,null,null,null,null,null,null,null,null,"６月",89,113,133,148,162,173,182,188,194,199,{"$f":"U96+$K$107","v":205},211,217,224,229,234]
[null,null,null,null,null,null,null,null,null,"７月",97,119,139,152,166,175,183,189,195,{"$f":"T97+$K$107","v":200},206,212,218,225,230,235]
[null,null,null,null,null,null,null,null,null,"８月",103,125,143,156,168,176,184,190,{"$f":"S98+$K$107","v":196},201,207,213,219,226,231,236]
[null,null,null,null,null,null,null,null,null,"９月",109,129,147,158,169,177,185,{"$f":"R99+$K$107","v":191},197,202,208,214,220,227,232,237]
[null,null,null,null,null,null,null,null,null,"１０月",113,133,149,{"$f":"N100+$K104-$K103","v":159},170,178,{"$f":"Q100+$K$107","v":186},192,198,203,209,215,221,228,233,238]
[null,null,null,null,null,null,null,null,null,"１１月",117,135,150,160,171,{"$f":"P101+$K$107","v":179},187,193,199,204,210,216,222,229,234,239]
[null,null,null,null,null,null,null,null,null,"１２月",119,136,151,161,{"$f":"O102+$K$107","v":172},{"$f":"P102+$K$107","v":180},188,194,200,205,211,217,223,230,235,240]
[null,null,null,null,null,null,null,null,null,"１３月",120,137,152,{"$f":"N103+$K$107","v":162},{"$f":"O103+$K$107","v":173},{"$f":"P103+$K$107","v":181},189,195,201,206,212,218,224,231,236,241]
[null,null,null,null,null,null,null,null,null,"１４月",121,138,{"$f":"M104+$K$107","v":153},{"$f":"N104+$K$107","v":163},{"$f":"O104+$K$107","v":174},{"$f":"P104+$K$107","v":182},190,196,202,207,213,219,225,232,237,242]
[null,null,null,null,null,null,null,null,null,"１５月",122,{"$f":"L105+$K107","v":139},{"$f":"M105+$K$107","v":154},{"$f":"N105+$K$107","v":164},{"$f":"O105+$K$107","v":175},{"$f":"P105+$K$107","v":183},191,197,203,208,214,220,226,233,238,243]
[null,null,null,null,null,null,null,null,null,null,1]
[]
[null,null,null,null,null,null,null,null,null,"別表（重症）"]
[null,null,null,null,null,null,null,null,null,"通院＼入院",null,"１月","２月","３月","４月","５月","６月","７月","８月","９月","１０月","１１月","１２月","１３月","１４月","１５月"]
[null,null,null,null,null,null,null,null,null,null,null,64,121,175,223,264,300,319,332,343,354,364,370,374,379,383,2.7]
[null,null,null,null,null,null,null,null,null,"１月",34,{"$f":"L111+$K113-$K112+4","v":95},{"$f":"M111+$K114-$K113+1","v":151},{"$f":"N111+$K115-$K114+7","v":205},{"$f":"O111+$K116-$K115+6","v":251},{"$f":"P111+$K117-$K116+6","v":285},{"$f":"Q111+$K118-$K117+9","v":319},{"$f":"R111+$K119-$K118+9","v":338},{"$f":"S111+$K120-$K119+9","v":351},{"$f":"T111+$K121-$K120+11","v":364},{"$f":"U111+$K121-$K120+9","v":373},{"$f":"V111+$K121-$K120+9","v":383},{"$f":"W111+$K121-$K120+8","v":388},{"$f":"X111+$K121-$K120+9","v":393},{"$f":"Y111+$K121-$K120+9","v":398},{"$f":"Z111+$K121-$K120+10","v":403}]
[null,null,null,null,null,null,null,null,null,"２月",61,{"$f":"L112+$K114-$K113","v":124},{"$f":"M112+$K115-$K114+2","v":176},{"$f":"N112+$K116-$K115-1","v":226},{"$f":"O112+$K117-$K116-5","v":261},{"$f":"P112+$K118-$K117","v":295},{"$f":"Q112+$K119-$K118-5","v":324},{"$f":"R112+$K120-$K119-5","v":343},{"$f":"S112+$K121-$K120-3","v":358},{"$f":"T112+$K122-$K121-7","v":367},{"$f":"U112+$K122-$K121-7","v":376},{"$f":"V112+$K122-$K121-8","v":385},{"$f":"W112+$K122-$K121-8","v":390},{"$f":"X112+$K122-$K121-7","v":396},{"$f":"Y112+$K122-$K121-8","v":400},{"$f":"Z112+$K122-$K121-8","v":405}]
[null,null,null,null,null,null,null,null,null,"３月",90,{"$f":"L113+$K115-$K114+2","v":149},{"$f":"M113+$K116-$K115+1","v":199},{"$f":"N113+$K117-$K116","v":241},{"$f":"O113+$K118-$K117","v":271},305,{"$f":"Q113+$K120-$K119-5","v":329},{"$f":"R113+$K121-$K120-5","v":348},{"$f":"S113+$K122-$K121-5","v":363},{"$f":"T113+$K123-$K122-2","v":373},{"$f":"U113+$K123-$K122-4","v":380},{"$f":"V113+$K123-$K122-4","v":389},{"$f":"W113+$K123-$K122-5","v":393},{"$f":"X113+$K123-$K122-5","v":399},{"$f":"Y113+$K123-$K122-4","v":404},{"$f":"Z113+$K123-$K122-5","v":408}]
[null,null,null,null,null,null,null,null,null,"４月",113,{"$f":"L114+$K116-$K115-2","v":169},{"$f":"M114+$K117-$K116-8","v":206},{"$f":"N114+$K118-$K117-2","v":249},{"$f":"O114+$K119-$K118-1","v":280},{"$f":"P114+$K120-$K119-4","v":311},{"$f":"Q114+$K121-$K120-5","v":334},{"$f":"R114+$K122-$K121-5","v":353},{"$f":"S114+$K123-$K122-3","v":368},{"$f":"T114+$K124-$K123-2","v":376},{"$f":"U114+$K124-$K123-2","v":383},{"$f":"V114+$K124-$K123-3","v":391},{"$f":"W114+$K124-$K123-2","v":396},{"$f":"X114+$K124-$K123-1","v":403},{"$f":"Y114+$K124-$K123-3","v":406},{"$f":"Z114+$K124-$K123-2","v":411}]
[null,null,null,null,null,null,null,null,null,"５月",135,{"$f":"L115+$K117-$K116-3","v":181},{"$f":"M115+$K118-$K117+3","v":219},259,{"$f":"O115+$K120-$K119-2","v":288},{"$f":"P115+$K121-$K120-3","v":318},{"$f":"Q115+$K122-$K121-6","v":338},{"$f":"R115+$K123-$K122-3","v":358},{"$f":"S115+$K124-$K123","v":373},{"$f":"T115+$K125-$K124-2","v":380},{"$f":"U115+$K125-$K124-4","v":385},{"$f":"V115+$K125-$K124-2","v":395},{"$f":"W115+$K125-$K124-3","v":399},{"$f":"X115+$K125-$K124-4","v":405},{"$f":"Y115+$K125-$K124-2","v":410},{"$f":"Z115+$K125-$K124-3","v":414}]
[null,null,null,null,null,null,null,null,null,"６月",150,{"$f":"L116+$K118-$K117","v":191},{"$f":"M116+$K119-$K118","v":229},{"$f":"N116+$K120-$K119-3","v":266},{"$f":"O116+$K121-$K120-3","v":295},{"$f":"P116+$K122-$K121-4","v":324},{"$f":"Q116+$K123-$K122-2","v":344},{"$f":"R116+$K124-$K123","v":363},{"$f":"S116+$K125-$K124-4","v":375},{"$f":"T116+$K126-$K125-3","v":383},{"$f":"U116+$K126-$K125-2","v":389},{"$f":"V116+$K126-$K125-3","v":398},{"$f":"W116+$K126-$K125-2","v":403},{"$f":"X116+$K126-$K125-3","v":408},{"$f":"Y116+$K126-$K125-3","v":413},{"$f":"Z116+$K126-$K125-2","v":418}]
[null,null,null,null,null,null,null,null,null,"７月",160,{"$f":"L117+$K119-$K118","v":201},{"$f":"M117+$K120-$K119+2","v":241},{"$f":"N117+$K121-$K120-5","v":271},{"$f":"O117+$K122-$K121-2","v":303},{"$f":"P117+$K123-$K122-3","v":329},{"$f":"Q117+$K124-$K123+1","v":350},{"$f":"R117+$K125-$K124-1","v":368},{"$f":"S117+$K126-$K125-3","v":378},{"$f":"T117+$K$107+1","v":385},{"$f":"U117+$K$107+1","v":391},{"$f":"V117+$K$107+1","v":400},{"$f":"W117+$K$107+1","v":405},{"$f":"X117+$K$107+2","v":411},{"$f":"Y117+$K$107+1","v":415},{"$f":"Z117+$K$107+1","v":420}]
[null,null,null,null,null,null,null,null,null,"８月",170,{"$f":"L118+$K120-$K119","v":211},{"$f":"M118+$K121-$K120-3","v":248},{"$f":"N118+$K122-$K121-1","v":280},{"$f":"O118+$K123-$K122-1","v":310},334,{"$f":"Q118+$K125-$K124-1","v":355},{"$f":"R118+$K126-$K125-1","v":373},{"$f":"S118+$K$107+2","v":381},{"$f":"T118+$K$107+3","v":389},{"$f":"U118+$K$107+3","v":395},{"$f":"V118+$K$107+3","v":404},{"$f":"W118+$K$107+2","v":408},{"$f":"X118+$K$107+2","v":414},{"$f":"Y118+$K$107+3","v":419},423]
[null,null,null,null,null,null,null,null,null,"９月",180,{"$f":"L119+$K121-$K120-1","v":220},{"$f":"M119+$K122-$K121-3","v":255},{"$f":"N119+$K123-$K122+2","v":290},{"$f":"O119+$K124-$K123+3","v":318},{"$f":"P119+$K125-$K124-1","v":339},{"$f":"Q119+$K126-$K125-1","v":360},{"$f":"R119+$K$107+2","v":376},{"$f":"S119+$K$107+2","v":384},{"$f":"T119+$K$107+1","v":391},{"$f":"U119+$K$107+2","v":398},{"$f":"V119+$K$107+1","v":406},{"$f":"W119+$K$107+2","v":411},{"$f":"X119+$K$107+3","v":418},{"$f":"Y119+$K$107+1","v":421},426]
[null,null,null,null,null,null,null,null,null,"１０月",190,{"$f":"L120+$K122-$K121-2","v":228},{"$f":"M120+$K123-$K122","v":263},295,{"$f":"O120+$K125-$K124+1","v":325},{"$f":"P120+$K126-$K125-2","v":343},{"$f":"Q120+$K$107+4","v":365},{"$f":"R120+$K$107+3","v":380},{"$f":"S120+$K$107+3","v":388},{"$f":"T120+$K$107+3","v":395},{"$f":"U120+$K$107+1","v":400},{"$f":"V120+$K$107+3","v":410},{"$f":"W120+$K$107+2","v":414},{"$f":"X120+$K$107+1","v":420},{"$f":"Y120+$K$107+3","v":425},429]
[null,null,null,null,null,null,null,null,null,"１１月",200,{"$f":"L121+$K123-$K122-1","v":235},{"$f":"M121+$K124-$K123+2","v":270},301,{"$f":"O121+$K126-$K125-1","v":330},{"$f":"P121+$K$107+2","v":346},{"$f":"Q121+$K$107+2","v":368},{"$f":"R121+$K$107+2","v":383},{"$f":"S121+$K$107+1","v":390},{"$f":"T121+$K$107+2","v":398},{"$f":"U121+$K$107+3","v":404},{"$f":"V121+$K$107+2","v":413},{"$f":"W121+$K$107+3","v":418},{"$f":"X121+$K$107+2","v":423},{"$f":"Y121+$K$107+2","v":428},{"$f":"Z121+$K$107+3","v":433}]
[null,null,null,null,null,null,null,null,null,"１２月",208,{"$f":"L122+$K124-$K123+3","v":243},{"$f":"M122+$K125-$K124-1","v":275},{"$f":"N122+$K126-$K125+1","v":308},{"$f":"O122+$K$107+4","v":335},{"$f":"P122+$K$107+4","v":351},{"$f":"Q122+$K$107+1","v":370},{"$f":"R122+$K$107+1","v":385},{"$f":"S122+$K$107+2","v":393},{"$f":"T122+$K$107+1","v":400},{"$f":"U122+$K$107+1","v":406},{"$f":"V122+$K$107+1","v":415},{"$f":"W122+$K$107+1","v":420},{"$f":"X122+$K$107+2","v":426},{"$f":"Y122+$K$107+1","v":430},{"$f":"Z122+$K$107+1","v":435}]
[null,null,null,null,null,null,null,null,null,"１３月",213,{"$f":"L123+$K125-$K124","v":249},{"$f":"M123+$K126-$K125-1","v":280},{"$f":"N123+$K$107+4","v":313},{"$f":"O123+$K$107+3","v":339},{"$f":"P123+$K$107+3","v":355},{"$f":"Q123+$K$107+3","v":374},{"$f":"R123+$K$107+3","v":389},{"$f":"S123+$K$107+2","v":396},{"$f":"T123+$K$107+3","v":404},{"$f":"U123+$K$107+3","v":410},{"$f":"V123+$K$107+3","v":419},{"$f":"W123+$K$107+2","v":423},{"$f":"X123+$K$107+2","v":429},{"$f":"Y123+$K$107+3","v":434},438]
[null,null,null,null,null,null,null,null,null,"１４月",219,{"$f":"L124+$K126-$K125-1","v":254},{"$f":"M124+$K$107+4","v":285},{"$f":"N124+$K$107+2","v":316},{"$f":"O124+$K$107+4","v":344},{"$f":"P124+$K$107+3","v":359},{"$f":"Q124+$K$107+1","v":376},{"$f":"R124+$K$107+1","v":391},{"$f":"S124+$K$107+2","v":399},{"$f":"T124+$K$107+1","v":406},{"$f":"U124+$K$107+2","v":413},{"$f":"V124+$K$107+1","v":421},{"$f":"W124+$K$107+2","v":426},{"$f":"X124+$K$107+3","v":433},{"$f":"Y124+$K$107+1","v":436},441]
[null,null,null,null,null,null,null,null,null,"１５月",225,{"$f":"L125+$K127+0.9","v":258},{"$f":"M125+$K$107+4","v":290},{"$f":"N125+$K$107+4","v":321},{"$f":"O125+$K$107+1","v":346},{"$f":"P125+$K$107+1","v":361},{"$f":"Q125+$K$107+3","v":380},{"$f":"R125+$K$107+3","v":395},{"$f":"S125+$K$107+3","v":403},{"$f":"T125+$K$107+3","v":410},{"$f":"U125+$K$107+1","v":415},{"$f":"V125+$K$107+3","v":425},{"$f":"W125+$K$107+2","v":429},{"$f":"X125+$K$107+1","v":435},{"$f":"Y125+$K$107+3","v":440},444]
[null,null,null,null,null,null,null,null,null,null,3.1,null,null,null,null,null,null,null,null,null,null,null,null,null,null,null,null,null,null,null,{"$f":"F25","v":0.66},"<1.2","他覚所見のない神経症状は2/3"]
[null,null,null,null,null,null,null,null,null,"別表（通常）",null,null,null,null,null,null,null,null,null,null,null,null,null,null,null,null,null,null,"別表（通常）の増減"]
[null,null,null,null,null,null,null,null,null,"通院＼入院",null,"１月","２月","３月","４月","５月","６月","７月","８月","９月","１０月","１１月","１２月","１３月","１４月","１５月",null,null,"通院＼入院",null,"１月","２月","３月","４月","５月","６月","７月","８月","９月","１０月","１１月","１２月","１３月","１４月","１５月"]
[null,null,null,null,null,null,null,null,null,null,null,53,101,146,186,220,250,266,277,286,295,303,308,312,316,319,2.2999999999999998,null,null,null,{"$f":"L130*$AE$127","v":34.980000000000004},{"$f":"M130*$AE$127","v":66.66},96.36,122.76,145.20000000000002,165,175.56,182.82000000000002,188.76000000000002,194.70000000000002,199.98000000000002,203.28,205.92000000000002,208.56,210.54000000000002,1.518]
[null,null,null,null,null,null,null,null,null,"１月",27,{"$f":"L130+$K132-$K131+1","v":76},{"$f":"M130+$K134-$K133+2","v":121},{"$f":"N130+$K134-$K133","v":164},{"$f":"O130+$K135-$K134-3","v":201},{"$f":"P130+$K136-$K135-4","v":228},{"$f":"Q130+$K137-$K136-3","v":255},{"$f":"R130+$K138-$K137-4","v":270},{"$f":"S130+$K139-$K138-3","v":282},{"$f":"T130+$K140-$K139-3","v":291},{"$f":"U130+$K141-$K140-5","v":298},{"$f":"V130+$K142-$K141-3","v":306},{"$f":"W130+$K143-$K142","v":312},{"$f":"X130+$K144-$K143","v":317},{"$f":"Y130+$K$107+1","v":318},{"$f":"Z130+$K$107+2","v":322},null,null,"１月",{"$f":"K131*$AE$127","v":17.82},{"$f":"L131*$AE$127","v":50.160000000000004},79.86,108.24000000000001,132.66,150.48000000000002,168.3,178.20000000000002,186.12,192.06,196.68,201.96,205.92000000000002,209.22,209.88000000000002,212.52]
[null,null,null,null,null,null,null,null,null,"２月",49,{"$f":"L131+$K133-$K132","v":99},{"$f":"M131+$K135-$K134+2","v":141},{"$f":"N131+$K135-$K134-1","v":181},{"$f":"O131+$K136-$K135-4","v":209},{"$f":"P131+$K137-$K136","v":236},{"$f":"Q131+$K138-$K137-4","v":259},{"$f":"R131+$K139-$K138-4","v":274},{"$f":"S131+$K140-$K139-4","v":286},{"$f":"T131+$K141-$K140-5","v":294},{"$f":"U131+$K142-$K141-3","v":301},{"$f":"V131+$K143-$K142-2","v":308},{"$f":"W131+$K144-$K143","v":317},{"$f":"X131+$K$107","v":318},{"$f":"Y131+$K$107+1","v":320},{"$f":"Z131+$K$107+1","v":324},null,null,"２月",32.340000000000003,65.34,93.06,119.46000000000001,137.94,155.76000000000002,170.94,180.84,188.76000000000002,194.04000000000002,198.66,203.28,209.22,209.88000000000002,211.20000000000002,213.84]
[null,null,null,null,null,null,null,null,null,"３月",72,{"$f":"L132+$K134-$K133+2","v":119},{"$f":"M132+$K136-$K135+6","v":159},{"$f":"N132+$K136-$K135","v":193},{"$f":"O132+$K137-$K136","v":217},{"$f":"P132+$K138-$K137","v":244},{"$f":"Q132+$K139-$K138-4","v":263},{"$f":"R132+$K140-$K139-4","v":278},{"$f":"S132+$K141-$K140-4","v":290},{"$f":"T132+$K142-$K141-2","v":298},{"$f":"U132+$K143-$K142-1","v":304},{"$f":"V132+$K144-$K143-2","v":311},{"$f":"W132+$K145-$K144","v":322},319,{"$f":"Y132+$K$107+2","v":323},{"$f":"Z132+$K$107+1","v":326},null,null,"３月",47.52,78.540000000000006,104.94000000000001,127.38000000000001,143.22,161.04000000000002,173.58,183.48000000000002,191.4,196.68,200.64000000000001,205.26000000000002,212.52,210.54000000000002,213.18,215.16]
[null,null,null,null,null,null,null,null,null,"４月",90,{"$f":"L133+$K135-$K134-3","v":134},{"$f":"M133+$K137-$K136-2","v":165},{"$f":"N133+$K137-$K136-2","v":199},{"$f":"O133+$K138-$K137-1","v":224},{"$f":"P133+$K139-$K138-3","v":249},{"$f":"Q133+$K140-$K139-4","v":267},{"$f":"R133+$K141-$K140-4","v":282},{"$f":"S133+$K142-$K141-2","v":294},{"$f":"T133+$K143-$K142-1","v":301},{"$f":"U133+$K144-$K143-3","v":306},{"$f":"V133+$K145-$K144-3","v":313},{"$f":"W133+$K$107","v":323},320,{"$f":"Y133+$K$107+1","v":325},{"$f":"Z133+$K$107+2","v":329},null,null,"４月",59.400000000000006,88.44,108.9,131.34,147.84,164.34,176.22,186.12,194.04000000000002,198.66,201.96,206.58,213.18,211.20000000000002,214.5,217.14000000000001]
[null,null,null,null,null,null,null,null,null,"５月",108,{"$f":"L134+$K136-$K135-1","v":145},{"$f":"M134+$K138-$K137+2","v":175},207,{"$f":"O134+$K139-$K138-2","v":230},{"$f":"P134+$K140-$K139-3","v":254},{"$f":"Q134+$K141-$K140-5","v":270},{"$f":"R134+$K142-$K141-2","v":286},{"$f":"S134+$K143-$K142","v":298},{"$f":"T134+$K144-$K143-2","v":304},{"$f":"U134+$K145-$K144-3","v":308},{"$f":"V134+$K$107+2","v":316},324,321,{"$f":"Y134+$K$107+2","v":328},{"$f":"Z134+$K$107+1","v":331},null,null,"５月",71.28,95.7,115.5,136.62,151.80000000000001,167.64000000000001,178.20000000000002,188.76000000000002,196.68,200.64000000000001,203.28,208.56,213.84,211.86,216.48000000000002,218.46]
[null,null,null,null,null,null,null,null,null,"６月",120,{"$f":"L135+$K137-$K136","v":153},{"$f":"M135+$K139-$K138","v":183},{"$f":"N135+$K139-$K138-2","v":213},{"$f":"O135+$K140-$K139-2","v":236},{"$f":"P135+$K141-$K140-3","v":259},{"$f":"Q135+$K142-$K141-1","v":275},{"$f":"R135+$K143-$K142","v":290},{"$f":"S135+$K144-$K143-3","v":300},{"$f":"T135+$K145-$K144-3","v":306},{"$f":"U135+$K$107+2","v":311},{"$f":"V135+$K$107+1","v":318},325,322,{"$f":"Y135+$K$107+1","v":330},{"$f":"Z135+$K$107+2","v":334},null,null,"６月",79.2,100.98,120.78,140.58000000000001,155.76000000000002,170.94,181.5,191.4,198,201.96,205.26000000000002,209.88000000000002,214.5,212.52,217.8,220.44]
[null,null,null,null,null,null,null,null,null,"７月",128,161,{"$f":"M136+$K140-$K139+2","v":193},{"$f":"N136+$K140-$K139-4","v":217},{"$f":"O136+$K141-$K140-2","v":242},{"$f":"P136+$K142-$K141-2","v":263},{"$f":"Q136+$K143-$K142+1","v":280},{"$f":"R136+$K144-$K143-1","v":294},{"$f":"S136+$K145-$K144-3","v":302},{"$f":"T136+$K$107+1","v":308},{"$f":"U136+$K$107+1","v":313},{"$f":"V136+$K$107+1","v":320},326,323,{"$f":"Y136+$K$107+1","v":332},{"$f":"Z136+$K$107+1","v":336},null,null,"７月",84.48,106.26,127.38000000000001,143.22,159.72,173.58,184.8,194.04000000000002,199.32000000000002,203.28,206.58,211.20000000000002,215.16,213.18,219.12,221.76000000000002]
[null,null,null,null,null,null,null,null,null,"８月",136,169,{"$f":"M137+$K141-$K140-3","v":198},{"$f":"N137+$K141-$K140-1","v":224},{"$f":"O137+$K142-$K141","v":248},{"$f":"P137+$K143-$K142","v":267},{"$f":"Q137+$K144-$K143-1","v":284},{"$f":"R137+$K145-$K144-1","v":298},{"$f":"S137+$K145-$K144-2","v":305},{"$f":"T137+$K$107+2","v":311},{"$f":"U137+$K$107+2","v":316},{"$f":"V137+$K$107+2","v":323},327,324,{"$f":"Y137+$K$107+2","v":335},{"$f":"Z137+$K$107+1","v":338},null,null,"８月",89.76,111.54,130.68,147.84,163.68,176.22,187.44,196.68,201.3,205.26000000000002,208.56,213.18,215.82000000000002,213.84,221.10000000000002,223.08]
[null,null,null,null,null,null,null,null,null,"９月",144,{"$f":"L138+$K140-$K139-1","v":176},{"$f":"M138+$K142-$K141","v":204},{"$f":"N138+$K142-$K141+2","v":232},{"$f":"O138+$K143-$K142+2","v":254},{"$f":"P138+$K144-$K143-1","v":271},{"$f":"Q138+$K145-$K144-1","v":288},{"$f":"R138+$K$107+2","v":301},{"$f":"S138+$K$107+1","v":307},{"$f":"T138+$K$107+1","v":313},{"$f":"U138+$K$107+1","v":318},{"$f":"V138+$K$107+1","v":325},328,325,{"$f":"Y138+$K$107+1","v":337},{"$f":"Z138+$K$107+2","v":341},null,null,"９月",95.04,116.16000000000001,134.64000000000001,153.12,167.64000000000001,178.86,190.08,198.66,202.62,206.58,209.88000000000002,214.5,216.48000000000002,214.5,222.42000000000002,225.06]
[null,null,null,null,null,null,null,null,null,"１０月",152,{"$f":"L139+$K141-$K140-2","v":182},{"$f":"M139+$K143-$K142+2","v":210},236,{"$f":"O139+$K144-$K143+1","v":260},{"$f":"P139+$K145-$K144-2","v":274},{"$f":"Q139+$K$107+3","v":292},{"$f":"R139+$K$107+2","v":304},{"$f":"S139+$K$107+2","v":310},{"$f":"T139+$K$107+2","v":316},{"$f":"U139+$K$107+1","v":320},{"$f":"V139+$K$107+2","v":328},329,326,{"$f":"Y139+$K$107+2","v":340},{"$f":"Z139+$K$107+1","v":343},null,null,"１０月",100.32000000000001,120.12,138.6,155.76000000000002,171.6,180.84,192.72,200.64000000000001,204.60000000000002,208.56,211.20000000000002,216.48000000000002,217.14000000000001,215.16,224.4,226.38000000000002]
[null,null,null,null,null,null,null,null,null,"１１月",160,188,{"$f":"M140+$K144-$K143+1","v":216},241,{"$f":"O140+$K145-$K144-1","v":264},{"$f":"P140+$K145-$K144-2","v":277},{"$f":"Q140+$K$107+1","v":294},{"$f":"R140+$K$107+1","v":306},{"$f":"S140+$K$107+1","v":312},{"$f":"T140+$K$107+1","v":318},{"$f":"U140+$K$107+2","v":323},{"$f":"V140+$K$107+1","v":330},330,327,{"$f":"Y140+$K$107+1","v":342},{"$f":"Z140+$K$107+2","v":346},null,null,"１１月",105.60000000000001,124.08000000000001,142.56,159.06,174.24,182.82000000000002,194.04000000000002,201.96,205.92000000000002,209.88000000000002,213.18,217.8,217.8,215.82000000000002,225.72,228.36]
[null,null,null,null,null,null,null,null,null,"１２月",166,{"$f":"L141+$K143-$K142+2","v":194},{"$f":"M141+$K145-$K144-1","v":220},246,{"$f":"O141+$K145-$K144-1","v":268},{"$f":"P141+$K$107+3","v":281},{"$f":"Q141+$K$107+1","v":296},{"$f":"R141+$K$107+1","v":308},{"$f":"S141+$K$107+1","v":314},{"$f":"T141+$K$107+2","v":321},{"$f":"U141+$K$107+1","v":325},{"$f":"V141+$K$107+1","v":332},331,328,{"$f":"Y141+$K$107+1","v":344},{"$f":"Z141+$K$107+1","v":348},null,null,"１２月",109.56,128.04,145.20000000000002,162.36000000000001,176.88,185.46,195.36,203.28,207.24,211.86,214.5,219.12,218.46,216.48000000000002,227.04000000000002,229.68]
[null,null,null,null,null,null,null,null,null,"１３月",170,{"$f":"L142+$K144-$K143","v":199},{"$f":"M142+$K146+1.5","v":224},{"$f":"N142+$K146+1.5","v":250},{"$f":"O142+$K146+0.5","v":271},{"$f":"P142+$K$107+2","v":284},{"$f":"Q142+$K$107+2","v":299},{"$f":"R142+$K$107+2","v":311},{"$f":"S142+$K$107+2","v":317},{"$f":"T142+$K$107+1","v":323},{"$f":"U142+$K$107+2","v":328},{"$f":"V142+$K$107+2","v":335},332,329,{"$f":"Y142+$K$107+2","v":347},{"$f":"Z142+$K$107+1","v":350},null,null,"１３月",112.2,131.34,147.84,165,178.86,187.44,197.34,205.26000000000002,209.22,213.18,216.48000000000002,221.10000000000002,219.12,217.14000000000001,229.02,231]
[null,null,null,null,null,null,null,null,null,"１４月",175,{"$f":"L143+$K145-$K144-1","v":203},{"$f":"M143+$K147+4","v":228},{"$f":"N143+$K147+3","v":253},{"$f":"O143+$K147+4","v":275},{"$f":"P143+$K$107+2","v":287},{"$f":"Q143+$K$107+1","v":301},{"$f":"R143+$K$107+1","v":313},{"$f":"S143+$K$107+1","v":319},{"$f":"T143+$K$107+1","v":325},{"$f":"U143+$K$107+1","v":330},{"$f":"V143+$K$107+1","v":337},333,330,{"$f":"Y143+$K$107+1","v":349},{"$f":"Z143+$K$107+2","v":353},null,null,"１４月",115.5,133.98000000000002,150.48000000000002,166.98000000000002,181.5,189.42000000000002,198.66,206.58,210.54000000000002,214.5,217.8,222.42000000000002,219.78,217.8,230.34,232.98000000000002]
[null,null,null,null,null,null,null,null,null,"１５月",180,206,{"$f":"M144+$K146+1.5","v":232},{"$f":"N144+$K148+4","v":257},{"$f":"O144+$K149-$K148+2","v":277},{"$f":"P144+$K$107+1","v":289},{"$f":"Q144+$K$107+2","v":304},{"$f":"R144+$K$107+2","v":316},{"$f":"S144+$K$107+2","v":322},{"$f":"T144+$K$107+2","v":328},{"$f":"U144+$K$107+1","v":332},{"$f":"V144+$K$107+2","v":340},334,331,{"$f":"Y144+$K$107+2","v":352},{"$f":"Z144+$K$107+2","v":356},null,null,"１５月",118.80000000000001,135.96,153.12,169.62,182.82000000000002,190.74,200.64000000000001,208.56,212.52,216.48000000000002,219.12,224.4,220.44,218.46,232.32000000000002,234.96]
[null,null,null,null,null,null,null,null,null,null,2.5,null,null,null,null,null,null,null,null,null,null,null,null,null,null,null,null,null,null,{"$f":"K146*$AE$127","v":1.6500000000000001}]
[]
[null,null,null,null,null,null,null,null,null,null,null,null,null,null,null,null,null,null,null,null,null,null,null,null,null,null,null,null,null,null,{"$f":"F29","v":1.3},"<1.3","増分上限　３割"]
[null,null,null,null,null,null,null,null,null,"別表",null,null,null,null,null,null,null,null,null,null,null,null,null,null,null,null,null,null,"別表の増減"]
[null,null,null,null,null,null,null,null,null,"通院＼入院",null,"１月","２月","３月","４月","５月","６月","７月","８月","９月","１０月","１１月","１２月","１３月","１４月","１５月",null,null,"通院＼入院",null,"１月","２月","３月","４月","５月","６月","７月","８月","９月","１０月","１１月","１２月","１３月","１４月","１５月"]
[null,null,null,null,null,null,null,null,null,null,null,50,94,136,168,197,223,245,262,278,290,302,313,320,325,329,4,null,null,null,{"$f":"L151*$AE$148","v":65},122.2,176.8,218.4,256.10000000000002,289.90000000000003,318.5,340.6,361.40000000000003,377,392.6,406.90000000000003,416,422.5,427.7,5.2]
[null,null,null,null,null,null,null,null,null,"１月",25,{"$f":"L151+$K153-$K152","v":72},{"$f":"M151+$K154-$K153","v":114},{"$f":"N151+$K155-$K154","v":153},{"$f":"O151+$K156-$K155","v":182},{"$f":"P151+$K157-$K156","v":209},{"$f":"Q151+$K158-$K157","v":233},{"$f":"R151+$K159-$K158","v":254},{"$f":"S151+$K160-$K159","v":270},{"$f":"T151+$K161-$K160","v":283},{"$f":"U151+$K162-$K161","v":295},{"$f":"V151+$K163-$K162","v":307},{"$f":"W151+$K164-$K163","v":317},{"$f":"X151+$K165-$K164","v":323},{"$f":"Y151+$K166-$K165","v":327},331,null,null,"１月",{"$f":"K152*$AE$148","v":32.5},{"$f":"AE151+$K153-$K152","v":87},{"$f":"AF151+$K154-$K153","v":142.19999999999999},{"$f":"AG151+$K155-$K154","v":193.8},{"$f":"AH151+$K156-$K155","v":232.39999999999998},{"$f":"AI151+$K157-$K156","v":268.10000000000002},{"$f":"AJ151+$K158-$K157","v":299.90000000000003},{"$f":"AK151+$K159-$K158","v":327.5},{"$f":"AL151+$K160-$K159","v":348.6},{"$f":"AM151+$K161-$K160","v":366.40000000000003},{"$f":"AN151+$K162-$K161","v":382},{"$f":"AO151+$K163-$K162","v":397.6},{"$f":"AP151+$K164-$K163","v":410.90000000000009},{"$f":"AQ151+$K165-$K164","v":419},{"$f":"AR151+$K166-$K165","v":424.5},331]
[null,null,null,null,null,null,null,null,null,"２月",47,92,131,167,194,219,242,262,275,288,{"$f":"U152+$K163-$K162","v":300},{"$f":"V152+$K164-$K163","v":311},{"$f":"W152+$K165-$K164","v":320},{"$f":"X152+$K166-$K165","v":325},{"$f":"Y152+$K$167","v":329},333,null,null,"２月",61.1,107,159.19999999999999,207.8,244.39999999999998,278.10000000000002,308.90000000000003,335.5,353.6,371.40000000000009,{"$f":"AN152+$K163-$K162","v":387},{"$f":"AO152+$K164-$K163","v":401.6},{"$f":"AP152+$K165-$K164","v":413.90000000000009},{"$f":"AQ152+$K166-$K165","v":421},{"$f":"AR152+$K$167","v":426.5},333]
[null,null,null,null,null,null,null,null,null,"３月",67,109,145,179,204,228,250,267,280,293,{"$f":"U153+$K164-$K163","v":304},{"$f":"V153+$K165-$K164","v":314},{"$f":"W153+$K166-$K165","v":322},{"$f":"X153+$K$167","v":327},331,335,null,null,"３月",87.100000000000009,124,173.2,219.8,254.39999999999998,287.10000000000002,316.90000000000003,340.5,358.6,376.40000000000009,{"$f":"AN153+$K164-$K163","v":391},{"$f":"AO153+$K165-$K164","v":404.6},{"$f":"AP153+$K166-$K165","v":415.90000000000009},{"$f":"AQ153+$K$167","v":423},428.5,335]
[null,null,null,null,null,null,null,null,null,"４月",84,123,157,189,213,236,255,272,285,297,{"$f":"U154+$K165-$K164","v":307},{"$f":"V154+$K166-$K165","v":316},{"$f":"W154+$K$167","v":324},329,333,337,null,null,"４月",109.2,138,185.2,229.8,263.39999999999998,295.10000000000002,321.90000000000003,345.5,363.6,380.40000000000009,{"$f":"AN154+$K165-$K164","v":394},{"$f":"AO154+$K166-$K165","v":406.6},{"$f":"AP154+$K$167","v":417.90000000000009},425,430.5,337]
[null,null,null,null,null,null,null,null,null,"５月",98,135,167,198,221,241,260,277,289,300,{"$f":"U155+$K166-$K165","v":309},{"$f":"V155+$K$167","v":318},326,331,335,339,null,null,"５月",127.4,150,195.2,238.8,271.39999999999998,300.10000000000002,326.90000000000003,350.5,367.6,383.40000000000009,{"$f":"AN155+$K166-$K165","v":396},{"$f":"AO155+$K$167","v":408.6},419.90000000000009,427,432.5,339]
[null,null,null,null,null,null,null,null,null,"６月",110,145,176,206,226,246,265,281,292,302,{"$f":"U156+$K$167","v":311},320,328,333,337,341,null,null,"６月",143,160,204.2,246.8,276.39999999999998,305.10000000000002,331.90000000000003,354.5,370.6,385.40000000000009,{"$f":"AN156+$K$167","v":398},410.6,421.90000000000009,429,434.5,341]
[null,null,null,null,null,null,null,null,null,"７月",120,154,184,211,231,251,269,284,294,{"$f":"T157+$K$167","v":304},313,322,330,335,339,343,null,null,"７月",156,169,212.2,251.8,281.39999999999998,310.10000000000002,335.90000000000003,357.5,372.6,{"$f":"AM157+$K$167","v":387.40000000000009},400,412.6,423.90000000000009,431,436.5,343]
[null,null,null,null,null,null,null,null,null,"８月",129,162,189,216,236,255,272,286,{"$f":"S158+$K$167","v":296},306,315,324,332,337,341,345,null,null,"８月",167.70000000000002,177,217.2,256.8,286.39999999999998,314.10000000000002,338.90000000000003,359.5,{"$f":"AL158+$K$167","v":374.6},389.40000000000009,402,414.6,425.90000000000009,433,438.5,345]
[null,null,null,null,null,null,null,null,null,"９月",137,167,194,221,240,258,274,{"$f":"R159+$K$167","v":288},298,308,317,326,334,339,343,347,null,null,"９月",178.1,182,222.2,261.8,290.39999999999998,317.10000000000002,340.90000000000003,{"$f":"AK159+$K$167","v":361.5},376.6,391.40000000000009,404,416.6,427.90000000000009,435,440.5,347]
[null,null,null,null,null,null,null,null,null,"１０月",142,172,199,225,243,260,{"$f":"Q160+$K$167","v":276},290,300,310,319,328,336,341,345,349,null,null,"１０月",184.6,187,227.2,265.8,293.39999999999998,319.10000000000002,{"$f":"AJ160+$K$167","v":342.90000000000003},363.5,378.6,393.40000000000009,406,418.6,429.90000000000009,437,442.5,349]
[null,null,null,null,null,null,null,null,null,"１１月",147,177,203,228,245,{"$f":"P161+$K$167","v":262},278,292,302,312,321,330,338,343,347,351,null,null,"１１月",191.1,192,231.2,268.8,295.39999999999998,{"$f":"AI161+$K$167","v":321.10000000000002},344.90000000000003,365.5,380.6,395.40000000000009,408,420.6,431.90000000000009,439,444.5,351]
[null,null,null,null,null,null,null,null,null,"１２月",152,181,206,230,{"$f":"O162+$K$167","v":247},{"$f":"P162+$K$167","v":264},280,294,304,314,323,332,340,345,349,353,null,null,"１２月",197.6,196,234.2,270.8,{"$f":"AH162+$K$167","v":297.39999999999998},{"$f":"AI162+$K$167","v":323.10000000000002},346.90000000000003,367.5,382.6,397.40000000000009,410,422.6,433.90000000000009,441,446.5,353]
[null,null,null,null,null,null,null,null,null,"１３月",156,184,208,{"$f":"N163+$K167","v":232},{"$f":"O163+$K$167","v":249},{"$f":"P163+$K$167","v":266},282,296,306,316,325,334,342,347,351,355,null,null,"１３月",202.8,199,236.2,{"$f":"AG163+$K167","v":272.8},{"$f":"AH163+$K$167","v":299.39999999999998},{"$f":"AI163+$K$167","v":325.10000000000002},348.90000000000003,369.5,384.6,399.40000000000009,412,424.6,435.90000000000009,443,448.5,355]
[null,null,null,null,null,null,null,null,null,"１４月",159,186,{"$f":"M164+$K167","v":210},{"$f":"N164+$K167","v":234},{"$f":"O164+$K$167","v":251},{"$f":"P164+$K$167","v":268},284,298,308,318,327,336,344,349,353,357,null,null,"１４月",206.70000000000002,201,{"$f":"AF164+$K167","v":238.2},{"$f":"AG164+$K167","v":274.8},{"$f":"AH164+$K$167","v":301.39999999999998},{"$f":"AI164+$K$167","v":327.10000000000002},350.90000000000003,371.5,386.6,401.40000000000009,414,426.6,437.90000000000009,445,450.5,357]
[null,null,null,null,null,null,null,null,null,"１５月",161,{"$f":"L165+$K167","v":188},{"$f":"M165+$K167","v":212},{"$f":"N165+$K167","v":236},{"$f":"O165+$K$167","v":253},{"$f":"P165+$K$167","v":270},286,300,310,320,329,338,346,351,355,359,null,null,"１５月",209.3,{"$f":"AE165+$K167","v":203},{"$f":"AF165+$K167","v":240.2},{"$f":"AG165+$K167","v":276.8},{"$f":"AH165+$K$167","v":303.39999999999998},{"$f":"AI165+$K$167","v":329.1},352.90000000000003,373.5,388.6,403.40000000000009,416,428.6,439.90000000000009,447,452.5,359]
[null,null,null,null,null,null,null,null,null,null,2,null,null,null,null,null,null,null,null,null,null,null,null,null,null,null,null,null,null,2.6]

{"sheet":"後遺障害慰謝料","index":4,"n_rows":17,"n_cols":11,"rows_kept":17,"cut":false,"hidden":false,"merged":[[0,9,0,10]]}
["後遺障害慰謝料",null,null,null,null,null,"メニューに戻る",null,"別表２","http://www.mlit.go.jp/jidosha/anzen/04relief/resourse/data/kijyun.pdf\n"]
["級","下限","中","上限","赤・黄","緑","労働能力喪失率",null,"自賠責","慰謝料部分","逸失部分"]
[1,2800,{"$f":"(D3+B3)/2","v":2950},3100,2800,2800,1,null,4000,1150]
[2,2300,2500,2700,2370,2400,1,null,3000,998]
[3,1800,2000,2200,1990,2000,1,null,2219,861]
[4,1500,1650,1800,1670,1700,0.92,null,1889,737]
[5,1300,1400,1500,1400,1440,0.79,null,1574,618]
[6,1100,1200,1300,1180,1220,0.67,null,1296,512]
[7,900,1000,1100,1000,1030,0.56000000000000005,null,1051,419]
[8,750,810,870,830,830,0.45,null,819,331]
[9,600,650,700,690,670,0.35,null,616,249]
[10,480,525,570,550,530,0.27,null,461,190]
[11,360,395,430,420,400,0.2,null,331,136]
[12,250,275,300,290,280,0.14000000000000001,null,224,94]
[13,160,175,190,180,180,0.09,null,139,57]
[14,90,105,120,110,110,0.05,null,75,32]
["非該当",0,0,0,0,0,0]

{"sheet":"逸失利益","index":5,"n_rows":46,"n_cols":13,"rows_kept":46,"cut":false,"hidden":false,"merged":[]}
[null,"逸失利益算定","死亡時逸失利益は右欄で算出\n（ここをクリックで移動します）","定期買替の現価計算は右下欄で算出",null,"メニューに戻る",null,null,"死亡逸失利益算定","（稼働・年金）",null,"メニューに戻る"]
[null,"性別","学歴",null,null,null,null,null,"性別","学歴"]
[null,"女","全学歴",null,"後遺障害等級",14,null,null,"女","全学歴",null,"賃金センサス年度"]
[null,{"$f":"IF(B3=\"男\",22,IF(B3=\"女\",34,10))","v":34},{"$f":"IF(F6=\"賃セＲ２\",IF(C3=\"全学歴\",0,IF(C3=\"中学\",1,IF(C3=\"高校\",2,IF(C3=\"専門学校\",3,IF(C3=\"高専・短大\",4,IF(C3=\"大学\",5,IF(C3=\"大学院\",6,7))))))),IF(C3=\"全学歴\",0,IF(C3=\"中学\",1,IF(OR(C3=\"不明\",C3=\"高校\"),2,IF(OR(C3=\"専門学校\",C3=\"高専・短大\"),4,5)))))","v":0},{"$f":"INDEX(共通入力!$N$2:$N$7+1, MATCH(F6, 共通入力!$M$2:$M$7, 0))","v":1},"喪失率",{"$f":"VLOOKUP(F3,後遺障害慰謝料!$A$3:$G$17,7)","v":0.05},null,null,{"$f":"IF(I3=\"男\",22,IF(I3=\"女\",34,10))","v":34},{"$f":"IF(L4=\"賃セＲ２\",IF(J3=\"全学歴\",0,IF(J3=\"中学\",1,IF(J3=\"高校\",2,IF(J3=\"専門学校\",3,IF(J3=\"高専・短大\",4,IF(J3=\"大学\",5,IF(J3=\"大学院\",6,7))))))),IF(J3=\"全学歴\",0,IF(J3=\"中学\",1,IF(OR(J3=\"不明\",J3=\"高校\"),2,IF(OR(J3=\"専門学校\",J3=\"高専・短大\"),4,5)))))","v":0},{"$f":"INDEX(共通入力!$N$2:$N$7+1, MATCH(L4, 共通入力!$M$2:$M$7, 0))","v":1},"賃セＲ５","産業計企業規模１０人以上"]
[null,"症状固定時年齢",null,"歳","収入評価基準年齢",null,"歳",null,"死亡時年齢",null,"歳","稼働可能年齢"]
[null,"就労開始年齢",null,"歳","賃金センサス年度","賃セＲ５","産業計企業規模１０人以上",null,"就労開始年齢",null,"歳",67,"歳"]
[null,"初期区分期間",null,"年","稼働可能年齢",67,"歳",null,"受給開始年齢",null,"歳","平均余命"]
[null,"限定喪失期間",null,"年","平均余命",{"$f":"ROUNDDOWN(VLOOKUP($C$5,平均余命!$A$2:$K$107,IF($B$3=\"女\",$D$4*2+1,IF($B$3=\"男\",$D$4*2,0))),0)","v":87},"年（１未満切り捨て）",null,"適用する喪失期間",{"$f":"ROUNDDOWN(IF(L8/2>L6-J5,L8/2,L6-J5),0)","v":67},"年",{"$f":"ROUNDDOWN(VLOOKUP($J$5,平均余命!$A$2:$K$107,IF($I$3=\"女\",$K$4*2+1,IF($I$3=\"男\",$K$4*2,0))),0)","v":87},"年（１未満切り捨て）"]
[null,null,null,0.03,0.05,null,null,null,null,null,null,"基準年収"]
[null,"適用期間①",{"$f":"C5 &\"歳　～　\"&IF(AND(C5+C8<F10,C8>0),C5+C8,F10)& \"歳（終期）まで\"","v":"歳　～　67歳（終期）まで"},{"$f":"ROUND((1-(1+D9)^-(IF(AND($C$5+$C$8<$F$10,$C$8>0),$C$5+$C$8,$F$10)-$C$5))/D9,4)","v":28.733000000000001},{"$f":"ROUND((1-(1+E9)^-(IF(AND($C$5+$C$8<$F$10,$C$8>0),$C$5+$C$8,$F$10)-$C$5))/E9,4)","v":19.239100000000001},{"$f":"ROUNDDOWN(IF(F8/2>F7-C5,F8/2+C5,F7),0)","v":67},null,null,"ライプニッツ係数","稼働適用","年金適用",{"$f":"VLOOKUP(O9,INDIRECT(L4&\"!$A$9:$AJ$112\"),$I$4)*1000","v":3996499.9999999995},"円"]
[null,"適用期間②",{"$f":"C5 &\"歳　～　\"&IF(C7>0,C5+C7, \"\") & \"歳（初期期間）まで\"","v":"歳　～　歳（初期期間）まで"},{"$f":"ROUND((1-(1+D9)^-(IF(AND($C$5+$C$7<$F$10,$C$7>0),$C$5+$C$7,$C$5)-$C$5))/D9,4)","v":0},{"$f":"ROUND((1-(1+E9)^-(IF(AND($C$5+$C$7<$F$10,$C$7>0),$C$5+$C$7,$C$5)-$C$5))/E9,4)","v":0},null,null,null,0.03,{"$f":"ROUND((1-(1+$I$11)^-$J$8)/$I$11,4)","v":28.733000000000001},{"$f":"ROUND((1-(1+$I$11)^-$L$8)/$I$11,4)","v":30.786300000000001}]
[null,"適用期間③",{"$f":"C5 &\"歳　～　\"&C6& \"歳（控除対象）\"","v":"歳　～　歳（控除対象）"},{"$f":"ROUND((1-(1+D9)^-(IF($C$6>0,$C$6-$C$5,0)/D9)),4)","v":0},{"$f":"ROUND((1-(1+E9)^-(IF($C$6>0,$C$6-$C$5,0)/E9)),4)","v":0},null,null,null,"控除係数",{"$f":"ROUND((1-(1+$I$11)^-IF(J7<>0,J7-J5,J7))/$I$11,4)","v":0},{"$f":"ROUND((1-(1+$I$11)^-IF(J7<>0,J7-J5,J7))/$I$11,4)","v":0}]
[null,null,{"$f":"\"上記に適合する算定パターン　\"& IF($C$7>0,\"C\",IF($C$6>0,\"B\",\"A\"))","v":"上記に適合する算定パターン　A"},{"$f":"IF($C$7>0,D41,IF($C$6>0,D28,D21))","v":0},{"$f":"IF($C$7>0,E41,IF($C$6>0,E28,E21))","v":0},null,null,null,"適用係数",{"$f":"J11-J12","v":28.733000000000001},{"$f":"K11-K12","v":30.786300000000001}]
[]
[null,null,null,null,null,null,null,null,"稼働収入年額","生活費控除率","ライプニッツ係数","金額"]
[null,"A 控除期間がないパターン",null,null,null,null,null,null,null,null,{"$f":"J13","v":28.733000000000001},{"$f":"I16*(1-J16)*K16","v":0}]
[null,"賃金センサス年度","賃セＲ５","産業計企業規模１０人以上","収入評価基準年齢",null,"歳"]
[null,"　基準年収",{"$f":"VLOOKUP(F17,INDIRECT(C17&\"!$A$9:$AJ$112\"),$B$4)*1000","v":3996499.9999999995},"円／年　A","喪失率",null,null,null,"年金収入年額　１"]
[null,"減額後割合",0,null,"減額後年額",{"$f":"C18*C19","v":0},"円／年（A×減額率）",null,null,null,{"$f":"K13","v":30.786300000000001},{"$f":"I19*(1-J19)*K19","v":0}]
[null,"手入力＞",null,"円／年","  適用基礎年収",{"$f":"IF(C20<>0,C20,IF(C19<>0,F19,C18))","v":3996499.9999999995},"円／年"]
[null,null,"算定額①",{"$f":"ROUND(F20*F18*D10,0)","v":0},{"$f":"ROUND(F20*F18*E10,0)","v":0},"円",null,null,"年金収入年額　２"]
[null,null,null,null,null,null,null,null,null,null,null,{"$f":"I22*(1-J22)*K22","v":0}]
[null,"B 控除期間があるパターン","（未成熟子、学生等）"]
[null,"賃金センサス年度","賃セＲ５","産業計企業規模１０人以上","収入評価基準年齢",null,"歳",null,"＊除外対象",null,"合計額",{"$f":"L16+L19+L22","v":0}]
[null,"　基準年収",{"$f":"VLOOKUP(F24,INDIRECT(C24&\"!$A$9:$AJ$112\"),$B$4)*1000","v":3996499.9999999995},"円／年　A","喪失率",null,null,null,"　障害年金の加給部分"]
[null,"低減率",0,null,"減額後年額",{"$f":"C25*C26","v":0},"円／年（A×減額率）",null,"　遺族厚生年金"]
[null,"手入力＞",null,"円／年","  適用基礎年収",{"$f":"IF(C27<>0,C27,IF(C26<>0,F26,C25))","v":3996499.9999999995},"円／年",null,"　軍人恩給の扶養料"]
[null,null,"算定額①－③",{"$f":"F27*F25*(D10-D12)","v":0},{"$f":"F27*F25*(E10-E12)","v":0},"円"]
[]
[null,"C 合算のパターン","（第二期間①＋第一期間②のケース）",null,null,null,null,null,"　　装具・器具等購入費　買替係数",null,null,"メニューに戻る"]
[null,"第二期間①賃金センサス年度","賃セＲ５","産業計企業規模１０人以上","収入評価基準年齢",null,"歳"]
[null,"　基準年収",{"$f":"VLOOKUP(F31,INDIRECT(C31&\"!$A$9:$AJ$112\"),$B$4)*1000","v":3996499.9999999995},"円／年　A","喪失率",null,null,null,"性別","開始時年齢",null,"基準生命表","平均余命"]
[null,"低減率",0,null,"減額後年額",{"$f":"C32*C33","v":0},"円／年（A×減額率）",null,"女",null,{"$f":"INDEX(共通入力!$N$2:$N$7+1, MATCH(L33, 共通入力!$O$2:$O$7, 0))","v":1},"Ｒ４",{"$f":"ROUNDDOWN(VLOOKUP($J$33,平均余命!$A$2:$K$107,IF($I$33=\"女\",$K$33*2+1,IF($I$33=\"男\",$K$33*2,0))),2)","v":87.09}]
[null,"手入力＞",null,"円／年","  適用基礎年収",{"$f":"IF(C34<>0,C34,IF(C33<>0,F33,C32))","v":3996499.9999999995},"円／年",null,{"$f":"IF(I33=\"男\",22,IF(I33=\"女\",34,10))","v":34}]
[null,null,"算定額①－②",{"$f":"ROUND(F34*F32*(D10-D11),0)","v":0},{"$f":"ROUND(F34*F32*(E10-E11),0)","v":0},"円",null,null,"耐用年数","買替回数","単価（円）","ライプニッツ係数","現価（円）"]
[null,"第一期間②賃金センサス年度","賃セＲ５","産業計企業規模１０人以上","収入評価基準年齢",null,"歳",null,null,{"$f":"IF(I36>0,ROUNDDOWN(M33/I36,0),0)","v":0},null,0.03,{"$f":"K36*L37","v":0}]
[null,"　基準年収",{"$f":"VLOOKUP(F36,INDIRECT(C36&\"!$A$9:$AJ$112\"),$B$4)*1000","v":3996499.9999999995},"円／年　A","喪失率",null,null,null,null,null,null,{"$f":"IF(I36>0,rcc(I36,J36,K36,L36),0)","v":0}]
[null,"低減率",0,null,"減額後年額",{"$f":"C37*C38","v":0},"円／年（A×減額率）"]
[null,"手入力＞",null,"円／年","  適用基礎年収",{"$f":"IF(C39<>0,C39,IF(C38<>0,F38,C37))","v":3996499.9999999995},"円／年",null,"転写先＞"]
[null,null,"算定額②",{"$f":"ROUND(F39*F37*(D11-D12),0)","v":0},{"$f":"ROUND(F39*F37*(E11-E12),0)","v":0},"円"]
[null,null,"算定額①＋②",{"$f":"D40+D35","v":0},{"$f":"E40+E35","v":0},"円"]
[]
[null,"用法","この色部分は、選択式"]
[null,null,"この色部分のみ入力可"]
[null,null,"この色部分は、自動入力"]
[null,null,"この色部分は要注意入力可"]

{"sheet":"算定物損","index":6,"n_rows":40,"n_cols":25,"rows_kept":40,"cut":false,"hidden":false,"merged":[[35,19,35,21],[36,0,38,3],[36,5,38,21],[35,1,35,2],[35,4,35,6],[35,7,35,9],[35,10,35,12],[35,13,35,15],[35,16,35,18],[33,4,33,12],[33,13,33,21],[33,22,34,22],[33,23,34,23],[34,4,34,6],[34,7,34,9],[34,10,34,12],[34,13,34,15],[34,16,34,18],[34,19,34,21],[30,4,30,12],[30,13,30,21],[30,22,31,22],[30,23,31,23],[32,4,32,6],[32,7,32,9],[32,10,32,12],[32,13,32,15],[32,16,32,18],[32,19,32,21],[29,4,29,6],[29,7,29,9],[29,10,29,12],[29,13,29,15],[29,16,29,18],[29,19,29,21],[27,19,27,21],[28,1,28,2],[28,4,28,6],[28,7,28,9],[28,10,28,12],[28,13,28,15],[28,16,28,18],[28,19,28,21],[27,1,27,2],[27,4,27,6],[27,7,27,9],[27,10,27,12],[27,13,27,15],[27,16,27,18],[26,4,26,6],[26,7,26,9],[26,10,26,12],[26,13,26,15],[26,16,26,18],[26,19,26,21],[25,4,25,6],[25,7,25,9],[25,10,25,12],[25,13,25,15],[25,16,25,18],[25,19,25,21],[21,22,23,22],[21,23,23,23],[24,4,24,6],[24,7,24,9],[24,10,24,12],[24,13,24,15],[24,16,24,18],[24,19,24,21],[21,4,21,6],[21,7,21,9],[21,10,21,12],[21,13,21,15],[21,16,21,18],[21,19,21,21],[20,4,20,6],[20,7,20,9],[20,10,20,12],[20,13,20,15],[20,16,20,18],[20,19,20,21],[19,4,19,6],[19,7,19,9],[19,10,19,12],[19,13,19,15],[19,16,19,18],[19,19,19,21],[17,22,18,22],[17,23,18,23],[18,2,18,3],[18,4,18,6],[18,7,18,9],[18,10,18,12],[18,13,18,15],[18,16,18,18],[18,19,18,21],[16,19,16,21],[17,0,19,0],[17,1,17,3],[17,4,17,6],[17,7,17,9],[17,10,17,12],[17,13,17,15],[17,16,17,18],[17,19,17,21],[19,1,19,3],[16,1,16,3],[16,4,16,6],[16,7,16,9],[16,10,16,12],[16,13,16,15],[16,16,16,18],[14,19,14,21],[15,1,15,3],[15,4,15,6],[15,7,15,9],[15,10,15,12],[15,13,15,15],[15,16,15,18],[15,19,15,21],[14,1,14,3],[14,4,14,6],[14,7,14,9],[14,10,14,12],[14,13,14,15],[14,16,14,18],[10,16,10,18],[10,19,10,21],[11,0,16,0],[11,1,11,3],[11,4,11,6],[11,7,11,9],[11,10,11,12],[11,13,11,15],[11,16,11,18],[11,19,11,21],[12,20,12,21],[13,1,13,3],[13,4,13,6],[13,7,13,9],[13,10,13,12],[13,13,13,15],[13,16,13,18],[13,19,13,21],[12,1,12,3],[12,5,12,6],[12,8,12,9],[12,11,12,12],[12,14,12,15],[12,17,12,18],[7,0,7,3],[7,4,7,6],[7,13,7,15],[8,0,8,3],[10,0,10,3],[10,4,10,6],[10,7,10,9],[10,10,10,12],[10,13,10,15],[6,0,6,3],[6,4,6,6],[6,13,6,15],[3,0,3,3],[3,4,3,12],[3,13,3,21],[4,0,4,3],[4,4,4,7],[4,9,4,12],[4,13,4,16],[4,18,4,21],[0,0,0,23],[1,10,1,14],[2,2,2,3],[2,6,2,11],[2,13,2,14],[2,15,2,19],[5,0,5,3],[5,4,5,7],[5,9,5,12],[5,13,5,16],[5,18,5,21]]}
["算　定　原　票　（物損）",null,null,null,null,null,null,null,null,null,null,null,null,null,null,null,null,null,null,null,null,null,null,null,"メニューに戻る"]
[null,null,null,null,null,null,null,"相手方保険会社：",null,null,"Ｄ",null,null,null,null,null,null,null,null,null,"作成日：",null,null,{"$f":"TODAY()","v":"2024-07-14"}]
["申立人",null,"Ａ",null,"相手方",null,"Ｂ",null,null,null,null,null,null,"事故日"]
["区　　　分",null,null,null,"申立人車",null,null,null,null,null,null,null,null,"相手方車"]
["所有者／使用者",null,null,null,null,null,null,null,"／",null,null,null,null,null,null,null,null,"／"]
["車名・型式／登録番号",null,null,null,null,null,null,null,"／",null,null,null,null,null,null,null,null,"／"]
["初年度登年月",null,null,null,null,null,null,"販売価格",null,null,null,null,"円",null,null,null,"販売価格",null,null,null,null,"円"]
["次期車検年月",null,null,null,null,null,null,"特別仕様価格",null,null,null,null,"円",null,null,null,"特別仕様価格",null,null,null,null,"円"]
["走行キロ",null,null,null,null,null,"Km","下取価格",null,null,null,null,"円",null,null,"Km","下取価格",null,null,null,null,"円"]
[]
["区　　　分",null,null,null,"申立人の主張",null,null,"相手方の主張",null,null,"斡旋案",null,null,"申立人の主張",null,null,"相手方の主張",null,null,"斡旋案",null,null,"争\n点","コメント"]
["1\n　全損処理の場合","車輌時価額"]
[null,"スクラップ",null,null,"△",null,null,"△",null,null,"△",null,null,"△",null,null,"△",null,null,"△"]
[null,"差引額",null,null,{"$f":"E12-F13","v":0},null,null,{"$f":"H12-I13","v":0},null,null,{"$f":"K12-L13","v":0},null,null,{"$f":"N12-O13","v":0},null,null,{"$f":"Q12-R13","v":0},null,null,{"$f":"T12-U13","v":0}]
[null,"廃車費用"]
[null,"新車登録費用"]
[null,"その他"]
["2\n　修理","修理代"]
[null,null,"消費税"]
[null,"格落ち"]
[3,"レッカー代"]
[4,"代車料"]
[null,null,null,null,null,null,"円",null,null,"円",null,null,"円",null,null,"円",null,null,"円",null,null,"円"]
[null,null,null,null,"×",null,"日","×",null,"日","×",null,"日","×",null,"日","×",null,"日","×",null,"日"]
[5,"休車損害"]
[6,"第三者損害"]
[7,"諸費"]
[8]
[9]
[10,"総計",null,null,{"$f":"SUM(E14:G18)+SUM(E20:G22)+SUM(E25:G29)","v":0},null,null,{"$f":"SUM(H14:J18)+SUM(H20:J22)+SUM(H25:J29)","v":0},null,null,{"$f":"SUM(K14:M18)+SUM(K20:M22)+SUM(K25:M29)","v":0},null,null,{"$f":"SUM(N14:P18)+SUM(N20:P22)+SUM(N25:P29)","v":0},null,null,{"$f":"SUM(Q14:S18)+SUM(Q20:S22)+SUM(Q25:S29)","v":0},null,null,{"$f":"SUM(T14:V18)+SUM(T20:V22)+SUM(T25:V29)","v":0}]
[null,null,null,null,"申立人の過失割合",null,null,null,null,null,null,null,null,"相手方の過失割合"]
[11,"過失",null,null,null,null,"％",null,null,"％",null,null,"％",null,null,"％",null,null,"％",null,null,"％"]
[12,"既払額"]
[null,null,null,null,"相手方が申立人に支払う額",null,null,null,null,null,null,null,null,"申立人が相手方に支払う額"]
[13,"賠償額",null,null,{"$f":"E30*(1-F32/100)-E33","v":0},null,null,{"$f":"H30*(1-I32/100)-H33","v":0},null,null,{"$f":"K30*(1-L32/100)-K33","v":0},null,null,{"$f":"N30*(1-O32/100)-N33","v":0},null,null,{"$f":"Q30*(1-R32/100)-Q33","v":0},null,null,{"$f":"T30*(1-U32/100)-T33","v":0}]
[14,"相殺払い時の受領額",null,null,{"$f":"E35-N35","v":0},null,null,{"$f":"H35-Q35","v":0},null,null,{"$f":"K35-T35","v":0},null,null,{"$f":"N35-W35","v":0},null,null,{"$f":"Q35-Z35","v":0},null,null,{"$f":"T35-AC35","v":0}]
["摘　　要",null,null,null,null,null,null,null,null,null,null,null,null,null,null,null,null,null,null,null,null,null,null,"（単位：円）"]
[]
[]
["※争点について　合意項目に○、重要争点は×、非重要争点は△をつける"]

{"sheet":"算定傷後","index":7,"n_rows":67,"n_cols":31,"rows_kept":67,"cut":false,"hidden":false,"merged":[[52,6,52,12],[52,13,52,19],[52,20,52,26],[62,28,62,29],[63,0,65,2],[63,3,65,29],[60,22,60,26],[61,2,61,5],[61,6,61,12],[61,13,61,19],[61,20,61,26],[62,2,62,5],[62,6,62,12],[62,13,62,19],[62,20,62,26],[53,1,61,1],[56,6,56,12],[56,13,56,19],[56,20,56,26],[58,3,58,5],[53,27,61,27],[57,3,57,5],[57,6,57,12],[53,28,61,29],[53,13,53,19],[53,20,53,26],[60,20,60,21],[60,8,60,12],[58,6,58,12],[58,13,58,19],[57,13,57,19],[57,20,57,26],[54,2,54,5],[54,6,54,12],[54,13,54,19],[54,20,54,26],[55,2,55,5],[55,6,55,12],[55,13,55,19],[55,20,55,26],[56,2,60,2],[52,2,52,5],[60,13,60,14],[60,15,60,19],[50,28,50,29],[51,2,51,5],[51,6,51,12],[51,13,51,19],[51,20,51,26],[51,28,51,29],[50,2,50,5],[50,6,50,12],[50,13,50,19],[50,20,50,26],[58,20,58,26],[56,3,56,5],[59,20,59,26],[60,3,60,5],[60,6,60,7],[59,3,59,5],[59,6,59,12],[59,13,59,19],[52,28,52,29],[53,2,53,5],[53,6,53,12],[48,2,48,5],[48,6,48,12],[48,13,48,19],[48,20,48,26],[48,28,48,29],[49,2,49,5],[49,6,49,12],[49,13,49,19],[49,20,49,26],[49,28,49,29],[46,2,46,5],[46,6,46,12],[46,13,46,19],[46,20,46,26],[46,28,46,29],[47,2,47,5],[47,6,47,12],[47,13,47,19],[47,20,47,26],[47,28,47,29],[44,2,44,5],[44,6,44,12],[44,13,44,19],[44,20,44,26],[44,28,44,29],[45,2,45,5],[45,6,45,12],[45,13,45,19],[45,20,45,26],[45,28,45,29],[41,13,41,19],[41,20,41,26],[41,28,41,29],[42,2,42,5],[42,6,42,12],[42,13,42,19],[42,20,42,26],[42,28,42,29],[43,2,43,5],[43,6,43,12],[43,13,43,19],[43,20,43,26],[43,28,43,29],[37,28,37,29],[38,2,38,5],[38,6,38,12],[38,13,38,19],[38,20,38,26],[38,28,40,29],[39,2,39,5],[39,6,39,7],[39,8,39,12],[39,13,39,14],[31,28,36,29],[32,9,32,12],[32,16,32,19],[32,23,32,26],[33,6,33,10],[33,13,33,17],[33,20,33,24],[34,9,34,10],[34,11,34,12],[34,16,34,17],[36,6,36,12],[36,13,36,19],[36,20,36,26],[35,6,35,7],[35,8,35,12],[35,13,35,14],[35,15,35,19],[35,20,35,21],[35,22,35,26],[31,0,47,0],[31,2,31,5],[31,6,31,12],[31,13,31,19],[31,20,31,26],[31,27,34,27],[34,18,34,19],[34,23,34,24],[34,25,34,26],[35,2,35,5],[36,2,36,5],[37,2,37,5],[37,6,37,12],[37,13,37,19],[37,20,37,26],[39,15,39,19],[39,20,39,21],[39,22,39,26],[40,2,40,5],[40,6,40,12],[40,13,40,19],[40,20,40,26],[41,2,41,5],[41,6,41,12],[29,2,29,5],[29,6,29,12],[29,13,29,19],[29,20,29,26],[29,28,29,29],[30,2,30,5],[30,6,30,12],[30,13,30,19],[30,20,30,26],[30,28,30,29],[27,2,27,5],[27,6,27,12],[27,13,27,19],[27,20,27,26],[27,28,27,29],[28,2,28,5],[28,6,28,12],[28,13,28,19],[28,20,28,26],[28,28,28,29],[26,2,26,5],[26,6,26,12],[26,13,26,19],[26,20,26,26],[26,28,26,29],[24,17,24,18],[24,24,24,25],[25,2,25,5],[25,6,25,12],[25,13,25,19],[25,20,25,26],[21,27,24,27],[21,28,24,29],[22,2,22,5],[22,10,22,11],[22,17,22,18],[22,24,22,25],[23,10,23,11],[23,17,23,18],[23,24,23,25],[24,10,24,11],[20,2,20,5],[20,6,20,12],[20,13,20,19],[20,20,20,26],[21,2,21,5],[21,6,21,12],[21,13,21,19],[21,20,21,26],[25,28,25,29],[17,17,17,18],[17,20,17,21],[17,24,17,25],[18,6,18,7],[18,13,18,14],[18,20,18,21],[19,2,19,5],[19,6,19,7],[19,8,19,12],[19,13,19,14],[19,15,19,19],[19,20,19,21],[19,22,19,26],[13,28,14,29],[14,2,14,5],[14,7,14,8],[14,10,14,11],[14,14,14,15],[14,17,14,18],[14,21,14,22],[14,24,14,25],[15,2,15,5],[15,6,15,12],[15,13,15,19],[15,20,15,26],[15,27,16,27],[15,28,20,29],[16,2,16,5],[16,7,16,8],[16,10,16,11],[16,14,16,15],[16,17,16,18],[16,21,16,22],[16,24,16,25],[17,6,17,7],[17,10,17,11],[17,13,17,14],[13,2,13,5],[13,6,13,12],[13,13,13,19],[13,20,13,26],[11,2,11,5],[11,6,11,12],[11,13,11,19],[11,20,11,26],[13,27,14,27],[7,20,7,21],[7,22,7,26],[8,2,8,5],[11,27,12,27],[11,28,12,29],[12,2,12,5],[12,7,12,8],[12,10,12,11],[12,14,12,15],[9,27,10,27],[9,28,10,29],[10,2,10,5],[10,7,10,8],[10,10,10,11],[10,14,10,15],[10,17,10,18],[10,21,10,22],[10,24,10,25],[12,17,12,18],[12,21,12,22],[12,24,12,25],[5,0,5,5],[5,6,5,12],[5,13,5,19],[5,20,5,26],[5,28,5,29],[6,0,30,0],[6,2,6,5],[6,6,6,12],[6,13,6,19],[6,20,6,26],[8,6,8,12],[8,13,8,19],[8,20,8,26],[9,2,9,5],[9,6,9,12],[9,13,9,19],[9,20,9,26],[6,27,8,27],[6,28,8,29],[7,2,7,5],[7,6,7,7],[7,8,7,12],[7,13,7,14],[7,15,7,19],[3,23,3,27],[4,0,4,2],[4,3,4,5],[4,6,4,9],[4,10,4,15],[4,16,4,19],[4,20,4,27],[0,0,0,29],[2,4,2,7],[2,12,2,14],[3,0,3,2],[3,3,3,5],[3,6,3,9],[3,10,3,11],[3,13,3,14],[3,15,3,19],[3,20,3,22]]}
["算　定　原　票（傷・後）",null,null,null,null,null,null,null,null,null,null,null,null,null,null,null,null,null,null,null,null,null,null,null,null,null,null,null,null,null,"メニューに戻る"]
[]
["担当弁護士：",null,null,null,null,null,null,null,null,null,null,"受付番号：",null,null,null,null,null,null,null,null,null,null,null,null,null,null,null,null,"作成日：",{"$f":"TODAY()","v":"2024-07-14"}]
["申立人",null,null,null,null,null,null,null,null,null,null,null,"歳","事故日",null,null,null,null,null,null,"申立人(代理人)"]
["相手方(運転者)",null,null,null,null,null,"相手方(保有者)",null,null,null,null,null,null,null,null,null,"相手方(保険会社)",null,null,null,null,null,null,null,null,null,null,null,"相手方(代理人)"]
["区　　　分",null,null,null,null,null,"被害者側の主張",null,null,null,null,null,null,"加害者側の主張",null,null,null,null,null,null,"斡旋案",null,null,null,null,null,null,"争\n点","コメント"]
["傷\n\n\n\n害",1,"治　　療　　費"]
[null,null,"相殺額（ 療養費等 ）",null,null,null,"△",null,null,null,null,null,null,"△",null,null,null,null,null,null,"△"]
[null,null,"損益相殺後金額",null,null,null,{"$f":"G7-I8","v":0},null,null,null,null,null,null,{"$f":"N7-P8","v":0},null,null,null,null,null,null,{"$f":"U7-W8","v":0}]
[null,2,"付　　添　　費"]
[null,null,"(単価 × 要付添日)",null,null,null,"@",null,null,"×",null,null,"日","@",null,null,"×",null,null,"日","@",null,null,"×",null,null,"日"]
[null,3,"入　院　雑　費"]
[null,null,"(単価 × 入院日数)",null,null,null,"@",1500,null,"×",null,null,"日","@",null,null,"×",null,null,"日","@",null,null,"×",null,null,"日"]
[null,4,"通 院 交 通 費"]
[null,null,"(単価 × 認定通院日数)",null,null,null,"@",null,null,"×",null,null,"日","@",null,null,"×",null,null,"日","@",null,null,"×",null,null,"日"]
[null,5,"休　業　損　害",null,null,null,null,null,null,null,null,null,null,null,null,null,null,null,null,null,null,null,null,null,null,null,null,null,null,null,"元の表に戻る"]
[null,null,"(収入 × 認定休業日数)",null,null,null,"@",null,null,"×",null,null,"日","@",null,null,"×",null,null,"日","@",null,null,"×",null,null,"日"]
[null,null,null,null,null,null,"日額",null,null,"×",null,null,"日","日額",null,null,"×",null,null,"日","日額",null,null,"×",null,null,"日",null,null,null,"元の表に戻る"]
[null,null,null,null,null,null,"認定率",null,null,"％",null,null,null,"認定率",null,null,"％",null,null,null,"認定率",null,null,"％"]
[null,null,"相殺額（ 傷病手当金等 ）",null,null,null,"△",null,null,null,null,null,null,"△",null,null,null,null,null,null,"△"]
[null,null,"損益相殺後金額",null,null,null,{"$f":"G16-I20","v":0},null,null,null,null,null,null,{"$f":"N16-P20","v":0},null,null,null,null,null,null,{"$f":"U16-W20","v":0}]
[null,6,"慰　　謝　　料",null,null,null,null,null,null,null,null,null,null,null,null,null,null,null,null,null,null,null,null,null,null,null,null,null,null,null,"元の表に戻る"]
[null,null,"(対象入院及び通院延べ日数)",null,null,null,null,null,null,"入院",null,null,"日",null,null,null,"入院",null,null,"日",null,null,null,"入院",null,null,"日"]
[null,null,null,null,null,null,null,null,null,"通院実",null,null,"日",null,null,null,"通院実",null,null,"日",null,null,null,"通院実",null,null,"日"]
[null,null,null,null,null,null,null,null,null,"通院延",null,null,"日",null,null,null,"通院延",null,null,"日",null,null,null,"通院延",null,null,"日"]
[null,7]
[null,8]
[null,9]
[null,10,"小計（1～9）",null,null,null,{"$f":"G9+G10+G12+G14+G21+G22+G26+G27+G28","v":0},null,null,null,null,null,null,{"$f":"N9+N10+N12+N14+N21+N22+N26+N27+N28","v":0},null,null,null,null,null,null,{"$f":"U9+U10+U12+U14+U21+U22+U26+U27+U28","v":0}]
[null,11,"素因減額（％）"]
[null,12,"傷害計（1～11）",null,null,null,{"$f":"ROUNDDOWN(G29*(1-G30),0)","v":0},null,null,null,null,null,null,{"$f":"ROUNDDOWN(N29*(1-N30),0)","v":0},null,null,null,null,null,null,{"$f":"ROUNDDOWN(U29*(1-U30),0)","v":0}]
["後\n遺\n障\n害",13,"逸　失　利　益",null,null,null,null,null,null,null,null,null,null,null,null,null,null,null,null,null,null,null,null,null,null,null,null,null,null,null,"元の表に戻る"]
[null,null,"症状固定年齢",null,null,"歳","基礎収入",null,null,null,null,null,null,"基礎収入",null,null,null,null,null,null,"基礎収入"]
[null,null,"後遺障害等級",null,null,"級","労働能力喪失率",null,null,null,null,null,"％","労働能力喪失率",null,null,null,null,null,"％","労働能力喪失率",null,null,null,null,null,"％"]
[null,null,"就労可能年数",null,null,"年",null,"年",null,"係数",null,null,null,null,"年",null,"係数",null,null,null,null,"年",null,"係数"]
[null,null,"相殺額（ 障害厚生年金等 ）",null,null,null,"△",null,null,null,null,null,null,"△",null,null,null,null,null,null,"△"]
[null,null,"損益相殺後金額",null,null,null,{"$f":"G32-I36","v":0},null,null,null,null,null,null,{"$f":"N32-P36","v":0},null,null,null,null,null,null,{"$f":"U32-W36","v":0}]
[null,14,"慰　　謝　　料"]
[null,15,"介　　護　　料"]
[null,null,"相殺額（ 介護保険等 ）",null,null,null,"△",null,null,null,null,null,null,"△",null,null,null,null,null,null,"△"]
[null,null,"損益相殺後金額",null,null,null,{"$f":"G39-I40","v":0},null,null,null,null,null,null,{"$f":"N39-P40","v":0},null,null,null,null,null,null,{"$f":"U39-W40","v":0}]
[null,16,"介 護 用 品 費",null,null,null,null,null,null,null,null,null,null,null,null,null,null,null,null,null,null,null,null,null,null,null,null,null,null,null,"元の表に戻る"]
[null,17,"住 宅 改 造 費"]
[null,18,"車 輌 改 造 費"]
[null,19]
[null,20,"小計（13～19）",null,null,null,{"$f":"SUM(G37,G38,G41,G42:G45)","v":0},null,null,null,null,null,null,{"$f":"SUM(N37,N38,N41,N42:N45)","v":0},null,null,null,null,null,null,{"$f":"SUM(U37,U38,U41,U42:U45)","v":0}]
[null,21,"素因減額（％）"]
[null,22,"後遺障害計（13～21）",null,null,null,{"$f":"ROUNDDOWN(G46*(1-G47),0)","v":0},null,null,null,null,null,null,{"$f":"ROUNDDOWN(N46*(1-N47),0)","v":0},null,null,null,null,null,null,{"$f":"ROUNDDOWN(U46*(1-U47),0)","v":0}]
[null,23,"物損（ﾒｶﾞﾈ･義肢･義足等）"]
[null,24,"総　計（1～23）",null,null,null,{"$f":"G31+G48+G49","v":0},null,null,null,null,null,null,{"$f":"N31+N48+N49","v":0},null,null,null,null,null,null,{"$f":"U31+U48+U49","v":0}]
[null,25,"素 因 減 額(％)"]
[null,26,"過 失 相 殺(％)"]
[null,27,"賠償額 ｛総計(24)×(100-\n素因(25)×(100-過失(26))｝",null,null,null,{"$f":"ROUNDDOWN(G50*(1-G51)*(1-G52),0)","v":0},null,null,null,null,null,null,{"$f":"ROUNDDOWN(N50*(1-N51)*(1-N52),0)","v":0},null,null,null,null,null,null,{"$f":"ROUNDDOWN(U50*(1-U51)*(1-U52),0)","v":0}]
[null,28,"自賠責保険(被害者請求)",null,null,null,null,null,null,null,null,null,null,null,null,null,null,null,null,null,null,null,null,null,null,null,null,null,null,null,"既払い入力へ"]
[null,null,"任意保険"]
[null,null,"人身傷害保険(求償額)"]
[null,null,"労災","療養･介護補償給付"]
[null,null,null,"(控除対象区分№)"]
[null,null,null,"休業･障害補償給付"]
[null,null,null,"(控除対象区分№)"]
[null,null,null,"相殺不可額",null,null,"△",null,null,null,null,null,null,"△",null,null,null,null,null,null,"△"]
[null,null,"既　払　合　計",null,null,null,{"$f":"G54+G55+G56+G57+G59-I61","v":0},null,null,null,null,null,null,{"$f":"N54+N55+N56+N57+N59-P61","v":0},null,null,null,null,null,null,{"$f":"U54+U55+U56+U57+U59-W61","v":0}]
[null,29,"差　引　額\n(賠償額(27)－既払(28))",null,null,null,{"$f":"G53-G62","v":0},null,null,null,null,null,null,{"$f":"N53-N62","v":0},null,null,null,null,null,null,{"$f":"U53-U62","v":0}]
["摘　　要"]
[]
[]
["※争点について　合意項目に○、重要争点は×、非重要争点は△をつける",null,null,null,null,null,null,null,null,null,null,null,null,null,null,null,null,null,null,null,null,null,null,null,null,null,null,null,null,"（単位：円）"]

{"sheet":"算定原票（傷・後）-既払","index":8,"n_rows":123,"n_cols":7,"rows_kept":123,"cut":false,"hidden":false,"merged":[]}
["既払【傷害、後遺障害】",null,"元の表に戻る",null,null,"メニューに戻る"]
[null,"被害者の主張",null,null,"↓転送ボタン","計算エリア"]
[null,null,"[自賠責保険（被害者請求）]","保険金"]
[null,null,"[任意保険]","保険金"]
[null,"[人身傷害保険（求償額）]"]
[null,"受取額","24.総計","素因減額・過失相殺","求償額"]
[null,null,{"$f":"算定傷後!G50","v":0},{"$f":"算定傷後!G51+算定傷後!G52","v":0},{"$f":"IF(AND(B7>0,B7-C7*D7>0),B7-C7*D7,0)","v":0}]
[]
[null,"[療養・介護給付]","療養給付額","介護給付額","給付合計"]
[null,null,null,null,{"$f":"C10+D10","v":0}]
[null,"控除対象チェック↓_"]
[null,"費目","損害額","素因減額・過失相殺","相殺後賠償額"]
[null,"1.治療費",{"$f":"算定傷後!G7","v":0},{"$f":"算定傷後!G30+算定傷後!G52","v":0},{"$f":"IF(G13,C13*(1-D13),0)","v":0},null,false]
[null,"2.付添費",{"$f":"算定傷後!G10","v":0},{"$f":"$D$13","v":0},{"$f":"IF(G14,C14*(1-D14),0)","v":0},null,false]
[null,"3.入院雑費",{"$f":"算定傷後!G12","v":0},{"$f":"$D$13","v":0},{"$f":"IF(G15,C15*(1-D15),0)","v":0},null,false]
[null,"4.通院交通費",{"$f":"算定傷後!G14","v":0},{"$f":"$D$13","v":0},0,null,false]
[null,{"$f":"\"7.\"&算定傷後!C26","v":"7."},{"$f":"算定傷後!G26","v":0},{"$f":"$D$13","v":0},0,null,false]
[null,{"$f":"\"8.\"&算定傷後!C27","v":"8."},{"$f":"算定傷後!G27","v":0},{"$f":"$D$13","v":0},0,null,false]
[null,"15.介護料",{"$f":"算定傷後!G39","v":0},{"$f":"算定傷後!G47+算定傷後!G52","v":0},0,null,false]
[null,"16.介護用品費",{"$f":"算定傷後!G42","v":0},{"$f":"$D$19","v":0},0,null,false]
[null,"17.住宅改造費",{"$f":"算定傷後!G43","v":0},{"$f":"$D$19","v":0},0,null,false]
[null,"18.車両改造費",{"$f":"算定傷後!G44","v":0},{"$f":"$D$19","v":0},0,null,false]
[null,{"$f":"\"19.\"&算定傷後!C45","v":"19."},{"$f":"算定傷後!G45","v":0},{"$f":"$D$19","v":0},0,"相殺不可額",false]
[null,null,null,"計",{"$f":"SUM(E13:E23)","v":0},{"$f":"IF(E10-E24<0,0,E10-E24)","v":0}]
[null,null,null,null,"選択された控除対象＞",{"$f":"IF(G13,\"(1)\",\"\") & IF(G14,\"(2)\",\"\")& IF(G15,\"(3)\",\"\")& IF(G16,\"(4)\",\"\")& IF(G17,\"(7)\",\"\")& IF(G18,\"(8)\",\"\")& IF(G19,\"(15)\",\"\")& IF(G20,\"(16)\",\"\")& IF(G21,\"(17)\",\"\")& IF(G22,\"(18)\",\"\")& IF(G23,\"(19)\",\"\")","v":""}]
[null,"[休業・障害補償給付]","休業給付額","障害補償給付額","給付合計"]
[null,null,null,null,{"$f":"C27+D27","v":0}]
[null,"控除対象チェック↓_"]
[null,"費目","損害額","素因減額・過失相殺","相殺後賠償額"]
[null,"5.休業損害",{"$f":"算定傷後!G16","v":0},{"$f":"$D$13","v":0},{"$f":"IF(G30,C30*(1-D30),0)","v":0},null,false]
[null,{"$f":"\"9.\"&算定傷後!C28","v":"9."},{"$f":"算定傷後!G28","v":0},{"$f":"$D$13","v":0},{"$f":"IF(G31,C31*(1-D31),0)","v":0},null,false]
[null,"13.逸失利益",{"$f":"算定傷後!G32","v":0},{"$f":"$D$19","v":0},{"$f":"IF(G32,C32*(1-D32),0)","v":0},"相殺不可額",false]
[null,null,null,"計",{"$f":"SUM(E30:E32)","v":0},{"$f":"IF(E27-E33<0,0,E27-E33)","v":0}]
[null,"≪サマリー≫",null,null,"選択された控除対象＞",{"$f":" IF(G30,\"(5)\",\"\")& IF(G31,\"(9)\",\"\")& IF(G32,\"(13)\",\"\")","v":""}]
[null,"24.総計","素因減額・過失相殺(％)","27.賠償額","控除額計","相殺不可額合計"]
[null,{"$f":"算定傷後!G50","v":0},{"$f":"$D$7","v":0},{"$f":"算定傷後!G53","v":0},{"$f":"E3+E4+E7+C10+C27","v":0},{"$f":"F24+F33","v":0}]
[]
[null,null,null,null,"28.既払合計","　控除額計－相殺不可額合計"]
[null,null,null,null,{"$f":"IF(E36-F36<0,0,E36-F36)","v":0}]
[null,null,null,null,"29.差引額","　27.賠償額－28.既払合計"]
[null,null,null,null,{"$f":"D36-E39","v":0}]
[]
[null,"加害者の主張",null,null,"↓転送ボタン","計算エリア"]
[null,null,"[自賠責保険（被害者請求）]","保険金"]
[null,null,"[任意保険]","保険金"]
[null,"[人身傷害保険（求償額）]"]
[null,"受取額","24.総計","素因減額・過失相殺","求償額"]
[null,null,{"$f":"算定傷後!N50","v":0},{"$f":"算定傷後!N51+算定傷後!N52","v":0},{"$f":"IF(AND(B48>0,B48-C48*D48>0),B48-C48*D48,0)","v":0}]
[]
[null,"[療養・介護給付]","療養給付額","介護給付額","給付合計"]
[null,null,null,null,{"$f":"C51+D51","v":0}]
[null,"控除対象チェック↓_"]
[null,"費目","損害額","素因減額・過失相殺","相殺後賠償額"]
[null,"1.治療費",{"$f":"算定傷後!N7","v":0},{"$f":"算定傷後!N30+算定傷後!N52","v":0},{"$f":"IF(G54,C54*(1-D54),0)","v":0},null,false]
[null,"2.付添費",{"$f":"算定傷後!N10","v":0},{"$f":"$D$54","v":0},{"$f":"IF(G55,C55*(1-D55),0)","v":0},null,false]
[null,"3.入院雑費",{"$f":"算定傷後!N12","v":0},{"$f":"$D$54","v":0},{"$f":"IF(G56,C56*(1-D56),0)","v":0},null,false]
[null,"4.通院交通費",{"$f":"算定傷後!N14","v":0},{"$f":"$D$54","v":0},{"$f":"IF(G57,C57*(1-D57),0)","v":0},null,false]
[null,{"$f":"\"7.\"&算定傷後!$C$26","v":"7."},{"$f":"算定傷後!N26","v":0},{"$f":"$D$54","v":0},0,null,false]
[null,{"$f":"\"8.\"&算定傷後!$C$27","v":"8."},{"$f":"算定傷後!N27","v":0},{"$f":"$D$54","v":0},0,null,false]
[null,"15.介護料",{"$f":"算定傷後!N39","v":0},{"$f":"算定傷後!N47+算定傷後!N52","v":0},0,null,false]
[null,"16.介護用品費",{"$f":"算定傷後!N42","v":0},{"$f":"$D$60","v":0},0,null,false]
[null,"17.住宅改造費",{"$f":"算定傷後!N43","v":0},{"$f":"$D$60","v":0},0,null,false]
[null,"18.車両改造費",{"$f":"算定傷後!N44","v":0},{"$f":"$D$60","v":0},0,null,false]
[null,{"$f":"\"19.\"&算定傷後!$C$45","v":"19."},{"$f":"算定傷後!N45","v":0},{"$f":"$D$60","v":0},0,"相殺不可額",false]
[null,null,null,"計",{"$f":"SUM(E54:E64)","v":0},{"$f":"IF(E51-E65<0,0,E51-E65)","v":0}]
[null,null,null,null,"選択された控除対象＞",{"$f":"IF(G54,\"(1)\",\"\") & IF(G55,\"(2)\",\"\")& IF(G56,\"(3)\",\"\")& IF(G57,\"(4)\",\"\")& IF(G58,\"(7)\",\"\")& IF(G59,\"(8)\",\"\")& IF(G60,\"(15)\",\"\")& IF(G61,\"(16)\",\"\")& IF(G62,\"(17)\",\"\")& IF(G63,\"(18)\",\"\")& IF(G64,\"(19)\",\"\")","v":""}]
[null,"[休業・障害補償給付]","休業給付額","障害補償給付額","給付合計"]
[null,null,null,null,{"$f":"C68+D68","v":0}]
[null,"控除対象チェック↓_"]
[null,"費目","損害額","素因減額・過失相殺","相殺後賠償額"]
[null,"5.休業損害",{"$f":"算定傷後!N16","v":0},{"$f":"$D$54","v":0},{"$f":"IF(G71,C71*(1-D71),0)","v":0},null,false]
[null,{"$f":"\"9.\"&算定傷後!C69","v":"9."},{"$f":"算定傷後!N28","v":0},{"$f":"$D$54","v":0},{"$f":"IF(G72,C72*(1-D72),0)","v":0},null,false]
[null,"13.逸失利益",{"$f":"算定傷後!N32","v":0},{"$f":"$D$60","v":0},{"$f":"IF(G73,C73*(1-D73),0)","v":0},"相殺不可額",false]
[null,null,null,"計",{"$f":"SUM(E71:E73)","v":0},{"$f":"IF(E68-E74<0,0,E68-E74)","v":0}]
[null,"≪サマリー≫",null,null,"選択された控除対象＞",{"$f":" IF(G71,\"(5)\",\"\")& IF(G72,\"(9)\",\"\")& IF(G73,\"(13)\",\"\")","v":""}]
[null,"24.総計","素因減額・過失相殺(％)","27.賠償額","控除額計","相殺不可額合計"]
[null,{"$f":"算定傷後!N50","v":0},{"$f":"$D$48","v":0},{"$f":"算定傷後!N53","v":0},{"$f":"E44+E45+E48+C51+C68","v":0},{"$f":"F65+F74","v":0}]
[]
[null,null,null,null,"28.既払合計","　控除額計－相殺不可額合計"]
[null,null,null,null,{"$f":"IF(E77-F77<0,0,E77-F77)","v":0}]
[null,null,null,null,"29.差引額","　27.賠償額－28.既払合計"]
[null,null,null,null,{"$f":"D77-E80","v":0}]
[]
[null,"斡旋案",null,null,"↓転送ボタン","計算エリア"]
[null,null,"[自賠責保険（被害者請求）]","保険金"]
[null,null,"[任意保険]","保険金"]
[null,"[人身傷害保険（求償額）]"]
[null,"受取額","24.総計","素因減額・過失相殺","求償額"]
[null,null,{"$f":"算定傷後!U50","v":0},{"$f":"算定傷後!U51+算定傷後!U52","v":0},{"$f":"IF(AND(B89>0,B89-C89*D89>0),B89-C89*D89,0)","v":0}]
[]
[null,"[療養・介護給付]","療養給付額","介護給付額","給付合計"]
[null,null,null,null,{"$f":"C92+D92","v":0}]
[null,"控除対象チェック↓_"]
[null,"費目","損害額","素因減額・過失相殺","相殺後賠償額"]
[null,"1.治療費",{"$f":"算定傷後!U7","v":0},{"$f":"算定傷後!U30+算定傷後!U52","v":0},{"$f":"IF(G95,C95*(1-D95),0)","v":0},null,false]
[null,"2.付添費",{"$f":"算定傷後!U10","v":0},{"$f":"$D$95","v":0},{"$f":"IF(G96,C96*(1-D96),0)","v":0},null,false]
[null,"3.入院雑費",{"$f":"算定傷後!U12","v":0},{"$f":"$D$95","v":0},{"$f":"IF(G97,C97*(1-D97),0)","v":0},null,false]
[null,"4.通院交通費",{"$f":"算定傷後!U14","v":0},{"$f":"$D$95","v":0},{"$f":"IF(G98,C98*(1-D98),0)","v":0},null,false]
[null,{"$f":"\"7.\"&算定傷後!$C$26","v":"7."},{"$f":"算定傷後!U26","v":0},{"$f":"$D$95","v":0},0,null,false]
[null,{"$f":"\"8.\"&算定傷後!$C$27","v":"8."},{"$f":"算定傷後!U27","v":0},{"$f":"$D$95","v":0},0,null,false]
[null,"15.介護料",{"$f":"算定傷後!U39","v":0},{"$f":"算定傷後!U47+算定傷後!U52","v":0},0,null,false]
[null,"16.介護用品費",{"$f":"算定傷後!U42","v":0},{"$f":"$D$101","v":0},0,null,false]
[null,"17.住宅改造費",{"$f":"算定傷後!U43","v":0},{"$f":"$D$101","v":0},0,null,false]
[null,"18.車両改造費",{"$f":"算定傷後!U44","v":0},{"$f":"$D$101","v":0},0,null,false]
[null,{"$f":"\"19.\"&算定傷後!$C$45","v":"19."},{"$f":"算定傷後!U45","v":0},{"$f":"$D$101","v":0},0,"相殺不可額",false]
[null,null,null,"計",{"$f":"SUM(E95:E105)","v":0},{"$f":"IF(E92-E106<0,0,E92-E106)","v":0}]
[null,null,null,null,"選択された控除対象＞",{"$f":"IF(G95,\"(1)\",\"\") & IF(G96,\"(2)\",\"\")& IF(G97,\"(3)\",\"\")& IF(G98,\"(4)\",\"\")& IF(G99,\"(7)\",\"\")& IF(G100,\"(8)\",\"\")& IF(G101,\"(15)\",\"\")& IF(G102,\"(16)\",\"\")& IF(G103,\"(17)\",\"\")& IF(G104,\"(18)\",\"\")& IF(G105,\"(19)\",\"\")","v":""}]
[null,"[休業・障害補償給付]","休業給付額","障害補償給付額","給付合計"]
[null,null,null,null,{"$f":"C109+D109","v":0}]
[null,"控除対象チェック↓_"]
[null,"費目","損害額","素因減額・過失相殺","相殺後賠償額"]
[null,"5.休業損害",{"$f":"算定傷後!U16","v":0},{"$f":"$D$95","v":0},{"$f":"IF(G112,C112*(1-D112),0)","v":0},null,false]
[null,{"$f":"\"9.\"&算定傷後!C110","v":"9."},{"$f":"算定傷後!U28","v":0},{"$f":"$D$95","v":0},{"$f":"IF(G113,C113*(1-D113),0)","v":0},null,false]
[null,"13.逸失利益",{"$f":"算定傷後!U32","v":0},{"$f":"$D$101","v":0},{"$f":"IF(G114,C114*(1-D114),0)","v":0},"相殺不可額",false]
[null,null,null,"計",{"$f":"SUM(E112:E114)","v":0},{"$f":"IF(E109-E115<0,0,E109-E115)","v":0}]
[null,"≪サマリー≫",null,null,"選択された控除対象＞",{"$f":" IF(G112,\"(5)\",\"\")& IF(G113,\"(9)\",\"\")& IF(G114,\"(13)\",\"\")","v":""}]
[null,"24.総計","素因減額・過失相殺(％)","27.賠償額","控除額計","相殺不可額合計"]
[null,{"$f":"算定傷後!U50","v":0},{"$f":"$D$89","v":0},{"$f":"算定傷後!U53","v":0},{"$f":"E85+E86+E89+E106+E115","v":0},{"$f":"F106+F115","v":0}]
[]
[null,null,null,null,"28.既払合計","　控除額計－相殺不可額合計"]
[null,null,null,null,{"$f":"IF(E118-F118<0,0,E118-F118)","v":0}]
[null,null,null,null,"29.差引額","　27.賠償額－28.既払合計"]
[null,null,null,null,{"$f":"D118-E121","v":0}]

{"sheet":"算定死亡","index":9,"n_rows":57,"n_cols":33,"rows_kept":57,"cut":false,"hidden":false,"merged":[[54,0,55,2],[54,3,55,30],[51,24,51,29],[52,2,52,5],[52,6,52,13],[52,14,52,21],[52,22,52,29],[53,2,53,5],[53,6,53,13],[53,14,53,21],[53,22,53,29],[51,3,51,5],[51,6,51,7],[51,8,51,13],[51,14,51,15],[51,16,51,21],[51,22,51,23],[42,30,52,30],[43,2,43,5],[43,6,43,13],[43,14,43,21],[43,22,43,29],[44,2,44,5],[44,6,44,13],[49,14,49,21],[49,22,49,29],[50,3,50,5],[50,6,50,13],[50,14,50,21],[50,22,50,29],[47,3,47,5],[47,6,47,13],[47,14,47,21],[47,22,47,29],[48,3,48,5],[48,6,48,13],[41,2,41,5],[41,6,41,13],[41,14,41,21],[41,22,41,29],[42,1,52,1],[42,2,42,5],[42,6,42,13],[42,14,42,21],[42,22,42,29],[45,3,45,5],[45,6,45,13],[45,14,45,21],[45,22,45,29],[46,3,46,5],[46,6,46,13],[46,14,46,21],[46,22,46,29],[48,14,48,21],[48,22,48,29],[44,14,44,21],[44,22,44,29],[45,2,51,2],[49,3,49,5],[49,6,49,13],[38,30,40,30],[38,31,40,31],[39,2,39,5],[39,6,39,13],[39,14,39,21],[39,22,39,29],[40,2,40,5],[40,6,40,13],[40,14,40,21],[40,22,40,29],[37,2,37,5],[37,6,37,13],[37,14,37,21],[37,22,37,29],[38,1,40,1],[38,2,38,5],[38,6,38,13],[38,14,38,21],[38,22,38,29],[35,2,35,5],[35,6,35,13],[35,14,35,21],[35,22,35,29],[36,2,36,5],[36,6,36,13],[36,14,36,21],[36,22,36,29],[33,2,33,5],[33,6,33,13],[33,14,33,21],[33,22,33,29],[34,2,34,5],[34,6,34,13],[34,14,34,21],[34,22,34,29],[29,30,32,30],[29,31,32,31],[30,2,30,5],[30,11,30,12],[30,19,30,20],[30,27,30,28],[27,31,28,31],[28,2,28,5],[28,7,28,9],[28,11,28,12],[28,15,28,17],[28,19,28,20],[28,23,28,25],[28,27,28,28],[31,11,31,12],[31,19,31,20],[31,27,31,28],[32,11,32,12],[32,19,32,20],[32,27,32,28],[29,2,29,5],[29,6,29,13],[29,14,29,21],[29,22,29,29],[26,19,26,20],[26,23,26,25],[26,27,26,28],[27,2,27,5],[27,6,27,13],[27,14,27,21],[27,22,27,29],[24,27,24,28],[25,2,25,5],[25,6,25,13],[25,14,25,21],[25,22,25,29],[23,14,23,21],[23,22,23,29],[23,31,24,31],[24,2,24,5],[24,7,24,9],[24,11,24,12],[24,15,24,17],[24,19,24,20],[24,23,24,25],[21,31,22,31],[22,2,22,5],[22,7,22,9],[22,11,22,12],[22,15,22,17],[22,19,22,20],[22,23,22,25],[22,27,22,28],[20,0,34,0],[20,2,20,5],[20,6,20,13],[20,14,20,21],[20,22,20,29],[21,2,21,5],[21,6,21,13],[21,14,21,21],[21,22,21,29],[23,2,23,5],[25,31,26,31],[26,2,26,5],[26,7,26,9],[26,11,26,12],[26,15,26,17],[23,6,23,13],[18,14,18,21],[18,22,18,29],[19,2,19,5],[19,6,19,13],[19,14,19,21],[19,22,19,29],[16,2,16,5],[16,6,16,13],[16,14,16,21],[16,22,16,29],[17,2,17,5],[17,6,17,13],[17,14,17,21],[17,22,17,29],[10,30,14,30],[10,31,14,31],[11,2,11,3],[11,4,11,5],[11,6,11,9],[11,10,11,13],[11,14,11,17],[11,18,11,21],[11,22,11,25],[11,26,11,29],[14,22,14,23],[14,28,14,29],[14,6,14,7],[14,10,14,11],[14,12,14,13],[14,14,14,15],[14,18,14,19],[14,20,14,21],[5,30,9,30],[5,31,9,31],[6,2,6,3],[6,4,6,5],[6,6,6,9],[6,10,6,13],[6,14,6,17],[6,18,6,21],[6,22,6,25],[6,26,6,29],[9,18,9,19],[9,20,9,21],[9,22,9,23],[9,26,9,27],[9,28,9,29],[4,0,4,3],[4,6,4,13],[4,14,4,21],[4,22,4,29],[5,0,18,0],[5,1,14,1],[5,2,5,5],[5,6,5,13],[5,14,5,21],[5,22,5,29],[9,6,9,7],[9,10,9,11],[9,12,9,13],[9,14,9,15],[10,2,10,5],[10,6,10,13],[10,14,10,21],[10,22,10,29],[15,2,15,5],[15,6,15,13],[15,14,15,21],[15,22,15,29],[18,2,18,5],[18,6,18,13],[0,0,0,30],[1,25,1,29],[2,2,2,5],[2,6,2,11],[2,13,2,15],[2,17,2,18],[2,19,2,29],[3,2,3,5],[3,6,3,9],[3,10,3,18],[3,20,3,21],[3,22,3,29]]}
["算　定　原　票（死亡）",null,null,null,null,null,null,null,null,null,null,null,null,null,null,null,null,null,null,null,null,null,null,null,null,null,null,null,null,null,null,null,"メニューに戻る"]
[null,null,null,null,null,null,null,null,null,null,null,null,null,null,null,null,null,null,null,null,null,"作成日：",null,null,null,{"$f":"TODAY()","v":"2024-07-14"},null,null,null,null,null,"相手方保険会社"]
["氏名",null,null,null,null,null,null,null,null,null,null,null,"生",null,null,null,"歳","事故日"]
["学歴",null,null,null,null,null,"職業",null,null,null,null,null,null,null,null,null,null,null,null,null,"死亡日"]
["区　　　分",null,null,null,null,null,"被害者側の主張",null,null,null,null,null,null,null,"加害者側の主張",null,null,null,null,null,null,null,"斡旋案",null,null,null,null,null,null,null,"争\n点","コメント"]
["死\n\n\n亡",1,"逸　失　利　益",null,null,null,null,null,null,null,null,null,null,null,null,null,null,null,null,null,null,null,null,null,null,null,null,null,null,null,null,"平成２５年賃金センサス女子学歴計６５－６９の値を基準、就労可能年齢を平均余命の１／２（７５歳）までとする。"]
[null,null,"死亡年月日",null,{"$f":"IF(W4>0,W4,\"\")","v":""},null,"基礎収入",null,null,null,null,null,null,null,"基礎収入",null,null,null,null,null,null,null,"基礎収入"]
[null,null,"就労可能年数",null,null,"年","生活費控除率",null,null,null,null,null,null,"%","生活費控除率",null,null,null,null,null,null,"%","生活費控除率",null,null,null,null,null,null,"%"]
[null,null,null,null,null,null,"就労可能年数",null,null,null,null,null,null,"年","就労可能年数",null,null,null,null,null,null,"年","就労可能年数",null,null,null,null,null,null,"年"]
[null,null,null,null,null,null,null,null,"年 ",null,"係数",null,null,null,null,null,"年 ",null,"係数",null,null,null,null,null,"年 ",null,"係数",null,null,null,null,null,"元の表に戻る"]
[null,null,"年金の逸失利益",null,null,null,null,null,null,null,null,null,null,null,null,null,null,null,null,null,null,null,null,null,null,null,null,null,null,null,null,"７５から平均余命までの年金について対象とする"]
[null,null,"死亡年月日",null,{"$f":"IF(W4>0,W4,\"\")","v":""},null,"年金収入",null,null,null,null,null,null,null,"年金収入",null,null,null,null,null,null,null,"年金収入"]
[null,null,"死亡年齢",null,{"$f":"IF(N3>0,N3,\"\")","v":""},"歳","生活費控除率",null,null,null,null,null,null,"%","生活費控除率",null,null,null,null,null,null,"%","生活費控除率",null,null,null,null,null,null,"%"]
[null,null,null,null,null,null,"平均余命年数",null,null,null,null,null,null,"年","平均余命年数",null,null,null,null,null,null,"年","平均余命年数",null,null,null,null,null,null,"年"]
[null,null,null,null,null,null,null,null,"年 ",null,"係数",null,null,null,null,null,"年 ",null,"係数",null,null,null,null,null,"年 ",null,"係数"]
[null,2,"葬　　儀　　費"]
[null,3,"慰　　謝　　料",null,null,null,null,null,null,null,null,null,null,null,null,null,null,null,null,null,null,null,null,null,null,null,null,null,null,null,null,"事故態様、被害者生活状況、近親者固有分を考慮"]
[null,4]
[null,5]
[null,6,"小　計（1～5）",null,null,null,{"$f":"G6+G11+G16+G17+G18+G19","v":0},null,null,null,null,null,null,null,{"$f":"O6+O11+O16+O17+O18+O19","v":0},null,null,null,null,null,null,null,{"$f":"W6+W11+W16+W17+W18+W19","v":0}]
["傷\n\n\n\n害",7,"治　　療　　費"]
[null,8,"付　　添　　費"]
[null,null,"(単価 × 要付添日)",null,null,null,"@",null,null,null,"×",null,null,"日","@",null,null,null,"×",null,null,"日","@",null,null,null,"×",null,null,"日"]
[null,9,"入　院　雑　費"]
[null,null,"(単価 × 入院日数)",null,null,null,"@",1500,null,null,"×",null,null,"日","@",null,null,null,"×",null,null,"日","@",null,null,null,"×",null,null,"日"]
[null,10,"通 院 交 通 費"]
[null,null,"(単価 × 認定通院日数)",null,null,null,"@",null,null,null,"×",null,null,"日","@",null,null,null,"×",null,null,"日","@",null,null,null,"×",null,null,"日"]
[null,11,"休　業　損　害",null,null,null,null,null,null,null,null,null,null,null,null,null,null,null,null,null,null,null,null,null,null,null,null,null,null,null,null,null,"元の表に戻る"]
[null,null,"(単価 × 認定休業日数)",null,null,null,"@",null,null,null,"×",null,null,"日","@",null,null,null,"×",null,null,"日","@",null,null,null,"×",null,null,"日",null,null,"元の表に戻る"]
[null,12,"慰　　謝　　料",null,null,null,null,null,null,null,null,null,null,null,null,null,null,null,null,null,null,null,null,null,null,null,null,null,null,null,null,null,"元の表に戻る"]
[null,null,"(入院及び通院日数)",null,null,null,null,null,null,null,"入院",null,null,"日",null,null,null,null,"入院",null,null,"日",null,null,null,null,"入院",null,null,"日"]
[null,null,null,null,null,null,null,null,null,null,"通院実",null,null,"日",null,null,null,null,"通院実",null,null,"日",null,null,null,null,"通院実",null,null,"日"]
[null,null,null,null,null,null,null,null,null,null,"延",null,null,"日",null,null,null,null,"延",null,null,"日",null,null,null,null,"延",null,null,"日"]
[null,13,"文書料"]
[null,14]
[null,15,"小　計（7～14）",null,null,null,{"$f":"G21+G22+G24+G26+G28+G30+G34","v":0},null,null,null,null,null,null,null,{"$f":"O21+O22+O24+O26+O28+O30+O34","v":0},null,null,null,null,null,null,null,{"$f":"W21+W22+W24+W26+W28+W30+W34","v":0}]
[null,16,"物　損（衣類・自転車等）"]
[null,17,"総　計（1～16）",null,null,null,{"$f":"G20+G36+G37","v":0},null,null,null,null,null,null,null,{"$f":"O20+O36+O37","v":0},null,null,null,null,null,null,null,{"$f":"W20+W36+W37","v":0}]
[null,18,"過 失 相 殺（％）"]
[null,null,"(好意同乗・素因減額)"]
[]
[null,19,"賠償額 ｛総計(17)×(100-過失(18))｝",null,null,null,{"$f":"G38*(1-G39)","v":0},null,null,null,null,null,null,null,{"$f":"O38*(1-O39)","v":0},null,null,null,null,null,null,null,{"$f":"W38*(1-W39)","v":0}]
[null,20,"自賠責保険(被害者請求)"]
[null,null,"任　意　保　険"]
[null,null,"人身傷害保険(求償額)"]
[null,null,"労災","療養･介護給付"]
[null,null,null,"(控除対象区分№)"]
[null,null,null,"休業･遺族年金給付"]
[null,null,null,"(控除対象区分№)"]
[null,null,null,"葬祭給付"]
[null,null,null,"(控除対象区分№)"]
[null,null,null,"相殺不可額",null,null,"△",null,null,null,null,null,null,null,"△",null,null,null,null,null,null,null,"△"]
[null,null,"既　払　合　計",null,null,null,{"$f":"G43+G44+G45+G46+G48+G50","v":0},null,null,null,null,null,null,null,{"$f":"O43+O44+O45+O46+O48+O50","v":0},null,null,null,null,null,null,null,{"$f":"W43+W44+W45+W46+W48+W50","v":0}]
[null,21,"差引額\n(賠償額(19)－既払(20))",null,null,null,{"$f":"G42-G53","v":0},null,null,null,null,null,null,null,{"$f":"O42-O53","v":0},null,null,null,null,null,null,null,{"$f":"W42-W53","v":0}]
["摘　　要"]
[]
["※争点について　合意項目に○、重要争点は×、非重要争点は△をつける",null,null,null,null,null,null,null,null,null,null,null,null,null,null,null,null,null,null,null,null,null,null,null,null,null,null,null,null,null,"（単位：円）"]

{"sheet":"算定死亡-既払","index":10,"n_rows":147,"n_cols":7,"rows_kept":147,"cut":false,"hidden":false,"merged":[]}
["既払【死亡時】",null,null,null,null,"メニューに戻る"]
[null,"被害者の主張",null,null,"↓転送ボタン","計算エリア"]
[null,null,"[自賠責保険（被害者請求）]","保険金"]
[null,null,"[任意保険]","保険金"]
[null,"[人身傷害保険（求償額）]"]
[null,"受取額","17.総計","18.過失相殺(％)","求償額"]
[null,null,{"$f":"算定死亡!G38","v":0},{"$f":"算定死亡!$G$39","v":0},{"$f":"IF(AND(B7>0,B7-C7*D7>0),B7-C7*D7,0)","v":0}]
[]
[null,"[療養・介護給付]","療養給付額","介護給付額","給付合計"]
[null,null,null,null,{"$f":"C10+D10","v":0}]
[null,"控除対象チェック↓_"]
[null,"費目","損害額","素因減額・過失相殺","相殺後賠償額"]
[null,"7.治療費",{"$f":"算定死亡!G21","v":0},{"$f":"$D$7","v":0},{"$f":"IF(G13,C13*(1-D13),0)","v":0},null,false]
[null,"8.付添費",{"$f":"算定死亡!G22","v":0},0,0,null,false]
[null,"9.入院雑費",{"$f":"算定死亡!G24","v":0},0,0,null,false]
[null,"10.通院交通費",{"$f":"算定死亡!G26","v":0},0,0,null,false]
[null,{"$f":"\"13.\"& 算定死亡!C34","v":"13.文書料"},{"$f":"算定死亡!G34","v":0},0,0,null,false]
[null,{"$f":"\"14.\"&算定死亡!C35","v":"14."},{"$f":"算定死亡!G35","v":0},0,0,"相殺不可額",false]
[null,null,null,"計",{"$f":"SUM(E13:E18)","v":0},{"$f":"IF(E10-E19<0,0,E10-E19)","v":0}]
[null,null,null,null,"選択された控除対象＞",{"$f":"IF(G13,\"(7)\",\"\") & IF(G14,\"(8)\",\"\")& IF(G15,\"(9)\",\"\")& IF(G16,\"(10)\",\"\")& IF(G17,\"(13)\",\"\")& IF(G18,\"(14)\",\"\")","v":""}]
[]
[null,"[休業・障害補償給付]","休業給付額","遺族補償年金給付額","給付合計"]
[null,null,null,null,{"$f":"C23+D23","v":0}]
[null,"控除対象チェック↓_"]
[null,"費目","損害額","素因減額・過失相殺","相殺後賠償額"]
[null,"1-1.逸失利益",{"$f":"算定死亡!G6","v":0},{"$f":"$D$7","v":0},{"$f":"IF(G26,C26*(1-D26),0)","v":0},null,false]
[null,"1-2.年金の逸失利益",{"$f":"算定死亡!G11","v":0},{"$f":"$D$7","v":0},{"$f":"IF(G27,C27*(1-D27),0)","v":0},null,false]
[null,{"$f":"\"4.\"&算定死亡!C18","v":"4."},{"$f":"算定死亡!G18","v":0},{"$f":"$D$7","v":0},{"$f":"IF(G28,C28*(1-D28),0)","v":0},null,false]
[null,{"$f":"\"5.\"&算定死亡!C19","v":"5."},{"$f":"算定死亡!G19","v":0},{"$f":"$D$7","v":0},{"$f":"IF(G29,C29*(1-D29),0)","v":0},null,false]
[null,"11.休業損害",{"$f":"算定死亡!G28","v":0},{"$f":"$D$7","v":0},{"$f":"IF(G30,C30*(1-D30),0)","v":0},"相殺不可額",false]
[null,null,null,"計",{"$f":"SUM(E26:E30)","v":0},{"$f":"IF(E23-E31<0,0,E23-E31)","v":0}]
[null,null,null,null,"選択された控除対象＞",{"$f":" IF(G26,\"(1-1)\",\"\")& IF(G27,\"(1-2)\",\"\")& IF(G28,\"(4)\",\"\")& IF(G29,\"(5)\",\"\")& IF(G30,\"(11)\",\"\")","v":""}]
[null,"[葬祭給付]"]
[null,"葬祭給付額"]
[]
[]
[null,"費目","損害額","18.過失相殺(％)","相殺後賠償額"]
[null,"2.葬儀費",{"$f":"算定死亡!G16","v":0},{"$f":"$D$7","v":0},{"$f":"IF(G38,C38*(1-D38),0)","v":0},"相殺不可額"]
[null,null,null,"計",{"$f":"SUM(E38)","v":0},{"$f":"IF(B35-E39<0,0,E31-E39)","v":0}]
[null,null,null,null,null,{"$f":" IF(B35>0,\"(2)\",\"\")","v":""}]
[null,"≪サマリー≫"]
[null,"17.総計","18.過失相殺(%)","19.賠償額","控除額計"]
[null,{"$f":"算定死亡!G38","v":0},{"$f":"$D$7","v":0},{"$f":"算定死亡!G42","v":0},{"$f":"E3+E4+E7+C10+C23","v":0}]
[null,null,null,null,"相殺不可額合計"]
[null,null,null,null,{"$f":"F19+F31+F39","v":0}]
[null,null,null,null,"20.既払合計"]
[null,null,null,null,{"$f":"算定死亡!G53","v":0}]
[null,null,null,null,"21.差引額"]
[null,null,null,null,{"$f":"算定死亡!G54","v":0}]
[]
[null,"加害者の主張",null,null,"↓転送ボタン","計算エリア"]
[null,null,"[自賠責保険（被害者請求）]","保険金"]
[null,null,"[任意保険]","保険金"]
[null,"[人身傷害保険（求償額）]"]
[null,"受取額","17.総計","18.過失相殺(％)","求償額"]
[null,null,{"$f":"算定死亡!O38","v":0},{"$f":"算定死亡!O39","v":0},{"$f":"IF(AND(B56>0,B56-C56*D56>0),B56-C56*D56,0)","v":0}]
[]
[null,"[療養・介護給付]","療養給付額","介護給付額","給付合計"]
[null,null,null,null,{"$f":"C59+D59","v":0}]
[null,"控除対象チェック↓_"]
[null,"費目","損害額","素因減額・過失相殺","相殺後賠償額"]
[null,"7.治療費",{"$f":"算定死亡!O21","v":0},{"$f":"$D$56","v":0},{"$f":"IF(G62,C62*(1-D62),0)","v":0},null,false]
[null,"8.付添費",{"$f":"算定死亡!O22","v":0},0,0,null,false]
[null,"9.入院雑費",{"$f":"算定死亡!O24","v":0},0,0,null,false]
[null,"10.通院交通費",{"$f":"算定死亡!O26","v":0},0,0,null,false]
[null,{"$f":"\"13.\"& 算定死亡!C34","v":"13.文書料"},{"$f":"算定死亡!O34","v":0},0,0,null,false]
[null,{"$f":"\"14.\"&算定死亡!C35","v":"14."},{"$f":"算定死亡!O35","v":0},0,0,"相殺不可額",false]
[null,null,null,"計",{"$f":"SUM(E62:E67)","v":0},{"$f":"IF(E59-E68<0,0,E59-E68)","v":0},false]
[null,null,null,null,"選択された控除対象＞",{"$f":"IF(G62,\"(7)\",\"\") & IF(G63,\"(8)\",\"\")& IF(G64,\"(9)\",\"\")& IF(G65,\"(10)\",\"\")& IF(G66,\"(13)\",\"\")& IF(G67,\"(14)\",\"\")","v":""}]
[]
[null,"[休業・障害補償給付]","休業給付額","遺族補償年金給付額","給付合計"]
[null,null,null,null,{"$f":"C72+D72","v":0}]
[null,"控除対象チェック↓_"]
[null,"費目","損害額","素因減額・過失相殺","相殺後賠償額"]
[null,"1-1.逸失利益",{"$f":"算定死亡!O6","v":0},{"$f":"$D$56","v":0},{"$f":"IF(G75,C75*(1-D75),0)","v":0},null,false]
[null,"1-2.年金の逸失利益",{"$f":"算定死亡!O11","v":0},{"$f":"$D$56","v":0},{"$f":"IF(G76,C76*(1-D76),0)","v":0}]
[null,{"$f":"\"4.\"&算定死亡!C18","v":"4."},{"$f":"算定死亡!O18","v":0},{"$f":"$D$56","v":0},{"$f":"IF(G77,C77*(1-D77),0)","v":0}]
[null,{"$f":"\"5.\"&算定死亡!C19","v":"5."},{"$f":"算定死亡!O19","v":0},{"$f":"$D$56","v":0},{"$f":"IF(G78,C78*(1-D78),0)","v":0}]
[null,"11.休業損害",{"$f":"算定死亡!O28","v":0},{"$f":"$D$56","v":0},{"$f":"IF(G79,C79*(1-D79),0)","v":0},"相殺不可額",false]
[null,null,null,"計",{"$f":"SUM(E75:E79)","v":0},{"$f":"IF(E72-E80<0,0,E72-E80)","v":0}]
[null,null,null,null,"選択された控除対象＞",{"$f":" IF(G75,\"(1-1)\",\"\")& IF(G76,\"(1-2)\",\"\")& IF(G77,\"(4)\",\"\")& IF(G78,\"(5)\",\"\")& IF(G79,\"(11)\",\"\")","v":""}]
[null,"[葬祭給付]"]
[null,"葬祭給付額"]
[]
[]
[null,"費目","損害額","18.過失相殺(％)","相殺後賠償額"]
[null,"2.葬儀費",{"$f":"算定死亡!O16","v":0},{"$f":"$D$56","v":0},{"$f":"IF(G87,C87*(1-D87),0)","v":0},"相殺不可額"]
[null,null,null,"計",{"$f":"SUM(E87)","v":0},{"$f":"IF(B84-E88<0,0,B84-E88)","v":0}]
[null,null,null,null,null,{"$f":" IF(B84>0,\"(2)\",\"\")","v":""}]
[null,"≪サマリー≫"]
[null,"17.総計","18.過失相殺(%)","19.賠償額","控除額計"]
[null,{"$f":"算定死亡!O38","v":0},{"$f":"$D$56","v":0},{"$f":"算定死亡!O42","v":0},{"$f":"E52+E53+E56+C59+C72","v":0}]
[null,null,null,null,"相殺不可額合計"]
[null,null,null,null,{"$f":"F68+F80+F88","v":0}]
[null,null,null,null,"20.既払合計"]
[null,null,null,null,{"$f":"算定死亡!O53","v":0}]
[null,null,null,null,"21.差引額"]
[null,null,null,null,{"$f":"算定死亡!O54","v":0}]
[]
[null,"斡旋案",null,null,"↓転送ボタン","計算エリア"]
[null,null,"[自賠責保険（被害者請求）]","保険金"]
[null,null,"[任意保険]","保険金"]
[null,"[人身傷害保険（求償額）]"]
[null,"受取額","17.総計","18.過失相殺(％)","求償額"]
[null,null,{"$f":"算定死亡!W38","v":0},{"$f":"算定死亡!W39","v":0},{"$f":"IF(AND(B105>0,B105-C105*D105>0),B105-C105*D105,0)","v":0}]
[]
[null,"[療養・介護給付]","療養給付額","介護給付額","給付合計"]
[null,null,null,null,{"$f":"C108+D108","v":0}]
[null,"控除対象チェック↓_"]
[null,"費目","損害額","素因減額・過失相殺","相殺後賠償額"]
[null,"7.治療費",{"$f":"算定死亡!W21","v":0},{"$f":"$D$105","v":0},{"$f":"IF(G111,C111*(1-D111),0)","v":0},null,false]
[null,"8.付添費",{"$f":"算定死亡!W22","v":0},0,0,null,false]
[null,"9.入院雑費",{"$f":"算定死亡!W24","v":0},0,0,null,false]
[null,"10.通院交通費",{"$f":"算定死亡!W26","v":0},0,0,null,false]
[null,{"$f":"\"13.\"& 算定死亡!C34","v":"13.文書料"},{"$f":"算定死亡!W34","v":0},0,0,null,false]
[null,{"$f":"\"14.\"&算定死亡!C35","v":"14."},{"$f":"算定死亡!W35","v":0},0,0,"相殺不可額",false]
[null,null,null,"計",{"$f":"SUM(E111:E116)","v":0},{"$f":"IF(E108-E117<0,0,E108-E117)","v":0}]
[null,null,null,null,"選択された控除対象＞",{"$f":"IF(G111,\"(7)\",\"\") & IF(G112,\"(8)\",\"\")& IF(G113,\"(9)\",\"\")& IF(G114,\"(10)\",\"\")& IF(G115,\"(13)\",\"\")& IF(G116,\"(14)\",\"\")","v":""}]
[]
[null,"[休業・障害補償給付]","休業給付額","遺族補償年金給付額","給付合計"]
[null,null,null,null,{"$f":"C121+D121","v":0}]
[null,"控除対象チェック↓_"]
[null,"費目","損害額","素因減額・過失相殺","相殺後賠償額"]
[null,"1-1.逸失利益",{"$f":"算定死亡!W6","v":0},{"$f":"$D$105","v":0},{"$f":"IF(G124,C124*(1-D124),0)","v":0},null,false]
[null,"1-2.年金の逸失利益",{"$f":"算定死亡!W11","v":0},{"$f":"$D$105","v":0},{"$f":"IF(G125,C125*(1-D125),0)","v":0},null,false]
[null,{"$f":"\"4.\"&算定死亡!C18","v":"4."},{"$f":"算定死亡!W18","v":0},{"$f":"$D$105","v":0},{"$f":"IF(G126,C126*(1-D126),0)","v":0},null,false]
[null,{"$f":"\"5.\"&算定死亡!C19","v":"5."},{"$f":"算定死亡!W19","v":0},{"$f":"$D$105","v":0},{"$f":"IF(G127,C127*(1-D127),0)","v":0},null,false]
[null,"11.休業損害",{"$f":"算定死亡!W28","v":0},{"$f":"$D$105","v":0},{"$f":"IF(G128,C128*(1-D128),0)","v":0},"相殺不可額",false]
[null,null,null,"計",{"$f":"SUM(E124:E128)","v":0},{"$f":"IF(E121-E129<0,0,E121-E129)","v":0}]
[null,null,null,null,"選択された控除対象＞",{"$f":" IF(G124,\"(1-1)\",\"\")& IF(G125,\"(1-2)\",\"\")& IF(G126,\"(4)\",\"\")& IF(G127,\"(5)\",\"\")& IF(G128,\"(11)\",\"\")","v":""}]
[null,"[葬祭給付]"]
[null,"葬祭給付額"]
[]
[]
[null,"費目","損害額","18.過失相殺(％)","相殺後賠償額"]
[null,"2.葬儀費",{"$f":"算定死亡!W16","v":0},{"$f":"$D$105","v":0},{"$f":"IF(G136,C136*(1-D136),0)","v":0},"相殺不可額"]
[null,null,null,"計",{"$f":"SUM(E131:E136)","v":0},{"$f":"IF(B133-E137<0,0,B133-E137)","v":0}]
[null,null,null,null,null,{"$f":" IF(B133>0,\"(2)\",\"\")","v":""}]
[null,"≪サマリー≫"]
[null,"17.総計","18.過失相殺(%)","19.賠償額","控除額計"]
[null,{"$f":"算定死亡!W38","v":0},{"$f":"$D$105","v":0},{"$f":"算定死亡!W42","v":0},{"$f":"E101+E102+E105+C108+C121","v":0}]
[null,null,null,null,"相殺不可額合計"]
[null,null,null,null,{"$f":"F117+F129+F137","v":0}]
[null,null,null,null,"20.既払合計"]
[null,null,null,null,{"$f":"算定死亡!W53","v":0}]
[null,null,null,null,"21.差引額"]
[null,null,null,null,{"$f":"算定死亡!W54","v":0}]

{"sheet":"賃セＲ５","index":11,"n_rows":112,"n_cols":36,"rows_kept":112,"cut":false,"hidden":true,"merged":[[4,26,4,35],[5,2,6,2],[5,3,6,3],[5,4,6,4],[5,5,6,5],[5,27,6,27],[5,26,6,26],[5,28,6,28],[5,29,6,29],[5,30,6,30],[5,32,6,32],[5,35,6,35],[4,0,6,1],[4,2,4,11],[4,12,6,13],[4,14,4,23],[4,24,6,25],[5,6,6,6],[5,8,6,8],[5,11,6,11],[5,14,6,14],[5,15,6,15],[5,16,6,16],[5,17,6,17],[5,18,6,18],[5,20,6,20],[5,23,6,23]]}
["令和５年賃金構造基本統計調査"]
["第１表　　年齢階級別きまって支給する現金給与額、所定内給与額及び年間賞与その他特別給与額"]
["産業",null,"産業計"]
[]
["区　分",null,"企業規模計（10人以上）",null,null,null,null,null,null,null,null,null,"区　分",null,"企業規模計（10人以上）",null,null,null,null,null,null,null,null,null,"区　分",null,"企業規模計（10人以上）"]
[null,null,"年齢","勤続\n年数","所定内\n実労働\n時間数","超過\n実労働\n時間数","きまって\n支給す\nる現金\n給与額",null,"年間賞与その他特別給与額","年額計","日額","労働者数",null,null,"年齢","勤続\n年数","所定内\n実労働\n時間数","超過\n実労働\n時間数","きまって\n支給す\nる現金\n給与額",null,"年間賞与その他特別給与額","年額計","日額","労働者数",null,null,"年齢","勤続\n年数","所定内\n実労働\n時間数","超過\n実労働\n時間数","きまって\n支給す\nる現金\n給与額",null,"年間賞与その他特別給与額","年額計","日額","労働者数"]
[null,null,null,null,null,null,null,"所定内\n給与額",null,null,"÷365",null,null,null,null,null,null,null,null,"所定内\n給与額",null,null,"÷365",null,null,null,null,null,null,null,null,"所定内\n給与額",null,null,"÷365"]
[null,null,"歳","年","時間","時間","千円","千円","千円",null,null,"十人"]
[0,"男女計\n学歴計",43.9,12.4,166,12,346.7,318.3,909,{"$f":"G9*12+I9","v":5069.3999999999996},{"$f":"J9/365*1000","v":13888.767123287669},2996709,null,"男\n学歴計",44.6,13.8,168,14,385.4,350.9,1073.4000000000001,{"$f":"S9*12+U9","v":5698.1999999999989},{"$f":"V9/365*1000","v":15611.506849315065},1890589,null,"女\n学歴計",42.6,9.9,163,8,280.7,262.60000000000002,628.1,{"$f":"AE9*12+AG9","v":3996.4999999999995},{"$f":"AH9/365*1000","v":10949.31506849315},1106120]
[1,"　　～１９歳",19.100000000000001,0.9,167,9,206,190,148.69999999999999,{"$f":"G10*12+I10","v":2620.6999999999998},7180,24098,null,"　　～１９歳",19.100000000000001,0.9,166,10,209.6,191.1,160.69999999999999,2675.8999999999996,7331.2328767123272,13695,null,"　　～１９歳",19.100000000000001,1,169,9,201.4,188.4,132.80000000000001,2549.6000000000004,6985.2054794520554,10402]
[2,"２０～２４歳",23,2.1,167,12,247.7,224.6,378.9,3351.2999999999997,9181.6438356164381,223105,null,"２０～２４歳",23,2.2999999999999998,168,15,257.8,229.3,421.7,3515.3,9630.9589041095878,114424,null,"２０～２４歳",23,2,166,9,237.2,219.6,333.9,3180.2999999999997,8713.1506849315065,108681]
[3,"２５～２９歳",27.5,4.2,166,14,289.8,258.3,663.1,4140.7000000000007,11344.383561643837,319567,null,"２５～２９歳",27.5,4.5,168,17,305.7,267.8,724.9,4393.2999999999993,12036.438356164383,181113,null,"２５～２９歳",27.4,3.9,164,10,269.10000000000002,245.8,582.4,3811.6000000000004,10442.739726027397,138454]
[4,"３０～３４歳",32.5,6.9,165,14,319.39999999999998,286,802.1,4634.8999999999996,12698.356164383562,290662,null,"３０～３４歳",32.5,7.3,167,17,343.6,302.10000000000002,912.7,5035.9000000000005,13796.986301369865,180566,null,"３０～３４歳",32.4,6.3,163,8,279.8,259.60000000000002,620.6,3978.2000000000003,10899.178082191782,110096]
[5,"３５～３９歳",37.5,9.6,165,13,349.3,314.8,938.1,5129.7000000000007,14053.972602739728,313027,null,"３５～３９歳",37.5,10.1,167,16,380.7,337.9,1074.5,5642.9,15459.999999999998,206482,null,"３５～３９歳",37.6,8.6,161,7,288.39999999999998,270.10000000000002,673.8,4134.5999999999995,11327.67123287671,106544]
[6,"４０～４４歳",42.5,12.2,166,12,370.4,338.8,1030.9000000000001,5475.6999999999989,15001.917808219176,351570,null,"４０～４４歳",42.5,13.1,168,15,410.9,371.8,1201.3,6132.0999999999995,16800.273972602739,229365,null,"４０～４４歳",42.5,10.5,162,7,294.2,276.8,711.2,4241.5999999999995,11620.821917808218,122205]
[7,"４５～４９歳",47.6,14.9,166,11,385.7,355.7,1119.8,5748.2,15748.493150684932,418135,null,"４５～４９歳",47.6,16.399999999999999,168,14,433.2,396.9,1314,6512.4,17842.191780821919,268753,null,"４５～４９歳",47.6,12.2,162,8,300.2,281.7,770.5,4372.8999999999996,11980.547945205479,149382]
[8,"５０～５４歳",52.4,17.8,166,11,399.2,371.1,1196.3,5986.7,16401.917808219179,411748,null,"５０～５４歳",52.4,20,168,12,451.3,417.7,1434.6,6850.2000000000007,18767.671232876713,266155,null,"５０～５４歳",52.4,13.9,162,7,304.2,285.89999999999998,760.6,4411,12084.931506849316,145593]
[9,"５５～５９歳",57.4,20.3,165,10,402.8,376.4,1219.0999999999999,6052.7000000000007,16582.739726027397,313400,null,"５５～５９歳",57.4,22.8,167,12,458.9,427.4,1474.8,6981.5999999999995,19127.67123287671,203708,null,"５５～５９歳",57.4,15.6,162,7,298.5,281.7,744.3,4326.3,11852.876712328767,109692]
[10,"６０～６４歳",62.3,18.8,164,8,324.39999999999998,305.89999999999998,723.6,4616.3999999999996,12647.67123287671,209813,null,"６０～６４歳",62.4,20.2,166,10,356,334.2,843.1,5115.1000000000004,14013.972602739726,142004,null,"６０～６４歳",62.3,15.8,161,6,258.3,246.6,473.2,3572.8,9788.4931506849316,67809]
[11,"６５～６９歳",67.2,16.7,163,7,284.60000000000002,269.8,362,3777.2000000000003,10348.493150684932,78834,null,"６５～６９歳",67.2,16.8,165,8,309.7,293.3,403,4119.3999999999996,11286.027397260274,54501,null,"６５～６９歳",67.2,16.5,159,6,228.5,217.1,270.3,3012.3,8252.8767123287671,24333]
[12,"７０歳～",73.2,17.7,162,6,265.89999999999998,254.4,270.3,3461.1,9482.465753424658,42751,null,"７０歳～",73.3,17.2,164,6,283.39999999999998,270.7,278.2,3678.9999999999995,10079.452054794519,29823,null,"７０歳～",73,19,159,5,225.4,216.8,252.1,2956.9,8101.0958904109602,12928]
[13,"中学",49.2,13.2,169,14,308.10000000000002,275.89999999999998,489.4,4186.6000000000004,11470.136986301372,67989,null,"中学",49.6,14.2,171,16,330.9,293.3,545.1,4515.8999999999996,12372.328767123287,52911,null,"中学",47.7,9.4,163,7,227.8,214.7,293.7,3027.3,8293.9726027397264,15078]
[14,"　　～１９歳",18.5,1.6,163,7,195.3,185.5,90.1,2433.7000000000003,6667.6712328767126,500,null,"　　～１９歳",18.3,1.5,163,6,200.9,191.6,128.69999999999999,2539.5,6957.534246575342,331,null,"　　～１９歳",18.899999999999999,1.9,164,9,184.2,173.5,14.4,2224.7999999999997,6095.3424657534242,169]
[15,"２０～２４歳",22.8,2.6,167,14,245.7,219.7,172.2,3120.5999999999995,8549.5890410958891,1940,null,"２０～２４歳",22.9,2.6,169,14,260.89999999999998,232.2,204.4,3335.2,9137.534246575342,1366,null,"２０～２４歳",22.6,2.5,163,12,209.7,190,95.7,2612.0999999999995,7156.4383561643817,573]
[16,"２５～２９歳",27.9,4.2,174,13,281.7,252.2,359.9,3740.2999999999997,10247.397260273972,4250,null,"２５～２９歳",27.9,4.4000000000000004,179,15,304.2,268.3,360.9,4011.2999999999997,10989.86301369863,3122,null,"２５～２９歳",27.8,3.9,160,6,219.5,207.3,357,2991,8194.520547945207,1128]
[17,"３０～３４歳",32.799999999999997,6.5,167,12,285.2,256.8,426.2,3848.5999999999995,10544.109589041094,4663,null,"３０～３４歳",32.700000000000003,7.2,169,14,310,275.3,521,4241,11619.17808219178,3223,null,"３０～３４歳",32.9,5,164,9,229.7,215.3,214.3,2970.7,8138.9041095890398,1441]
[18,"３５～３９歳",37.6,8.1,169,18,318.2,277.10000000000002,530.29999999999995,4348.7,11914.246575342466,6811,null,"３５～３９歳",37.6,8.9,170,22,342.6,292.8,615,4726.2000000000007,12948.493150684933,5170,null,"３５～３９歳",37.700000000000003,5.4,164,8,241.4,227.5,263.60000000000002,3160.4,8658.6301369863013,1641]
[19,"４０～４４歳",42.5,9.6,172,14,323,289.10000000000002,517,4393,12035.616438356165,7648,null,"４０～４４歳",42.6,10.1,174,16,347.1,308.39999999999998,578.79999999999995,4744.0000000000009,12997.260273972604,6110,null,"４０～４４歳",42.1,7.8,163,9,227.3,212.5,271.39999999999998,2999.0000000000005,8216.4383561643845,1538]
[20,"４５～４９歳",47.8,13.2,169,16,330.9,293.2,596.4,4567.2,12512.876712328767,9123,null,"４５～４９歳",47.7,14.3,170,17,353.4,310.3,651.4,4892.1999999999989,13403.287671232874,7227,null,"４５～４９歳",47.8,8.6999999999999993,164,9,245,228.1,386.6,3326.6,9113.9726027397246,1895]
[21,"５０～５４歳",52.4,16.100000000000001,170,16,357.8,316.10000000000002,700.5,4994.1000000000004,13682.465753424658,10463,null,"５０～５４歳",52.4,17.5,172,18,383.1,335.7,768,5365.2000000000007,14699.178082191782,8570,null,"５０～５４歳",52.4,9.6999999999999993,164,8,243.3,227.6,395.2,3314.8,9081.6438356164399,1893]
[22,"５５～５９歳",57.4,18.100000000000001,168,14,347.1,312.8,673.1,4838.3000000000011,13255.616438356166,7156,null,"５５～５９歳",57.5,19.8,170,16,375.1,334.4,741.7,5242.9000000000005,14364.109589041098,5557,null,"５５～５９歳",57,12.3,162,6,250,237.6,434.6,3434.6,9409.8630136986303,1599]
[23,"６０～６４歳",62.4,18.5,168,13,284.10000000000002,256.7,368.7,3777.9,10350.410958904111,5813,null,"６０～６４歳",62.4,19.3,169,15,302.10000000000002,270.60000000000002,398.9,4024.1000000000004,11024.931506849316,4679,null,"６０～６４歳",62.5,15.5,164,5,209.8,199.2,244.5,2762.1000000000004,7567.3972602739732,1134]
[24,"６５～６９歳",67.5,19.399999999999999,166,10,251.6,233,248.8,3268,8953.4246575342459,4687,null,"６５～６９歳",67.400000000000006,20.399999999999999,167,11,267.3,245.9,270.8,3478.4000000000005,9529.8630136986321,3734,null,"６５～６９歳",67.7,15.2,162,5,190.3,182.3,162.80000000000001,2446.4000000000005,6702.4657534246589,953]
[25,"７０歳～",73.8,19.3,164,7,228.6,216,184.7,2927.8999999999996,8021.6438356164372,4935,null,"７０歳～",73.900000000000006,19.5,166,9,238.8,223.5,186,3051.6000000000004,8360.5479452054806,3822,null,"７０歳～",73.7,18.899999999999999,157,2,193.6,190.5,180.1,2503.2999999999997,6858.356164383561,1113]
[26,"高校",45.6,13.6,167,13,312,281.89999999999998,723.1,4467.1000000000004,12238.630136986301,1044396,null,"高校",45.7,14.8,169,16,343.6,306.10000000000002,835.2,4958.4000000000005,13584.657534246579,710674,null,"高校",45.4,11.1,164,7,244.7,230.5,484.2,3420.5999999999995,9371.5068493150666,333722]
[27,"　　～１９歳",19.100000000000001,0.9,168,9,206.8,191.5,158.4,2640.0000000000005,7232.8767123287689,22132,null,"　　～１９歳",19.100000000000001,0.9,167,10,210.6,192.3,167.4,2694.6,7382.465753424658,12776,null,"　　～１９歳",19.100000000000001,1,169,7,201.5,190.4,146.19999999999999,2564.1999999999998,7025.2054794520545,9356]
[28,"２０～２４歳",22.5,3.2,169,15,245,216.2,489.6,3429.6,9396.1643835616433,79847,null,"２０～２４歳",22.5,3.3,169,18,258.10000000000002,222.4,541.5,3638.7000000000003,9969.0410958904104,49792,null,"２０～２４歳",22.5,3.1,168,10,223.3,205.9,403.7,3083.3,8447.3972602739741,30055]
[29,"２５～２９歳",27.5,5.6,169,15,271.7,240.7,541.9,3802.2999999999997,10417.260273972603,77193,null,"２５～２９歳",27.5,5.9,171,17,288,250.9,603.70000000000005,4059.7,11122.465753424658,54502,null,"２５～２９歳",27.5,4.8,164,9,232.5,216,393.4,3183.4,8721.6438356164381,22691]
[30,"３０～３４歳",32.5,8.1999999999999993,167,15,293.7,258.5,669.3,4193.7,11489.589041095889,76332,null,"３０～３４歳",32.5,8.6999999999999993,168,18,317,273.60000000000002,762.1,4566.1000000000004,12509.86301369863,53531,null,"３０～３４歳",32.6,7.1,163,8,239,223,451.4,3319.4,9094.2465753424658,22802]
[31,"３５～３９歳",37.5,9.8000000000000007,168,15,311.89999999999998,276.8,714,4456.7999999999993,12210.410958904107,90263,null,"３５～３９歳",37.5,10.4,170,18,339,295.39999999999998,811.6,4879.6000000000004,13368.767123287671,64376,null,"３５～３９歳",37.5,8.1999999999999993,163,7,244.4,230.5,471.4,3404.2000000000003,9326.5753424657541,25887]
[32,"４０～４４歳",42.5,12.5,167,14,328.1,293.39999999999998,798.4,4735.6000000000004,12974.246575342466,109225,null,"４０～４４歳",42.6,13.6,169,17,362.8,319.3,932.6,5286.2000000000007,14482.739726027399,75729,null,"４０～４４歳",42.5,9.9,164,7,249.8,234.9,495,3492.6000000000004,9568.7671232876728,33496]
[33,"４５～４９歳",47.6,15.4,168,14,344.7,310.39999999999998,873.3,5009.7,13725.205479452054,143607,null,"４５～４９歳",47.6,16.8,169,17,383.9,341,1008.8,5615.5999999999995,15385.205479452054,98765,null,"４５～４９歳",47.7,12.3,164,7,258.2,243,574.79999999999995,3673.2,10063.561643835616,44842]
[34,"５０～５４歳",52.4,17.7,167,13,351.6,319.7,916.7,5135.9000000000005,14070.95890410959,161228,null,"５０～５４歳",52.4,19.7,169,16,396.4,355.7,1075.8,5832.5999999999995,15979.726027397259,107375,null,"５０～５４歳",52.5,13.7,163,7,262.39999999999998,247.9,599.4,3748.2,10269.04109589041,53853]
[35,"５５～５９歳",57.4,20.2,167,12,352.6,322.5,934.2,5165.4000000000005,14151.78082191781,135695,null,"５５～５９歳",57.4,22.4,168,15,398.5,360.5,1104.9000000000001,5886.9,16128.493150684932,90560,null,"５５～５９歳",57.4,15.6,163,7,260.5,246.3,591.70000000000005,3717.7,10185.479452054795,45135]
[36,"６０～６４歳",62.4,19.7,166,9,285.8,266.10000000000002,576.79999999999995,4006.4000000000005,10976.438356164384,92608,null,"６０～６４歳",62.4,21.2,167,11,311.3,287.2,661.2,4396.8,12046.027397260275,63900,null,"６０～６４歳",62.3,16.399999999999999,162,5,229.2,219.1,388.9,3139.2999999999997,8600.8219178082181,28708]
[37,"６５～６９歳",67.2,16.8,165,8,250.4,236,285.89999999999998,3290.7000000000003,9015.6164383561645,35886,null,"６５～６９歳",67.2,16.600000000000001,166,9,265.60000000000002,249.1,302.2,3489.4,9560,25097,null,"６５～６９歳",67.3,17.2,161,5,215.1,205.6,248,2829.2,7751.2328767123281,10789]
[38,"７０歳～",73.2,18.2,162,7,237.3,225.5,213.9,3061.5000000000005,8387.6712328767153,20380,null,"７０歳～",73.2,17.5,163,8,248.6,234.4,200.8,3184,8723.2876712328762,14272,null,"７０歳～",73.2,19.8,160,4,211,204.7,244.4,2776.4,7606.5753424657541,6108]
[39,"専門学校",43,11.5,165,10,325.8,300.2,760.8,4670.4000000000005,12795.616438356166,395029,null,"専門学校",43.3,13.1,168,13,356.7,325.60000000000002,883.2,5163.5999999999995,14146.849315068492,208761,null,"専門学校",42.6,9.6,162,7,291.2,271.8,623.70000000000005,4118.0999999999995,11282.465753424656,186268]
[40,"　　～１９歳","-","-","-","-","-","-","-",null,null,"-",null,"　　～１９歳","-","-","-","-","-","-","-",null,null,"-",null,"　　～１９歳","-","-","-","-","-","-","-",null,null,"-"]
[41,"２０～２４歳",22.8,1.8,166,9,241.5,223,299.39999999999998,{"$f":"G50*12+I50","v":3197.4},{"$f":"J50/365*1000","v":8760},33535,null,"２０～２４歳",22.8,1.9,168,12,245.4,223.1,326.5,{"$f":"S50*12+U50","v":3271.3},{"$f":"V50/365*1000","v":8962.465753424658},14614,null,"２０～２４歳",22.7,1.8,165,7,238.5,222.8,278.60000000000002,{"$f":"AE50*12+AG50","v":3140.6},{"$f":"AH50/365*1000","v":8604.3835616438355},18920]
[42,"２５～２９歳",27.5,4.4000000000000004,165,11,275.3,249.2,551.29999999999995,3854.9000000000005,10561.369863013701,38803,null,"２５～２９歳",27.6,4.5999999999999996,166,14,282.89999999999998,252,612.5,4007.2999999999997,10978.904109589041,17456,null,"２５～２９歳",27.4,4.2,164,8,269.10000000000002,246.9,501.1,3730.3,10220,21346]
[43,"３０～３４歳",32.6,6.6,165,12,297.89999999999998,269.7,619.1,4193.8999999999996,11490.13698630137,35625,null,"３０～３４歳",32.5,7,167,15,313.3,278.8,694.1,4453.7000000000007,12201.917808219181,19044,null,"３０～３４歳",32.6,6.1,162,7,280.2,259.3,533,3895.3999999999996,10672.328767123287,16581]
[44,"３５～３９歳",37.6,9.1999999999999993,165,11,316.8,288.60000000000002,721.5,4523.1000000000004,12392.054794520549,49547,null,"３５～３９歳",37.6,10.1,167,15,340.9,305.10000000000002,809.7,4900.5,13426.027397260274,29563,null,"３５～３９歳",37.6,8,162,6,281,264.10000000000002,590.9,3962.9,10857.260273972603,19984]
[45,"４０～４４歳",42.6,11.5,165,10,335,307.60000000000002,810.7,4830.7,13234.794520547945,51621,null,"４０～４４歳",42.6,12.6,168,13,368.4,334.5,929.9,5350.6999999999989,14659.452054794518,28582,null,"４０～４４歳",42.5,10.199999999999999,162,6,293.5,274.3,662.8,4184.8,11465.205479452055,23039]
[46,"４５～４９歳",47.5,14.2,166,10,361.2,333.2,945.5,5279.9,14465.479452054793,65115,null,"４５～４９歳",47.6,16.100000000000001,169,12,398.9,365.9,1073.7,5860.4999999999991,16056.16438356164,37319,null,"４５～４９歳",47.5,11.6,162,7,310.60000000000002,289.2,773.2,4500.4000000000005,12329.86301369863,27795]
[47,"５０～５４歳",52.3,16.600000000000001,165,9,371.8,345.3,998,5459.6,14957.808219178083,57070,null,"５０～５４歳",52.3,19.399999999999999,168,11,411.2,380.7,1184.9000000000001,6119.2999999999993,16765.205479452052,31851,null,"５０～５４歳",52.4,13.1,162,6,322,300.5,761.8,4625.8,12673.424657534246,25218]
[48,"５５～５９歳",57.4,18.2,165,8,374.8,349.7,1020.8,5518.4000000000005,15118.904109589042,35022,null,"５５～５９歳",57.3,21.7,168,11,428.2,397.7,1208.0999999999999,6346.5,17387.671232876713,16397,null,"５５～５９歳",57.4,15.1,162,6,327.9,307.5,856,4790.7999999999993,13125.479452054793,18625]
[49,"６０～６４歳",62.2,17.7,164,6,301.39999999999998,285,598.20000000000005,4215,11547.945205479453,20270,null,"６０～６４歳",62.3,19.8,166,9,320.7,301.2,624.70000000000005,4473.0999999999995,12255.068493150682,9809,null,"６０～６４歳",62.1,15.7,162,4,283.2,269.8,573.5,3971.8999999999996,10881.917808219176,10461]
[50,"６５～６９歳",67.099999999999994,16.2,163,5,283.5,271.2,398.7,3800.7,10412.876712328767,6242,null,"６５～６９歳",67.2,17.100000000000001,165,6,301.3,288.39999999999998,376.5,3992.1000000000004,10937.260273972603,3217,null,"６５～６９歳",67.099999999999994,15.4,161,4,264.60000000000002,253,422.3,3597.5000000000005,9856.1643835616451,3025]
[51,"７０歳～",73,15.1,162,5,261.89999999999998,251,265.39999999999998,3408.2,9337.534246575342,2181,null,"７０歳～",73.099999999999994,15.9,166,5,264.2,253.8,234.7,3405.0999999999995,9329.0410958904085,908,null,"７０歳～",72.900000000000006,14.4,160,5,260.2,249,287.39999999999998,3409.7999999999997,9341.9178082191775,1272]
[52,"高専・短大",44.6,13.1,164,8,318.7,297.39999999999998,922.8,4747.2,13006.027397260274,221355,null,"高専・短大",44.2,15.4,166,13,389.7,354.9,1244.5999999999999,5921,16221.917808219177,65046,null,"高専・短大",44.7,12.2,163,6,289.2,273.5,788.9,4259.2999999999993,11669.315068493148,156309]
[53,"　　～１９歳","-","-","-","-","-","-","-",null,null,"-",null,"　　～１９歳","-","-","-","-","-","-","-",null,null,"-",null,"　　～１９歳","-","-","-","-","-","-","-",null,null,"-"]
[54,"２０～２４歳",22.8,2.1,167,7,236,220,477.3,{"$f":"G63*12+I63","v":3309.3},{"$f":"J63/365*1000","v":9066.5753424657541},16876,null,"２０～２４歳",22.7,1.9,165,13,251.8,225.7,539.6,{"$f":"S63*12+U63","v":3561.2000000000003},{"$f":"V63/365*1000","v":9756.7123287671238},4068,null,"２０～２４歳",22.8,2.1,168,6,231,218.2,457.5,{"$f":"AE63*12+AG63","v":3229.5},{"$f":"AH63/365*1000","v":8847.945205479451},12808]
[55,"２５～２９歳",27.5,4.8,166,10,272.2,248.3,655.1,3921.4999999999995,10743.835616438355,19616,null,"２５～２９歳",27.8,5.3,167,19,308.89999999999998,267.39999999999998,766.6,4473.3999999999996,12255.890410958904,6190,null,"２５～２９歳",27.3,4.5999999999999996,166,6,255.3,239.5,603.70000000000005,3667.3,10047.397260273972,13426]
[56,"３０～３４歳",32.5,7.3,164,10,282.89999999999998,259.3,752.9,4147.7,11363.561643835617,17535,null,"３０～３４歳",32.6,7.7,165,17,323.8,283.3,926.2,4811.8,13183.013698630137,6616,null,"３０～３４歳",32.4,7,164,6,258.10000000000002,244.7,647.79999999999995,3745,10260.273972602739,10919]
[57,"３５～３９歳",37.6,10.4,163,10,309.3,284.10000000000002,868.5,4580.1000000000004,12548.219178082192,19419,null,"３５～３９歳",37.6,11.4,164,16,365.7,322.8,1164.9000000000001,5553.2999999999993,15214.520547945203,6877,null,"３５～３９歳",37.6,9.9,163,7,278.39999999999998,262.89999999999998,706.1,4046.8999999999996,11087.397260273972,12543]
[58,"４０～４４歳",42.7,12.2,164,9,328,304.2,963.2,4899.2,13422.465753424656,28191,null,"４０～４４歳",42.6,14,167,15,405.3,362.8,1275.4000000000001,6139,16819.178082191778,8876,null,"４０～４４歳",42.7,11.5,163,6,292.5,277.39999999999998,819.7,4329.7,11862.191780821917,19316]
[59,"４５～４９歳",47.6,14.9,163,8,338.3,315.8,1039,5098.6000000000004,13968.767123287673,39816,null,"４５～４９歳",47.5,18.600000000000001,166,13,439.6,401.9,1477.2,6752.4000000000005,18499.726027397261,9956,null,"４５～４９歳",47.7,13.7,162,7,304.5,287.10000000000002,892.9,4546.8999999999996,12457.260273972603,29860]
[60,"５０～５４歳",52.4,18.100000000000001,163,8,362.6,339.4,1206.3,5557.5000000000009,15226.027397260277,35089,null,"５０～５４歳",52.4,23,167,11,469.8,438.2,1755.1,7392.7000000000007,20253.97260273973,9408,null,"５０～５４歳",52.4,16.3,162,7,323.3,303.2,1005.3,4884.9000000000005,13383.287671232878,25681]
[61,"５５～５９歳",57.3,20.100000000000001,163,7,360,340.5,1166.7,5486.7,15032.054794520547,24453,null,"５５～５９歳",57.4,25.8,166,9,471.5,443.2,1771,7429,20353.424657534248,6544,null,"５５～５９歳",57.3,18.100000000000001,162,6,319.2,303,945.9,4776.2999999999993,13085.753424657532,17909]
[62,"６０～６４歳",62.2,18.3,164,5,302.7,290.8,755.1,4387.5,12020.547945205479,14943,null,"６０～６４歳",62.3,21.7,166,7,375.5,358.5,1092.8,5598.8,15339.17808219178,4442,null,"６０～６４歳",62.2,16.899999999999999,163,4,271.89999999999998,262.2,612.20000000000005,3875,10616.438356164384,10501]
[63,"６５～６９歳",67,18.899999999999999,165,5,275.3,265.39999999999998,475.9,3779.5000000000005,10354.794520547946,3882,null,"６５～６９歳",67.099999999999994,19.899999999999999,168,9,302.89999999999998,288.60000000000002,476,4110.7999999999993,11262.465753424654,1523,null,"６５～６９歳",67,18.3,163,3,257.5,250.5,475.8,3565.8,9769.3150684931516,2359]
[64,"７０歳～",72.7,19,163,2,277.39999999999998,272.8,508.9,3837.7,10514.246575342466,1534,null,"７０歳～",72.8,18.100000000000001,172,4,267.7,261.3,308.8,3521.2,9647.1232876712329,547,null,"７０歳～",72.7,19.5,159,2,282.7,279.10000000000002,619.70000000000005,4012.0999999999995,10992.054794520547,988]
[65,"男女計\n大学",41.6,12,165,11,398.3,369.4,1212.7,5992.3,16417.260273972603,937434,null,"男\n大学",43.6,13.6,167,12,431.6,399.9,1373.5,6552.7000000000007,17952.60273972603,653740,null,"女\n大学",37.1,8.1999999999999993,162,9,321.5,299.2,842.2,4700.2,12877.260273972603,283694]
[66,"　　～１９歳","-","-","-","-","-","-","-",null,null,"-",null,"　　～１９歳","-","-","-","-","-","-","-",null,null,"-",null,"　　～１９歳","-","-","-","-","-","-","-",null,null,"-"]
[67,"２０～２４歳",23.7,1.3,166,10,260.3,239.7,349,{"$f":"G76*12+I76","v":3472.6000000000004},{"$f":"J76/365*1000","v":9513.9726027397264},73606,null,"２０～２４歳",23.7,1.3,167,12,265.2,242.3,359.3,{"$f":"S76*12+U76","v":3541.7},{"$f":"V76/365*1000","v":9703.2876712328762},37286,null,"２０～２４歳",23.6,1.3,165,9,255.2,236.9,338.4,{"$f":"AE76*12+AG76","v":3400.7999999999997},{"$f":"AH76/365*1000","v":9317.2602739726026},36320]
[68,"２５～２９歳",27.5,3.7,165,14,306.10000000000002,272.60000000000002,804.9,4478.1000000000004,12268.767123287673,141263,null,"２５～２９歳",27.5,3.8,167,17,320.89999999999998,282.10000000000002,861.3,4712.0999999999995,12909.86301369863,76966,null,"２５～２９歳",27.4,3.6,164,11,288.3,261.10000000000002,737.5,4197.1000000000004,11498.904109589041,64298]
[69,"３０～３４歳",32.4,6.5,165,13,343.6,309,963.4,5086.6000000000004,13935.890410958906,119448,null,"３０～３４歳",32.5,6.7,167,16,363.9,323,1057.2,5423.9999999999991,14860.273972602738,74673,null,"３０～３４歳",32.4,6.2,163,9,309.7,285.7,807,4523.3999999999996,12392.876712328765,44774]
[70,"３５～３９歳",37.5,10,164,14,391.2,354.1,1218.5,5912.9,16199.726027397257,111970,null,"３５～３９歳",37.5,10.199999999999999,166,16,418.5,374.8,1343.2,6365.2,17438.904109589039,77189,null,"３５～３９歳",37.5,9.5,160,9,330.7,308.2,941.7,4910.0999999999995,13452.328767123285,34781]
[71,"４０～４４歳",42.4,12.9,166,11,426.9,394.7,1349,6471.7999999999993,17730.95890410959,114476,null,"４０～４４歳",42.5,13.4,168,13,457.1,420.4,1475.8,6961.0000000000009,19071.232876712329,83426,null,"４０～４４歳",42.4,11.6,160,8,345.8,325.60000000000002,1008.5,5158.1000000000004,14131.78082191781,31050]
[72,"４５～４９歳",47.5,15.8,166,10,459.4,430.9,1563.3,7076.0999999999995,19386.575342465752,117491,null,"４５～４９歳",47.6,16.7,168,11,490.7,460.2,1707.5,7595.9,20810.68493150685,88789,null,"４５～４９歳",47.5,12.9,160,8,362.4,340.3,1117,5465.7999999999993,14974.794520547943,28702]
[73,"５０～５４歳",52.4,19.899999999999999,167,8,497.6,473.5,1795.7,7766.9000000000005,21279.178082191786,106557,null,"５０～５４歳",52.5,21.1,168,8,524.5,499.3,1956,8250,22602.739726027397,84842,null,"５０～５４歳",52.2,15.1,162,7,392.6,372.4,1169.5,5880.7000000000007,16111.50684931507,21714]
[74,"５５～５９歳",57.4,23.2,164,8,521.5,499.1,1907.6,8165.6,22371.506849315068,79127,null,"５５～５９歳",57.4,24.3,165,8,543.29999999999995,520.6,2030.5,8550.0999999999985,23424.931506849312,66440,null,"５５～５９歳",57.3,17.5,161,8,407.4,386.1,1264.5,6153.2999999999993,16858.356164383556,12687]
[75,"６０～６４歳",62.4,19.899999999999999,163,7,401,383.3,1063,5875,16095.890410958906,49825,null,"６０～６４歳",62.4,20.6,164,7,409.1,390.6,1126.0999999999999,6035.3000000000011,16535.068493150688,42959,null,"６０～６４歳",62.1,15.5,162,5,350.2,338.1,667.7,4870.0999999999995,13342.739726027396,6866]
[76,"６５～６９歳",67.099999999999994,17.3,164,5,383.1,368.6,552.70000000000005,5149.9000000000005,14109.315068493153,16630,null,"６５～６９歳",67.099999999999994,17.7,164,6,390.7,375.2,575.20000000000005,5263.5999999999995,14420.821917808216,14824,null,"６５～６９歳",67.099999999999994,14.8,158,3,321.39999999999998,314.8,367.7,4224.5,11573.972602739726,1805]
[77,"７０歳～",73.2,17.600000000000001,163,3,379.7,370.3,484.8,5041.2,13811.506849315068,7043,null,"７０歳～",73.2,16.7,163,3,386.8,377.2,495.4,5137,14073.972602739726,6345,null,"７０歳～",73.3,25.9,156,2,314.39999999999998,307.60000000000002,389,4161.7999999999993,11402.191780821915,697]
[78,"大学院",42,11.8,163,11,511.5,476.7,1940.4,8078.4,22132.602739726026,113332,null,"大学院",42.4,12.5,164,12,528.1,491.1,2053.1,8390.3000000000011,22987.123287671235,93724,null,"大学院",40.4,8.4,162,8,432.2,407.8,1401.8,6588.2,18049.863013698628,19608]
[79,"　　～１９歳","-","-","-","-","-","-","-",null,null,"-",null,"　　～１９歳","-","-","-","-","-","-","-",null,null,"-",null,"　　～１９歳","-","-","-","-","-","-","-",null,null,"-"]
[80,"２０～２４歳",24.5,0.5,165,3,282.10000000000002,274,36.6,{"$f":"G89*12+I89","v":3421.8},{"$f":"J89/365*1000","v":9374.7945205479464},1977,null,"２０～２４歳",24.5,0.5,164,3,290,282.2,34.4,{"$f":"S89*12+U89","v":3514.4},{"$f":"V89/365*1000","v":9628.4931506849316},1415,null,"２０～２４歳",24.5,0.5,167,3,261.89999999999998,253.4,42.2,{"$f":"AE89*12+AG89","v":3184.9999999999995},{"$f":"AH89/365*1000","v":8726.0273972602736},561]
[81,"２５～２９歳",27.6,2.7,163,19,341.8,296.2,992.2,5093.8,13955.616438356165,16148,null,"２５～２９歳",27.6,2.8,163,20,347.3,298.3,1033.8,5201.4000000000005,14250.410958904111,12607,null,"２５～２９歳",27.4,2.2999999999999998,162,14,322,288.60000000000002,843.9,4707.8999999999996,12898.35616438356,3541]
[82,"３０～３４歳",32.5,6.1,162,18,407.9,360.2,1434.9,6329.6999999999989,17341.643835616433,17154,null,"３０～３４歳",32.5,6.2,162,19,416.8,365.3,1477.3,6478.9000000000005,17750.410958904111,14069,null,"３０～３４歳",32.4,5.5,160,11,367.2,337,1241.4000000000001,5647.7999999999993,15473.424657534246,3085]
[83,"３５～３９歳",37.5,9.5,163,14,485.6,439.3,1774.6,7601.8000000000011,20826.849315068495,16422,null,"３５～３９歳",37.4,9.9,163,15,499.1,450.4,1892.1,7881.3000000000011,21592.60273972603,13433,null,"３５～３９歳",37.6,7.8,159,9,424.8,389.6,1246.2,6343.8,17380.273972602739,2988]
[84,"４０～４４歳",42.4,12.9,164,12,537,498.3,2147.9,8591.9,23539.452054794521,17947,null,"４０～４４歳",42.4,13.4,164,12,550.20000000000005,509,2263.5,8865.9000000000015,24290.136986301375,15006,null,"４０～４４歳",42.3,10.5,161,8,469.7,443.8,1557.9,7194.2999999999993,19710.410958904107,2941]
[85,"４５～４９歳",47.5,15.4,164,8,589.20000000000005,559.9,2411.3000000000002,9481.7000000000007,25977.260273972603,15816,null,"４５～４９歳",47.5,16.2,165,8,609.70000000000005,578.6,2553.1999999999998,9869.6,27040.000000000004,13148,null,"４５～４９歳",47.6,11.1,160,6,488.1,468,1712,7569.2000000000007,20737.534246575342,2668]
[86,"５０～５４歳",52.3,19.3,165,5,627.79999999999995,609.5,2737.5,10271.099999999999,28139.999999999996,12267,null,"５０～５４歳",52.3,20.100000000000001,165,5,642,622.6,2857.3,10561.3,28935.068493150684,10581,null,"５０～５４歳",52.4,13.6,165,3,538.70000000000005,527.6,1985.3,8449.7000000000007,23149.863013698632,1686]
[87,"５５～５９歳",57.4,22.5,164,5,663.3,643.1,2886.4,10846,29715.068493150684,8273,null,"５５～５９歳",57.4,23.7,164,5,679.3,656.9,3005.4,11157,30567.123287671235,7195,null,"５５～５９歳",57.5,14.7,166,2,556.4,550.5,2091.5,8768.2999999999993,24022.739726027397,1077]
[88,"６０～６４歳",62.4,19,164,3,652.70000000000005,643.5,2277.8000000000002,10110.200000000001,27699.178082191782,5777,null,"６０～６４歳",62.5,19.399999999999999,164,3,667.4,657,2305.6,10314.4,28258.630136986303,4913,null,"６０～６４歳",62.3,16.8,166,1,568.6,566.9,2119.8000000000002,8943,24501.369863013701,864]
[89,"６５～６９歳",67.099999999999994,15.9,165,3,618.20000000000005,609,1738.2,9156.6,25086.575342465752,1178,null,"６５～６９歳",67.099999999999994,16.5,165,3,633.9,623.9,1722.5,9329.2999999999993,25559.726027397257,1008,null,"６５～６９歳",67,12.4,160,2,524.79999999999995,520.6,1831.4,8129,22271.232876712329,170]
[90,"７０歳～",74.3,22.1,164,1,737.7,736.2,1895.4,10747.800000000001,29446.027397260277,375,null,"７０歳～",74.400000000000006,22.7,164,1,755.6,754,1953.7,11020.900000000001,30194.246575342469,349,null,"７０歳～",73.2,13.8,170,0,497.5,497.5,1112.2,7082.2,19403.287671232876,26]
[91,"不明",45.6,9.5,163,13,283.8,257.39999999999998,340.8,3746.4000000000005,10264.109589041098,217174,null,"不明",46.3,10.6,167,15,334.6,301.2,484.6,4499.8,12328.219178082192,105733,null,"不明",45,8.5,159,11,235.5,215.8,204.4,3030.4,8302.465753424658,111442]
[92,"　　～１９歳",19.100000000000001,0.9,161,22,198.7,168.9,21.1,2405.4999999999995,6590.4109589041082,1466,null,"　　～１９歳",19.2,1.2,156,18,192.1,166.5,33.9,2339.1,6408.4931506849316,588,null,"　　～１９歳",19,0.7,165,25,203.1,170.5,12.5,2449.6999999999998,6711.5068493150684,878]
[93,"２０～２４歳",22.9,1.7,166,15,224,198.2,81.8,2769.8,7588.4931506849316,15325,null,"２０～２４歳",23,1.7,167,15,234.4,208.2,102.3,2915.1000000000004,7986.5753424657551,5882,null,"２０～２４歳",22.8,1.7,165,14,217.6,191.9,69,2680.2,7343.0136986301368,9443]
[94,"２５～２９歳",27.5,3.1,164,14,254.8,226.7,205.7,3263.3,8940.5479452054806,22294,null,"２５～２９歳",27.5,3.3,165,16,272,239.1,243.3,3507.3,9609.0410958904122,10270,null,"２５～２９歳",27.4,2.9,163,12,240.1,216.1,173.6,3054.7999999999997,8369.3150684931497,12023]
[95,"３０～３４歳",32.299999999999997,5,162,12,275.7,249.2,256.7,3565.0999999999995,9767.3972602739705,19905,null,"３０～３４歳",32.5,5.3,165,16,310.8,274.10000000000002,346.5,4076.1000000000004,11167.397260273974,9411,null,"３０～３４歳",32.299999999999997,4.7,160,9,244.2,226.9,176.1,3106.4999999999995,8510.9589041095878,10493]
[96,"３５～３９歳",37.4,7.3,162,12,297.8,269.2,397.9,3971.5000000000005,10880.82191780822,18595,null,"３５～３９歳",37.4,7.5,166,16,345.5,306.8,545.79999999999995,4691.8,12854.246575342468,9874,null,"３５～３９歳",37.5,7,156,8,243.7,226.6,230.5,3154.8999999999996,8643.5616438356155,8721]
[97,"４０～４４歳",42.6,9.6999999999999993,162,11,304.8,278.7,414.6,4072.2000000000003,11156.712328767124,22462,null,"４０～４４歳",42.6,10.5,167,14,356.1,320.2,550.1,4823.3000000000011,13214.520547945207,11637,null,"４０～４４歳",42.7,8.8000000000000007,158,8,249.5,234.2,268.89999999999998,3262.9,8939.4520547945194,10826]
[98,"４５～４９歳",47.7,11.1,165,13,312,284.5,465.4,4209.3999999999996,11532.602739726028,27169,null,"４５～４９歳",47.6,12.8,169,16,376.7,340.4,652.1,5172.5,14171.232876712329,13548,null,"４５～４９歳",47.7,9.4,161,10,247.6,228.9,279.8,3251,8906.8493150684935,13621]
[99,"５０～５４歳",52.5,13,164,14,319.5,288.8,455,4289,11750.68493150685,29075,null,"５０～５４歳",52.5,15.5,169,16,403,361.9,687.2,5523.2,15132.054794520547,13527,null,"５０～５４歳",52.5,10.8,159,12,246.8,225.3,253,3214.6000000000004,8807.1232876712329,15548]
[100,"５５～５９歳",57.4,14,163,12,305.39999999999998,278.39999999999998,481,4145.7999999999993,11358.35616438356,23674,null,"５５～５９歳",57.4,16.899999999999999,169,15,384.3,347.7,755.8,5367.4000000000005,14705.205479452055,11015,null,"５５～５９歳",57.5,11.4,157,10,236.8,218.1,241.9,3083.5000000000005,8447.9452054794529,12659]
[101,"６０～６４歳",62.5,13.2,161,12,270.60000000000002,248.3,326.89999999999998,3574.1000000000004,9792.054794520549,20577,null,"６０～６４歳",62.5,13.6,165,13,317.2,291.10000000000002,436,4242.3999999999996,11623.013698630135,11302,null,"６０～６４歳",62.4,12.7,157,11,213.9,196.1,194,2760.8,7563.8356164383567,9275]
[102,"６５～６９歳",67.3,13.7,156,11,226.1,206.8,149.1,2862.2999999999997,7841.9178082191775,10330,null,"６５～６９歳",67.3,11.6,163,10,265.8,246.9,229.2,3418.8,9366.5753424657541,5098,null,"６５～６９歳",67.2,15.7,149,11,187.5,167.7,71,2321,6358.9041095890407,5231]
[103,"７０歳～",73,15.4,161,7,230.6,216.6,127.1,2894.2999999999997,7929.5890410958891,6303,null,"７０歳～",73.3,13.8,164,6,247.6,236.2,143.30000000000001,3114.5,8532.8767123287671,3580,null,"７０歳～",72.5,17.5,157,8,208.3,190.9,105.8,2605.4000000000005,7138.0821917808235,2724]

{"sheet":"賃セＲ４","index":12,"n_rows":112,"n_cols":36,"rows_kept":112,"cut":false,"hidden":true,"merged":[[4,26,4,35],[5,2,6,2],[5,3,6,3],[5,4,6,4],[5,5,6,5],[5,27,6,27],[5,26,6,26],[5,28,6,28],[5,29,6,29],[5,30,6,30],[5,32,6,32],[5,35,6,35],[4,0,6,1],[4,2,4,11],[4,12,6,13],[4,14,4,23],[4,24,6,25],[5,6,6,6],[5,8,6,8],[5,11,6,11],[5,14,6,14],[5,15,6,15],[5,16,6,16],[5,17,6,17],[5,18,6,18],[5,20,6,20],[5,23,6,23]]}
["令和４年賃金構造基本統計調査"]
["第１表　　年齢階級別きまって支給する現金給与額、所定内給与額及び年間賞与その他特別給与額"]
["産業",null,"産業計"]
[]
["区　分",null,"企業規模計（10人以上）",null,null,null,null,null,null,null,null,null,"区　分",null,"企業規模計（10人以上）",null,null,null,null,null,null,null,null,null,"区　分",null,"企業規模計（10人以上）"]
[null,null,"年齢","勤続\n年数","所定内\n実労働\n時間数","超過\n実労働\n時間数","きまって\n支給す\nる現金\n給与額",null,"年間賞与その他特別給与額","年額計","日額","労働者数",null,null,"年齢","勤続\n年数","所定内\n実労働\n時間数","超過\n実労働\n時間数","きまって\n支給す\nる現金\n給与額",null,"年間賞与その他特別給与額","年額計","日額","労働者数",null,null,"年齢","勤続\n年数","所定内\n実労働\n時間数","超過\n実労働\n時間数","きまって\n支給す\nる現金\n給与額",null,"年間賞与その他特別給与額","年額計","日額","労働者数"]
[null,null,null,null,null,null,null,"所定内\n給与額",null,null,"÷365",null,null,null,null,null,null,null,null,"所定内\n給与額",null,null,"÷365",null,null,null,null,null,null,null,null,"所定内\n給与額",null,null,"÷365"]
[null,null,"歳","年","時間","時間","千円","千円","千円",null,null,"十人"]
[0,"男女計\n学歴計",43.7,12.3,165,12,340.1,311.8,884.5,{"$f":"G9*12+I9","v":4965.7000000000007},{"$f":"J9/365*1000","v":13604.657534246577},2790674,null,"男\n学歴計",44.5,13.7,167,14,376.5,342,1031.0999999999999,5549.1,15203.013698630137,1775567,null,"女\n学歴計",42.3,9.8000000000000007,163,8,276.3,258.89999999999998,627.9,3943.5000000000005,10804.109589041098,1015107]
[1,"　　～１９歳",19.100000000000001,1,167,9,200.3,184.2,150.69999999999999,2554.3000000000002,6998.0821917808225,21120,null,"　　～１９歳",19.100000000000001,1,167,11,207.2,187.7,167.5,2653.8999999999996,7270.9589041095887,13209,null,"　　～１９歳",19.100000000000001,0.9,166,7,188.8,178.4,122.6,2388.2000000000003,6543.0136986301377,7911]
[2,"２０～２４歳",23,2.2000000000000002,166,11,240.8,218.5,382.2,3271.8,8963.8356164383567,202456,null,"２０～２４歳",23,2.2999999999999998,167,15,248.1,220.5,424.6,3401.7999999999997,9319.9999999999982,105181,null,"２０～２４歳",23,2,166,8,232.9,216.3,336.4,3131.2000000000003,8578.6301369863013,97275]
[3,"２５～２９歳",27.5,4.3,165,14,281.7,251.2,655.5,4035.8999999999996,11057.260273972603,299419,null,"２５～２９歳",27.5,4.4000000000000004,167,18,296.89999999999998,259.3,710.8,4273.5999999999995,11708.49315068493,169318,null,"２５～２９歳",27.4,4,164,10,261.89999999999998,240.8,583.5,3726.2999999999997,10209.041095890409,130101]
[4,"３０～３４歳",32.5,6.9,165,14,314.10000000000002,281,799.3,4568.5,12516.438356164384,279813,null,"３０～３４歳",32.5,7.3,166,17,338.4,297,898.2,4959,13586.301369863013,175865,null,"３０～３４歳",32.4,6.3,163,8,273,254,631.79999999999995,3907.8,10706.301369863015,103948]
[5,"３５～３９歳",37.5,9.6,165,14,346.7,312.5,926.1,5086.5,13935.616438356165,305420,null,"３５～３９歳",37.6,10.1,167,17,379,335.8,1052.5,5600.5,15343.835616438357,199974,null,"３５～３９歳",37.5,8.6,162,7,285.39999999999998,268.2,686.6,4111.3999999999996,11264.109589041094,105446]
[6,"４０～４４歳",42.6,12.2,166,13,366.1,333.7,1012.8,5406.0000000000009,14810.958904109591,335836,null,"４０～４４歳",42.6,13.2,167,15,403.7,363.6,1163.8,6008.2,16460.821917808218,221506,null,"４０～４４歳",42.6,10.5,162,7,293.2,275.60000000000002,720.1,4238.5,11612.328767123287,114330]
[7,"４５～４９歳",47.6,15.1,166,12,379.5,349.2,1081.3,5635.3,15439.17808219178,393721,null,"４５～４９歳",47.6,16.600000000000001,168,14,424.8,388.1,1263.2,6360.8,17426.849315068495,253977,null,"４５～４９歳",47.6,12.3,162,8,297.2,278.5,750.7,4317.0999999999995,11827.67123287671,139744]
[8,"５０～５４歳",52.4,17.8,166,11,393.2,364.7,1159.0999999999999,5877.5,16102.739726027397,369125,null,"５０～５４歳",52.4,20,168,13,445,410.9,1382.6,6722.6,18418.082191780821,239580,null,"５０～５４歳",52.4,13.9,162,8,297.5,279.2,745.8,4315.8,11824.109589041096,129545]
[9,"５５～５９歳",57.4,20.2,165,10,395.6,370,1155.7,5902.9000000000005,16172.32876712329,281539,null,"５５～５９歳",57.4,22.5,167,12,447.1,416.5,1374.9,6740.1,18466.027397260277,185708,null,"５５～５９歳",57.4,15.7,162,6,295.8,280,731.1,4280.7000000000007,11727.945205479455,95831]
[10,"６０～６４歳",62.3,18.899999999999999,164,8,313,295.60000000000002,692,4448,12186.301369863013,189222,null,"６０～６４歳",62.4,20.3,166,9,342.2,321.8,798.1,4904.5,13436.986301369863,130494,null,"６０～６４歳",62.3,15.8,161,5,248.3,237.3,456.4,3436.0000000000005,9413.6986301369889,58727]
[11,"６５～６９歳",67.2,16.100000000000001,164,7,271,257.60000000000002,350.8,3602.8,9870.6849315068484,73590,null,"６５～６９歳",67.2,16.3,166,8,290,274.5,377.5,3857.5,10568.493150684932,52311,null,"６５～６９歳",67.2,15.6,161,4,224.2,216.2,285.10000000000002,2975.4999999999995,8152.0547945205471,21280]
[12,"７０歳～",73.2,17.100000000000001,162,6,249.6,238.1,228.9,3224.1,8833.1506849315065,39414,null,"７０歳～",73.2,16.399999999999999,164,7,259.60000000000002,245.9,212.7,3327.9,9117.534246575342,28444,null,"７０歳～",73.099999999999994,18.8,159,3,223.7,217.8,270.8,2955.2,8096.4383561643826,10970]
[13,"中学",49.7,13.2,169,16,296.10000000000002,264,469,4022.2000000000003,11019.726027397262,68984,null,"中学",50.1,14.1,171,18,316.89999999999998,280,525.70000000000005,4328.5,11858.904109589041,54230,null,"中学",48,9.9,163,8,219.8,205.2,260.60000000000002,2898.2000000000003,7940.2739726027403,14754]
[14,"　　～１９歳",18.399999999999999,1.3,159,8,176.4,165,58.8,2175.6000000000004,5960.5479452054806,400,null,"　　～１９歳",18.399999999999999,1.4,160,9,177.3,164,64.3,2191.9000000000005,6005.2054794520564,308,null,"　　～１９歳",18.5,1.1000000000000001,155,3,173.3,168.3,40.299999999999997,2119.9000000000005,5807.9452054794529,92]
[15,"２０～２４歳",22.8,2.6,166,11,228.7,209.8,211.5,2955.8999999999996,8098.3561643835601,2025,null,"２０～２４歳",23,2.6,170,14,244.6,220.7,201.8,3137,8594.5205479452052,1307,null,"２０～２４歳",22.5,2.6,159,6,199.6,190,229.2,2624.3999999999996,7190.1369863013688,718]
[16,"２５～２９歳",27.6,3.9,169,15,264.5,237,309.89999999999998,3483.9,9544.9315068493142,3657,null,"２５～２９歳",27.5,4.3,171,15,279.10000000000002,249.2,363.5,3712.7000000000003,10171.780821917808,2587,null,"２５～２９歳",27.8,2.9,163,14,229.4,207.7,180.1,2932.9,8035.3424657534251,1070]
[17,"３０～３４歳",32.6,5.9,169,17,286,252.3,381.2,3813.2,10447.123287671233,4771,null,"３０～３４歳",32.6,6.3,172,21,308.5,266.89999999999998,441.2,4143.2,11351.232876712329,3531,null,"３０～３４歳",32.9,4.8,163,7,222.1,210.7,210.4,2875.6,7878.356164383561,1240]
[18,"３５～３９歳",37.6,8.5,170,19,309.2,269.89999999999998,492.7,4203.0999999999995,11515.342465753423,7208,null,"３５～３９歳",37.700000000000003,9.4,173,23,335.9,289.2,583.20000000000005,4614,12641.095890410959,5498,null,"３５～３９歳",37.299999999999997,5.8,162,9,223.5,207.8,201.7,2883.7,7900.5479452054788,1710]
[19,"４０～４４歳",42.6,11.4,170,16,328.9,294.7,732.9,4679.7,12821.095890410959,8789,null,"４０～４４歳",42.6,12.4,172,18,351.7,312.8,841.7,5062.0999999999995,13868.767123287669,7251,null,"４０～４４歳",42.4,6.7,163,6,221.6,209.1,220,2879.2,7888.2191780821913,1538]
[20,"４５～４９歳",47.8,12.5,171,20,328.9,286.8,575.29999999999995,4522.0999999999995,12389.315068493148,8459,null,"４５～４９歳",47.8,13.1,174,23,352.8,304.3,632.70000000000005,4866.3,13332.328767123288,6667,null,"４５～４９歳",47.9,10.5,163,11,240.1,221.7,361.7,3242.8999999999996,8884.6575342465749,1792]
[21,"５０～５４歳",52.4,14.9,171,18,329,288.2,561.4,4509.3999999999996,12354.520547945205,9448,null,"５０～５４歳",52.4,16.2,173,20,355.5,308.39999999999998,613.9,4879.8999999999996,13369.589041095889,7480,null,"５０～５４歳",52.4,10.199999999999999,165,10,228.4,211.2,362.3,3103.1000000000004,8501.6438356164399,1968]
[22,"５５～５９歳",57.4,18.7,169,17,328.5,292.10000000000002,649.79999999999995,4591.8,12580.273972602739,6629,null,"５５～５９歳",57.4,19.8,171,19,349.6,308.7,711,4906.2000000000007,13441.643835616442,5434,null,"５５～５９歳",57.4,13.8,162,9,232.5,216.3,371.1,3161.1,8660.5479452054788,1194]
[23,"６０～６４歳",62.5,18.600000000000001,168,13,271.60000000000002,247.4,373.2,3632.4,9951.7808219178078,6204,null,"６０～６４歳",62.5,19.2,169,13,286.5,259.8,392.7,3830.7,10495.068493150684,5005,null,"６０～６４歳",62.4,16,164,10,209.4,195.4,291.8,2804.6000000000004,7683.8356164383576,1199]
[24,"６５～６９歳",67.599999999999994,18.7,166,10,238.3,221.3,233,3092.6000000000004,8472.8767123287671,5905,null,"６５～６９歳",67.5,19.2,166,10,250.3,231.7,254.6,3258.2000000000003,8926.5753424657541,4810,null,"６５～６９歳",67.599999999999994,16.5,165,6,185.7,175.8,138,2366.3999999999996,6483.2876712328753,1094]
[25,"７０歳～",73.599999999999994,19.5,163,9,233.4,216.9,143.80000000000001,2944.6000000000004,8067.3972602739732,5490,null,"７０歳～",73.599999999999994,19.399999999999999,163,10,241.9,223.6,127.5,3030.3,8302.1917808219187,4352,null,"７０歳～",73.7,19.899999999999999,162,4,200.8,191.1,205.7,2615.3000000000002,7165.2054794520554,1138]
[26,"高校",45.8,13.6,166,14,304.60000000000002,273.8,690.3,4345.5,11905.479452054795,1000091,null,"高校",45.8,14.8,168,17,336.4,297.5,793.1,4829.8999999999996,13232.602739726026,681991,null,"高校",45.6,11.1,163,7,236.5,222.9,469.7,3307.7,9062.1917808219168,318100]
[27,"　　～１９歳",19.100000000000001,0.9,167,9,200.8,184.6,154,2563.6000000000004,7023.5616438356174,20340,null,"　　～１９歳",19.100000000000001,1,167,11,207.9,188.2,171.3,2666.1000000000004,7304.3835616438364,12708,null,"　　～１９歳",19.100000000000001,0.9,167,6,189,178.7,125.2,2393.1999999999998,6556.7123287671229,7633]
[28,"２０～２４歳",22.5,3.3,166,15,232,205.2,496.8,3280.8,8988.4931506849316,70119,null,"２０～２４歳",22.6,3.3,167,17,243.8,211.4,547.4,3473.0000000000005,9515.0684931506858,46035,null,"２０～２４歳",22.5,3.2,165,10,209.3,193.5,400,2911.6000000000004,7976.9863013698641,24084]
[29,"２５～２９歳",27.5,5.7,166,16,260,228.1,538,3658,10021.917808219179,71500,null,"２５～２９歳",27.5,5.9,168,20,279.3,239.2,602.1,3953.7000000000003,10832.054794520549,48024,null,"２５～２９歳",27.5,5.3,164,9,220.7,205.3,406.9,3055.2999999999997,8370.6849315068484,23476]
[30,"３０～３４歳",32.6,8.3000000000000007,166,16,283.7,248.5,655.5,4059.8999999999996,11123.013698630135,75750,null,"３０～３４歳",32.5,8.6999999999999993,167,20,309,263.8,738,4446,12180.821917808218,52231,null,"３０～３４歳",32.6,7.5,163,7,227.5,214.4,472.4,3202.4,8773.6986301369852,23518]
[31,"３５～３９歳",37.6,10.1,166,16,304.5,267.60000000000002,689.6,4343.6000000000004,11900.273972602739,86743,null,"３５～３９歳",37.6,10.8,168,20,334.1,287.2,789.4,4798.6000000000004,13146.849315068494,61420,null,"３５～３９歳",37.6,8.5,162,7,232.8,220.2,447.5,3241.1000000000004,8879.7260273972606,25322]
[32,"４０～４４歳",42.6,12.5,167,16,324.7,287.5,758.4,4654.7999999999993,12752.876712328765,110753,null,"４０～４４歳",42.6,13.6,168,19,357.9,311.2,872.5,5167.2999999999993,14156.98630136986,78758,null,"４０～４４歳",42.7,9.9,163,7,243,229.2,477.7,3393.7,9297.8082191780813,31995]
[33,"４５～４９歳",47.7,15.6,167,15,339.3,303.60000000000002,837.8,4909.4000000000005,13450.410958904111,143715,null,"４５～４９歳",47.6,17.100000000000001,169,18,380.1,335.4,974,5535.2000000000007,15164.931506849318,98360,null,"４５～４９歳",47.7,12.3,163,8,250.7,234.7,542.5,3550.8999999999996,9728.4931506849298,45354]
[34,"５０～５４歳",52.5,17.8,167,14,343.7,310.60000000000002,857.3,4981.7,13648.493150684932,151914,null,"５０～５４歳",52.5,19.899999999999999,169,17,388.5,346.4,1003.9,5665.9,15523.013698630135,100754,null,"５０～５４歳",52.5,13.5,163,8,255.3,240.2,568.6,3632.2000000000003,9951.2328767123308,51160]
[35,"５５～５９歳",57.5,20.100000000000001,166,12,343.9,314.3,864.3,4991.0999999999995,13674.246575342464,126265,null,"５５～５９歳",57.4,22.3,168,15,388,350.3,1008.5,5664.5,15519.17808219178,84266,null,"５５～５９歳",57.5,15.7,163,6,255.4,242.1,575.1,3639.9,9972.3287671232883,41998]
[36,"６０～６４歳",62.3,19.3,165,10,277.7,258.2,534.4,3866.7999999999997,10593.972602739726,86809,null,"６０～６４歳",62.4,20.7,166,12,303,279.2,613.5,4249.5,11642.465753424658,59923,null,"６０～６４歳",62.3,16.3,161,6,221.3,211.4,358,3013.6000000000004,8256.4383561643845,26886]
[37,"６５～６９歳",67.2,16.100000000000001,165,8,242.9,227.9,284.89999999999998,3199.7000000000003,8766.3013698630148,36089,null,"６５～６９歳",67.2,16.3,167,9,259.3,241.2,303.8,3415.4000000000005,9357.2602739726044,25168,null,"６５～６９歳",67.3,15.8,161,5,205,197.2,241.2,2701.2,7400.5479452054788,10921]
[38,"７０歳～",73,16.899999999999999,162,6,227.5,216.1,198.5,2928.5,8023.2876712328771,20096,null,"７０歳～",73,15.9,163,7,234.5,220.7,177.4,2991.4,8195.6164383561645,14344,null,"７０歳～",72.900000000000006,19.2,158,3,210.1,204.7,251.1,2772.2999999999997,7595.3424657534242,5752]
[39,"専門学校",42.3,11,165,10,319.2,294.2,737.2,4567.5999999999995,12513.972602739725,359809,null,"専門学校",42.7,12.5,167,13,345.8,316,841,4990.6000000000004,13672.876712328769,191656,null,"専門学校",42,9.4,162,6,289,269.39999999999998,618.79999999999995,4086.8,11196.712328767124,168153]
[40,"　　～１９歳","-","-","-","-","-","-","-",null,null,"-",null,"　　～１９歳","-","-","-","-","-","-","-",null,null,"-",null,"　　～１９歳","-","-","-","-","-","-","-",null,null,"-"]
[41,"２０～２４歳",22.8,1.9,166,8,238.8,220.3,296.2,3161.8,8662.465753424658,31805,null,"２０～２４歳",22.8,1.9,168,12,235,214.6,305.89999999999998,3125.9,8564.1095890410961,12877,null,"２０～２４歳",22.8,1.8,165,6,241.4,224.1,289.60000000000002,3186.4,8729.8630136986303,18928]
[42,"２５～２９歳",27.4,4.2,165,9,266.2,244.6,500.5,3694.8999999999996,10123.013698630135,38941,null,"２５～２９歳",27.5,4.5,167,12,269.10000000000002,244.9,551,3780.2000000000003,10356.712328767124,19026,null,"２５～２９歳",27.3,3.9,164,7,263.5,244.4,452.2,3614.2,9901.9178082191775,19915]
[43,"３０～３４歳",32.5,6.5,164,10,287.7,263.10000000000002,630.6,4082.9999999999995,11186.301369863011,35323,null,"３０～３４歳",32.5,7,166,13,304.39999999999998,275,720.4,4373.2,11981.369863013699,19527,null,"３０～３４歳",32.5,5.9,161,6,267.2,248.4,519.6,3725.9999999999995,10208.21917808219,15796]
[44,"３５～３９歳",37.6,9.1999999999999993,165,11,313,286.3,719.4,4475.3999999999996,12261.369863013699,44388,null,"３５～３９歳",37.6,9.6,167,15,333.4,300,757.7,4758.5,13036.986301369863,25777,null,"３５～３９歳",37.6,8.5,161,6,284.7,267.2,666.5,4082.8999999999996,11186.027397260274,18611]
[45,"４０～４４歳",42.6,11.4,164,11,332.8,303.7,824.2,4817.8,13199.452054794521,48973,null,"４０～４４歳",42.6,12.5,167,14,360.5,324.60000000000002,936.8,5262.8,14418.630136986301,28290,null,"４０～４４歳",42.6,9.9,161,6,294.8,275.2,670.3,4207.9000000000005,11528.493150684932,20683]
[46,"４５～４９歳",47.5,14,165,11,354.9,326.39999999999998,899.1,5157.8999999999996,14131.232876712329,59526,null,"４５～４９歳",47.5,15.7,168,13,386.3,352.4,997,5632.6,15431.78082191781,34105,null,"４５～４９歳",47.5,11.7,162,7,312.89999999999998,291.5,767.7,4522.5,12390.410958904109,25421]
[47,"５０～５４歳",52.4,16.600000000000001,165,9,367.1,340.2,992.5,5397.7000000000007,14788.219178082194,47204,null,"５０～５４歳",52.3,19,168,11,407.3,377.9,1153.8,6041.4000000000005,16551.780821917808,25880,null,"５０～５４歳",52.4,13.7,161,7,318.39999999999998,294.39999999999998,796.8,4617.5999999999995,12650.958904109588,21324]
[48,"５５～５９歳",57.4,17.8,164,8,369.8,346.5,954.9,5392.5,14773.972602739725,30312,null,"５５～５９歳",57.4,20.399999999999999,167,10,412.7,387.2,1102.5,6054.9,16588.767123287671,15075,null,"５５～５９歳",57.3,15.2,161,6,327.3,306.2,808.8,4736.4000000000005,12976.438356164384,15238]
[49,"６０～６４歳",62.2,17.8,164,8,306.39999999999998,286.5,610.29999999999995,4287.0999999999995,11745.479452054793,16722,null,"６０～６４歳",62.3,19.899999999999999,168,10,326.2,302.7,658.5,4572.8999999999996,12528.49315068493,8021,null,"６０～６４歳",62.2,15.9,161,5,288.10000000000002,271.60000000000002,565.9,4023.1000000000004,11022.191780821919,8702]
[50,"６５～６９歳",67.099999999999994,15.3,163,5,270.7,259.3,368.7,3617.0999999999995,9909.8630136986303,4707,null,"６５～６９歳",67.099999999999994,16.399999999999999,166,8,284.8,269.3,327.39999999999998,3745.0000000000005,10260.273972602741,2176,null,"６５～６９歳",67,14.4,160,2,258.60000000000002,250.7,404.2,3507.4,9609.3150684931516,2531]
[51,"７０歳～",72.900000000000006,15.9,162,5,250,238.6,258,3258,8926.0273972602736,1907,null,"７０歳～",73.099999999999994,15.9,164,9,238,221.3,206.8,3062.8,8391.232876712329,902,null,"７０歳～",72.7,15.9,161,2,260.7,254.1,304,3432.3999999999996,9403.8356164383549,1005]
[52,"高専・短大",44.1,12.7,164,9,313.7,292.5,869.7,4634.0999999999995,12696.164383561643,214677,null,"高専・短大",43.6,14.8,165,14,383.6,348.3,1148.8,5752.0000000000009,15758.904109589042,62982,null,"高専・短大",44.3,11.9,163,7,284.7,269.3,753.9,4170.2999999999993,11425.479452054793,151695]
[53,"　　～１９歳","-","-","-","-","-","-","-",null,null,"-",null,"　　～１９歳","-","-","-","-","-","-","-",null,null,"-",null,"　　～１９歳","-","-","-","-","-","-","-",null,null,"-"]
[54,"２０～２４歳",22.8,2.1,167,7,230.2,215.6,447.5,3209.8999999999996,8794.246575342464,16821,null,"２０～２４歳",22.9,2.1,165,13,247.6,220.4,485.8,3457,9471.232876712329,4429,null,"２０～２４歳",22.7,2.1,168,5,224,213.9,433.8,3121.8,8552.8767123287671,12392]
[55,"２５～２９歳",27.5,4.7,165,10,265.60000000000002,243.3,654.70000000000005,3841.9000000000005,10525.753424657536,18970,null,"２５～２９歳",27.5,4.8,165,19,297.39999999999998,256.60000000000002,767.6,4336.3999999999996,11880.547945205479,5957,null,"２５～２９歳",27.4,4.7,165,6,251.1,237.3,602.9,3616.1,9907.1232876712329,13012]
[56,"３０～３４歳",32.5,7.2,165,10,284.7,261.3,696.8,4113.2,11269.04109589041,17520,null,"３０～３４歳",32.5,7.8,165,17,331.8,290,873.7,4855.3,13302.191780821919,6440,null,"３０～３４歳",32.5,6.9,164,6,257.39999999999998,244.6,594,3682.7999999999997,10089.863013698628,11080]
[57,"３５～３９歳",37.5,10,164,9,308.7,284.39999999999998,824,4528.3999999999996,12406.575342465752,20997,null,"３５～３９歳",37.5,11.2,165,15,378.3,335.6,1098.7,5638.3,15447.397260273974,7569,null,"３５～３９歳",37.5,9.1999999999999993,163,6,269.39999999999998,255.6,669.1,3901.8999999999996,10690.136986301368,13428]
[58,"４０～４４歳",42.7,12.8,164,10,328.1,303.7,960.9,4898.1000000000004,13419.452054794523,28863,null,"４０～４４歳",42.7,14.9,165,16,411.2,366.5,1275.7,6210.0999999999995,17013.972602739723,8543,null,"４０～４４歳",42.6,11.9,163,7,293.10000000000002,277.3,828.5,4345.7000000000007,11906.027397260275,20320]
[59,"４５～４９歳",47.6,14.9,163,9,334.1,312.10000000000002,1004.7,5013.9000000000005,13736.712328767124,38424,null,"４５～４９歳",47.5,18.600000000000001,166,13,433.2,398.4,1476.1,6674.5,18286.301369863017,9581,null,"４５～４９歳",47.6,13.7,162,7,301.3,283.5,848.1,4463.7000000000007,12229.315068493152,28843]
[60,"５０～５４歳",52.5,17.399999999999999,163,9,352.9,330,1072.8,5307.5999999999995,14541.369863013697,33766,null,"５０～５４歳",52.5,21.8,166,12,449.7,418,1478.8,6875.2,18836.164383561645,9041,null,"５０～５４歳",52.5,15.9,162,8,317.39999999999998,297.8,924.3,4733.0999999999995,12967.39726027397,24725]
[61,"５５～５９歳",57.4,19.600000000000001,163,8,358.6,338,1119.3,5422.5000000000009,14856.164383561647,21742,null,"５５～５９歳",57.5,24.8,166,11,464.6,434.8,1581.1,7156.3000000000011,19606.301369863017,6036,null,"５５～５９歳",57.4,17.600000000000001,162,7,317.89999999999998,300.89999999999998,941.8,4756.5999999999995,13031.780821917806,15706]
[62,"６０～６４歳",62.3,18,162,6,282.2,270.10000000000002,643.6,4029.9999999999995,11041.095890410958,12540,null,"６０～６４歳",62.3,21.6,164,7,334.6,318.2,842.4,4857.6000000000004,13308.493150684933,3557,null,"６０～６４歳",62.2,16.600000000000001,162,5,261.39999999999998,251,564.9,3701.7,10141.643835616438,8983]
[63,"６５～６９歳",67.099999999999994,17.600000000000001,162,4,273.39999999999998,265,452.6,3733.3999999999996,10228.49315068493,3638,null,"６５～６９歳",67.2,18.3,163,6,299.7,288.8,444.7,4041.0999999999995,11071.506849315067,1337,null,"６５～６９歳",67,17.100000000000001,161,3,258.2,251.1,457.3,3555.7,9741.6438356164381,2300]
[64,"７０歳～",72.900000000000006,18.7,160,5,298.39999999999998,285.3,461.4,{"$f":"G73*12+I73","v":4042.2},{"$f":"J73/365*1000","v":11074.520547945205},1397,null,"７０歳～",72.599999999999994,16.100000000000001,159,10,336,310.3,287.5,4319.5,11834.246575342466,491,null,"７０歳～",73,20.100000000000001,161,2,278,271.8,555.79999999999995,3891.8,10662.465753424658,906]
[65,"男女計\n大学",41.3,11.8,165,11,391.1,362.8,1178.7,5871.9000000000005,16087.397260273974,879183,null,"男\n大学",43.4,13.5,166,12,423,392.1,1326.7,6402.7,17541.643835616436,617047,null,"女\n大学",36.6,7.9,163,9,316.2,294,830.2,4624.5999999999995,12670.13698630137,262136]
[66,"　　～１９歳","-","-","-","-","-","-","-",null,null,"-",null,"　　～１９歳","-","-","-","-","-","-","-",null,null,"-",null,"　　～１９歳","-","-","-","-","-","-","-",null,null,"-"]
[67,"２０～２４歳",23.6,1.3,166,11,255,233.6,339.8,3399.8,9314.5205479452052,69060,null,"２０～２４歳",23.7,1.3,167,12,259.39999999999998,235.1,355.3,3468.1,9501.6438356164381,34669,null,"２０～２４歳",23.6,1.3,166,9,250.5,232.1,324.2,3330.2,9123.8356164383567,34391]
[68,"２５～２９歳",27.5,3.8,165,15,297.60000000000002,265.2,787.4,4358.6000000000004,11941.369863013699,133903,null,"２５～２９歳",27.5,3.9,166,17,310.8,272.8,835.5,4565.1000000000004,12507.123287671235,73787,null,"２５～２９歳",27.4,3.6,164,11,281.2,255.9,728.3,4102.7,11240.273972602739,60115]
[69,"３０～３４歳",32.4,6.5,165,14,340.3,304.89999999999998,962.8,5046.4000000000005,13825.753424657536,114534,null,"３０～３４歳",32.4,6.8,166,17,361,319.3,1049.2,5381.2,14743.013698630137,73475,null,"３０～３４歳",32.299999999999997,6.1,163,9,303.10000000000002,279.2,808.1,4445.3,12178.904109589041,41059]
[70,"３５～３９歳",37.5,9.6999999999999993,165,13,390.1,353.9,1175.2,5856.4000000000005,16044.931506849316,113105,null,"３５～３９歳",37.5,10.1,167,16,418.4,375.5,1286.5,6307.2999999999993,17280.273972602739,77300,null,"３５～３９歳",37.5,8.9,162,8,329,307.2,934.9,4882.8999999999996,13377.808219178081,35805]
[71,"４０～４４歳",42.5,12.8,165,11,421.9,390.7,1331.9,6394.6999999999989,17519.726027397257,106424,null,"４０～４４歳",42.5,13.4,167,12,449.4,414.8,1462.2,6854.9999999999991,18780.821917808218,77057,null,"４０～４４歳",42.5,11.3,161,8,349.5,327.60000000000002,989.9,5183.8999999999996,14202.465753424656,29367]
[72,"４５～４９歳",47.5,16.2,166,10,456.5,429.4,1531.3,7009.3,19203.561643835616,107922,null,"４５～４９歳",47.5,17,167,10,483.8,455.4,1654.7,7460.3,20439.178082191782,82870,null,"４５～４９歳",47.5,13.3,163,9,366.4,343.4,1123.0999999999999,5519.9,15123.013698630135,25052]
[73,"５０～５４歳",52.4,20.100000000000001,166,8,499.2,474.9,1794.7,7785.0999999999995,21329.04109589041,94620,null,"５０～５４歳",52.4,21.1,166,8,525.1,500,1939.3,8240.5,22576.712328767124,77136,null,"５０～５４歳",52.3,15.3,163,8,385.3,364.2,1156.8,5780.4000000000005,15836.712328767124,17484]
[74,"５５～５９歳",57.4,23,165,7,511.7,491.1,1805.7,7946.0999999999995,21770.136986301368,71448,null,"５５～５９歳",57.5,24.1,165,7,534.5,513.79999999999995,1934.9,8348.9,22873.698630136987,59703,null,"５５～５９歳",57.3,17.3,162,7,395.6,375.7,1148.9000000000001,5896.1,16153.698630136987,11745]
[75,"６０～６４歳",62.3,20.2,164,6,384.4,370.2,1021.5,5634.2999999999993,15436.438356164383,47657,null,"６０～６４歳",62.3,20.7,164,6,391.8,377.3,1049.3,5750.9000000000005,15755.890410958906,42407,null,"６０～６４歳",62.1,15.9,160,5,324.39999999999998,312.39999999999998,797.4,4690.2,12849.863013698628,5250]
[76,"６５～６９歳",67.099999999999994,16.2,164,5,342,331,497.2,4601.2,12606.027397260274,14908,null,"６５～６９歳",67.099999999999994,16.3,164,5,343.5,332.2,492.8,4614.8,12643.287671232876,13656,null,"６５～６９歳",66.900000000000006,15.4,163,3,324.5,318.2,545.20000000000005,4439.2,12162.191780821917,1252]
[77,"７０歳～",73.2,15.5,165,4,347.5,337.2,401.3,4571.3,12524.109589041096,5604,null,"７０歳～",73.099999999999994,15.4,165,4,350.6,339.3,400.1,4607.3000000000011,12622.739726027401,4987,null,"７０歳～",74,16.600000000000001,161,1,322.60000000000002,319.60000000000002,411.1,4282.3,11732.328767123288,616]
[78,"大学院",42,11.6,164,12,499,464.2,1876.1,7864.1,21545.479452054795,99189,null,"大学院",42.3,12.4,165,12,515.70000000000005,478.4,2005.7,8194.1,22449.589041095889,80138,null,"大学院",40.5,8.3000000000000007,163,9,429.1,404.3,1330.9,6480.1,17753.698630136987,19052]
[79,"　　～１９歳","-","-","-","-","-","-","-",null,null,"-",null,"　　～１９歳","-","-","-","-","-","-","-",null,null,"-",null,"　　～１９歳","-","-","-","-","-","-","-",null,null,"-"]
[80,"２０～２４歳",24.5,0.6,165,8,271,257.10000000000002,51.8,3303.8,9051.5068493150702,1432,null,"２０～２４歳",24.5,0.6,164,7,274.5,260.5,40.6,3334.6,9135.8904109589039,1033,null,"２０～２４歳",24.5,0.6,165,9,262,248.5,81,3225,8835.6164383561645,399]
[81,"２５～２９歳",27.6,2.7,164,20,335.4,287.10000000000002,950.1,4974.8999999999996,13629.863013698628,14105,null,"２５～２９歳",27.7,2.8,164,21,341.5,289.89999999999998,985,5083,13926.027397260274,10641,null,"２５～２９歳",27.6,2.7,163,16,316.7,278.8,842.7,4643.0999999999995,12720.821917808218,3463]
[82,"３０～３４歳",32.5,5.8,164,17,401,354.3,1308.0999999999999,6120.1,16767.397260273974,15286,null,"３０～３４歳",32.6,6.2,165,19,407.9,357.3,1393.1,6287.9,17227.123287671235,12086,null,"３０～３４歳",32.4,4.5999999999999996,164,10,375,343.3,987,5487,15032.876712328767,3200]
[83,"３５～３９歳",37.4,9.3000000000000007,165,15,474.9,427.8,1829.5,7528.2999999999993,20625.479452054795,15573,null,"３５～３９歳",37.4,9.6,165,17,488.3,435.5,1972,7831.6,21456.438356164384,12740,null,"３５～３９歳",37.5,8,162,8,415,393.2,1188.9000000000001,6168.9,16901.095890410958,2833]
[84,"４０～４４歳",42.4,12.1,165,11,533.20000000000005,497.5,2052.1999999999998,8450.6,23152.32876712329,14693,null,"４０～４４歳",42.4,12.6,165,11,555.1,516.5,2190.6999999999998,8851.9000000000015,24251.780821917811,12110,null,"４０～４４歳",42.6,9.6,163,7,430.8,408.6,1403,6572.6,18007.123287671235,2583]
[85,"４５～４９歳",47.4,15.8,165,8,566.20000000000005,538.5,2358.8000000000002,9153.2000000000007,25077.260273972606,13666,null,"４５～４９歳",47.4,16.8,165,8,588.20000000000005,558.79999999999995,2504.1999999999998,9562.6,26198.904109589042,11008,null,"４５～４９歳",47.5,11.7,164,7,475.2,454.4,1756.4,7458.7999999999993,20435.068493150684,2658]
[86,"５０～５４歳",52.3,19.3,165,5,633.29999999999995,614.29999999999995,2612,10211.599999999999,27976.98630136986,10735,null,"５０～５４歳",52.3,20.399999999999999,165,5,651.79999999999995,632.4,2752.3,10573.9,28969.589041095889,8863,null,"５０～５４歳",52.3,13.7,164,5,545.9,528.9,1947.5,8498.2999999999993,23283.013698630137,1872]
[87,"５５～５９歳",57.3,21.4,165,4,653.1,635.6,2761,10598.2,29036.164383561645,7681,null,"５５～５９歳",57.4,22.5,164,4,662.3,645,2904.4,10852,29731.506849315068,6476,null,"５５～５９歳",57.1,15.4,165,3,603.5,585,1989.8,9231.7999999999993,25292.602739726026,1205]
[88,"６０～６４歳",62.4,19.5,164,3,571.70000000000005,559.6,2215.5,9075.9000000000015,24865.479452054798,4605,null,"６０～６４歳",62.4,20.3,164,4,572.5,558.79999999999995,2259.1,9129.1,25011.232876712333,3935,null,"６０～６４歳",62.4,14.8,164,1,567.29999999999995,564.6,1959.5,8767.0999999999985,24019.452054794518,670]
[89,"６５～６９歳",67,16.8,165,1,608.6,600.9,1726.5,9029.7000000000007,24738.904109589042,1161,null,"６５～６９歳",66.900000000000006,17.5,165,1,614.6,610.20000000000005,1778.1,9153.3000000000011,25077.534246575346,1020,null,"６５～６９歳",67.400000000000006,11.9,164,4,564.79999999999995,533.79999999999995,1353.7,8131.2999999999993,22277.534246575338,141]
[90,"７０歳～",72.5,14.2,164,1,499.9,498.4,1117.7,7116.4999999999991,19497.260273972599,252,null,"７０歳～",72.3,13.5,163,1,499.9,498.2,1082,7080.7999999999993,19399.452054794518,224,null,"７０歳～",73.599999999999994,19.7,170,0,500,500,1397.5,7397.5,20267.123287671231,28]
[91,"不明",45.2,9.4,164,12,286.7,262.5,422.1,3862.4999999999995,10582.191780821917,168741,null,"不明",45.6,10.5,168,15,334.3,301.2,553.5,4565.1000000000004,12507.123287671235,87523,null,"不明",44.6,8.1999999999999993,160,8,235.4,220.9,280.39999999999998,3105.2000000000003,8507.3972602739741,81218]
[92,"　　～１９歳",19.2,1.1000000000000001,163,11,198.1,181.1,67.599999999999994,2444.7999999999997,6698.0821917808207,379,null,"　　～１９歳",19.2,1.2,167,10,209.1,191.6,79.5,2588.6999999999998,7092.3287671232865,193,null,"　　～１９歳",19.2,1,158,12,186.6,170.2,55.3,2294.5,6286.3013698630139,186]
[93,"２０～２４歳",23.1,1.9,166,14,228.4,204.8,145.69999999999999,2886.5,7908.2191780821913,11194,null,"２０～２４歳",23.1,2.1,167,16,238.8,210.5,154.9,3020.5000000000005,8275.3424657534251,4830,null,"２０～２４歳",23.1,1.8,165,12,220.5,200.5,138.80000000000001,2784.8,7629.5890410958909,6364]
[94,"２５～２９歳",27.5,3.3,166,13,261.89999999999998,236.7,322.89999999999998,3465.7,9495.0684931506839,18344,null,"２５～２９歳",27.5,3.4,168,16,287.39999999999998,254.9,355.8,3804.6,10423.561643835616,9295,null,"２５～２９歳",27.5,3.2,163,10,235.8,218,289,3118.6000000000004,8544.1095890410979,9049]
[95,"３０～３４歳",32.5,4.7,166,12,288.2,264.3,445.9,3904.2999999999997,10696.712328767122,16629,null,"３０～３４歳",32.6,5,169,15,321.60000000000002,291,494.7,4353.9000000000005,11928.493150684933,8575,null,"３０～３４歳",32.4,4.4000000000000004,163,9,252.6,236,393.9,3425.1,9383.8356164383567,8054]
[96,"３５～３９歳",37.5,7.5,164,12,307.8,282.60000000000002,508.3,4201.9000000000005,11512.054794520549,17408,null,"３５～３９歳",37.5,7.7,169,16,352.5,319,657.8,4887.8,13391.232876712329,9671,null,"３５～３９歳",37.5,7.2,159,8,252.1,237.2,321.60000000000002,3346.7999999999997,9169.3150684931497,7738]
[97,"４０～４４歳",42.5,9,164,13,322.5,294,559,4429,12134.246575342466,17341,null,"４０～４４歳",42.5,9.9,169,18,381.5,341.1,671.5,5249.5,14382.191780821919,9497,null,"４０～４４歳",42.6,8,159,8,251.2,237,422.8,3437.2,9416.9863013698614,7845]
[98,"４５～４９歳",47.6,10.9,164,13,314.10000000000002,286.2,492.6,4261.8,11676.164383561645,22009,null,"４５～４９歳",47.5,12.8,168,18,374.8,335.7,699.7,5197.3,14239.178082191782,11386,null,"４５～４９歳",47.6,8.8000000000000007,159,9,249.2,233.1,270.60000000000002,3260.9999999999995,8934.2465753424658,10623]
[99,"５０～５４歳",52.5,12.3,164,13,305.5,278.2,530.6,4196.6000000000004,11497.534246575344,21437,null,"５０～５４歳",52.5,14.5,168,17,375.7,335.9,794,5302.4,14527.123287671233,10426,null,"５０～５４歳",52.5,10.3,159,8,239.1,223.5,281.2,3150.3999999999996,8631.232876712329,11011]
[100,"５５～５９歳",57.5,14.2,163,11,297.3,271.5,483.9,4051.5000000000005,11100.000000000002,17463,null,"５５～５９歳",57.5,16.5,167,16,367.6,326.7,686.7,5097.9000000000005,13966.849315068494,8717,null,"５５～５９歳",57.5,11.8,159,6,227.4,216.5,281.7,3010.5,8247.945205479451,8746]
[101,"６０～６４歳",62.4,14.3,161,8,260.8,244.2,346.1,3475.7000000000003,9522.465753424658,14684,null,"６０～６４歳",62.6,15.6,165,10,312.39999999999998,288.39999999999998,491.1,4239.8999999999996,11616.164383561643,7646,null,"６０～６４歳",62.3,12.9,157,5,204.9,196.2,188.5,2647.3,7252.8767123287671,7037]
[102,"６５～６９歳",67.3,13.6,161,7,236.1,224.4,189.1,3022.2999999999997,8280.2739726027394,7183,null,"６５～６９歳",67.3,12.7,164,8,265.7,251.5,247.5,3435.8999999999996,9413.424657534244,4143,null,"６５～６９歳",67.2,14.8,157,6,195.7,187.4,109.5,2457.8999999999996,6733.9726027397255,3040]
[103,"７０歳～",73.400000000000006,17,163,4,218,210.3,123.4,2739.4,7505.2054794520554,4668,null,"７０歳～",73.5,16.399999999999999,166,4,231.5,222.6,122.8,2900.8,7947.3972602739732,3143,null,"７０歳～",73.3,18.3,155,3,190.2,184.9,124.7,2407.0999999999995,6594.7945205479436,1525]

{"sheet":"賃セＲ３","index":13,"n_rows":112,"n_cols":36,"rows_kept":112,"cut":false,"hidden":true,"merged":[[4,26,4,35],[5,2,6,2],[5,3,6,3],[5,4,6,4],[5,5,6,5],[5,27,6,27],[5,26,6,26],[5,28,6,28],[5,29,6,29],[5,30,6,30],[5,32,6,32],[5,35,6,35],[4,0,6,1],[4,2,4,11],[4,12,6,13],[4,14,4,23],[4,24,6,25],[5,6,6,6],[5,8,6,8],[5,11,6,11],[5,14,6,14],[5,15,6,15],[5,16,6,16],[5,17,6,17],[5,18,6,18],[5,20,6,20],[5,23,6,23]]}
["令和３年賃金構造基本統計調査"]
["第１表　　年齢階級別きまって支給する現金給与額、所定内給与額及び年間賞与その他特別給与額"]
["産業",null,"産業計"]
[]
["区　分",null,"企業規模計（10人以上）",null,null,null,null,null,null,null,null,null,"区　分",null,"企業規模計（10人以上）",null,null,null,null,null,null,null,null,null,"区　分",null,"企業規模計（10人以上）"]
[null,null,"年齢","勤続\n年数","所定内\n実労働\n時間数","超過\n実労働\n時間数","きまって\n支給す\nる現金\n給与額",null,"年間賞与その他特別給与額","年額計","日額","労働者数",null,null,"年齢","勤続\n年数","所定内\n実労働\n時間数","超過\n実労働\n時間数","きまって\n支給す\nる現金\n給与額",null,"年間賞与その他特別給与額","年額計","日額","労働者数",null,null,"年齢","勤続\n年数","所定内\n実労働\n時間数","超過\n実労働\n時間数","きまって\n支給す\nる現金\n給与額",null,"年間賞与その他特別給与額","年額計","日額","労働者数"]
[null,null,null,null,null,null,null,"所定内\n給与額",null,null,"÷365",null,null,null,null,null,null,null,null,"所定内\n給与額",null,null,"÷365",null,null,null,null,null,null,null,null,"所定内\n給与額",null,null,"÷365"]
[null,null,"歳","年","時間","時間","千円","千円","千円",null,null,"十人"]
[0,"男女計\n学歴計",43.4,12.3,165,11,334.8,307.39999999999998,875.5,4893.1000000000004,13405.753424657534,2821087,null,"男\n学歴計",44.1,13.7,167,14,370.5,337.2,1018.2,5464.2,14970.410958904109,1817957,null,"女\n学歴計",42.1,9.6999999999999993,162,7,270.2,253.6,617,3859.3999999999996,10573.698630136985,1003129]
[1,"　　～１９歳",19.100000000000001,0.9,167,10,199.6,182.5,143.6,2538.7999999999997,6955.6164383561636,25348,null,"　　～１９歳",19.100000000000001,0.9,167,11,205.6,185.6,152.30000000000001,2619.5,7176.7123287671229,15957,null,"　　～１９歳",19.100000000000001,0.9,166,7,189.3,177.3,128.80000000000001,2400.4000000000005,6576.4383561643845,9392]
[2,"２０～２４歳",23,2.1,166,12,235.4,213.1,376.1,3200.9,8769.5890410958909,213149,null,"２０～２４歳",23.1,2.2999999999999998,166,15,243.2,215.4,411.3,3329.7,9122.465753424658,110596,null,"２０～２４歳",23,2,165,8,227,210.7,338.1,3062.1,8389.3150684931497,102554]
[3,"２５～２９歳",27.5,4.2,165,14,276.8,246.2,648.1,3969.7000000000003,10875.890410958904,303671,null,"２５～２９歳",27.5,4.4000000000000004,166,17,290.89999999999998,253.3,694.5,4185.2999999999993,11466.575342465751,176336,null,"２５～２９歳",27.4,4,163,10,257.39999999999998,236.2,583.9,3672.7,10062.191780821917,127335]
[4,"３０～３４歳",32.5,7,164,14,309.10000000000002,275.8,778.4,4487.6000000000004,12294.794520547946,285500,null,"３０～３４歳",32.6,7.4,166,17,331.9,290.5,877,4859.7999999999993,13314.520547945203,185739,null,"３０～３４歳",32.5,6.4,162,8,266.7,248.5,594.9,3795.2999999999997,10398.082191780821,99761]
[5,"３５～３９歳",37.5,9.6999999999999993,165,13,338.8,305,910.2,4975.8,13632.328767123288,306477,null,"３５～３９歳",37.5,10.199999999999999,166,17,369,327,1028.8,5456.8,14950.13698630137,205827,null,"３５～３９歳",37.5,8.6999999999999993,161,7,277.10000000000002,260,667.6,3992.8,10939.17808219178,100650]
[6,"４０～４４歳",42.6,12.5,165,12,359.8,328,1006.1,5323.7000000000007,14585.479452054797,344931,null,"４０～４４歳",42.6,13.5,167,15,396.5,357.6,1153.0999999999999,5911.1,16194.794520547948,228550,null,"４０～４４歳",42.6,10.5,162,7,287.60000000000002,269.89999999999998,717.3,4168.5,11420.547945205479,116381]
[7,"４５～４９歳",47.5,15.3,166,11,373.7,344.3,1068.5,5552.9,15213.424657534246,412733,null,"４５～４９歳",47.5,16.899999999999999,168,14,418.6,382.8,1250.2,6273.4000000000005,17187.397260273974,270617,null,"４５～４９歳",47.5,12.1,162,7,288.3,270.89999999999998,722.3,4181.9000000000005,11457.260273972604,142116]
[8,"５０～５４歳",52.4,18,165,10,392.9,366.2,1172.3,5887.0999999999995,16129.04109589041,359816,null,"５０～５４歳",52.4,20.2,167,12,443.9,412.1,1392.6,6719.4,18409.31506849315,236770,null,"５０～５４歳",52.4,13.7,162,7,294.7,277.89999999999998,748.3,4284.7,11738.904109589041,123046]
[9,"５５～５９歳",57.4,20,165,9,388.4,365.5,1146.7,5807.4999999999991,15910.958904109586,282358,null,"５５～５９歳",57.4,22.4,167,10,440.9,413.6,1369.9,6660.6999999999989,18248.493150684928,185663,null,"５５～５９歳",57.4,15.4,162,6,287.5,273.3,718.1,4168.1000000000004,11419.452054794523,96695]
[10,"６０～６４歳",62.3,18.8,164,7,307.89999999999998,292.8,661.3,4356.0999999999995,11934.520547945205,181951,null,"６０～６４歳",62.3,20,165,8,335.7,318.10000000000002,748.8,4777.2,13088.21917808219,126821,null,"６０～６４歳",62.2,16,161,4,243.9,234.4,460,3386.8,9278.9041095890407,55130]
[11,"６５～６９歳",67.2,16.5,164,6,271.3,259.8,360.1,3615.7000000000003,9906.0273972602736,71778,null,"６５～６９歳",67.2,16.600000000000001,165,7,287.8,274.8,380.1,3833.7000000000003,10503.287671232878,51212,null,"６５～６９歳",67.2,16.3,160,4,230.1,222.2,310.10000000000002,3071.2999999999997,8414.5205479452052,20566]
[12,"７０歳～",73.099999999999994,17.600000000000001,162,4,251,243.3,252.1,3264.1,8942.7397260273974,33374,null,"７０歳～",73,17,164,5,265.3,256.5,238.1,3421.7000000000003,9374.5205479452052,23870,null,"７０歳～",73.2,19,158,3,215.1,210.1,287.10000000000002,2868.2999999999997,7858.356164383561,9505]
[13,"中学",49.1,13.3,168,14,291.39999999999998,261,442.7,3939.4999999999995,10793.150684931506,69074,null,"中学",49.5,14.3,170,16,312.8,277.8,486.1,4239.7000000000007,11615.616438356166,53833,null,"中学",47.6,9.6,162,8,215.9,201.7,289.3,2880.1000000000004,7890.6849315068503,15241]
[14,"　　～１９歳",18.3,1.2,160,7,196.1,183.3,54.7,2407.8999999999996,6596.9863013698614,676,null,"　　～１９歳",18.399999999999999,1.1000000000000001,163,7,205,191,56.5,2516.5,6894.5205479452052,487,null,"　　～１９歳",18.100000000000001,1.4,152,7,173.1,163.19999999999999,50,2127.1999999999998,5827.9452054794519,189]
[15,"２０～２４歳",22.8,2.6,166,15,228,202.5,186.1,2922.1,8005.7534246575342,2643,null,"２０～２４歳",22.8,2.7,170,19,244.4,213.6,230.1,3162.9,8665.4794520547948,1861,null,"２０～２４歳",22.9,2.2999999999999998,157,7,189.1,176.2,81.3,2350.5,6439.7260273972597,782]
[16,"２５～２９歳",27.6,4,169,13,253.6,225.7,336.2,3379.3999999999996,9258.6301369862995,3989,null,"２５～２９歳",27.6,4.4000000000000004,171,15,271,237.9,382.8,3634.8,9958.3561643835637,2820,null,"２５～２９歳",27.5,3.2,163,9,211.4,196.2,223.6,2760.4,7562.7397260273974,1169]
[17,"３０～３４歳",32.700000000000003,6.3,169,18,278.60000000000002,243.6,397.1,3740.3,10247.397260273972,4540,null,"３０～３４歳",32.799999999999997,6.6,170,19,297.3,257.7,443.1,4010.7000000000003,10988.219178082194,3505,null,"３０～３４歳",32.4,5.0999999999999996,164,12,215.2,195.9,241,2823.3999999999996,7735.3424657534233,1034]
[18,"３５～３９歳",37.5,8.3000000000000007,170,17,303.10000000000002,267.60000000000002,503.1,4140.3,11343.287671232878,6695,null,"３５～３９歳",37.5,8.9,172,19,327.10000000000002,286.10000000000002,555.5,4480.7000000000007,12275.890410958906,5077,null,"３５～３９歳",37.799999999999997,6.1,164,10,227.9,209.8,338.5,3073.3,8420,1617]
[19,"４０～４４歳",42.4,10.4,170,16,313.2,277.5,522.4,4280.7999999999993,11728.21917808219,7297,null,"４０～４４歳",42.3,11.3,172,18,340.6,298.7,581.9,4669.1000000000004,12792.054794520549,5649,null,"４０～４４歳",42.7,7.6,164,10,219.3,204.8,318.2,2949.8,8081.6438356164399,1649]
[20,"４５～４９歳",47.6,13.2,170,17,333.3,295.8,555,4554.6000000000004,12478.356164383562,10063,null,"４５～４９歳",47.7,14.5,171,19,359.7,316.89999999999998,612.70000000000005,4929.0999999999995,13504.383561643834,7944,null,"４５～４９歳",47.5,8.5,164,9,234.4,216.5,338.8,3151.6000000000004,8634.5205479452052,2119]
[21,"５０～５４歳",52.3,14.7,168,16,326.39999999999998,291.2,566.4,4483.2,12282.739726027397,9278,null,"５０～５４歳",52.3,16.100000000000001,170,19,353,312.5,619.9,4855.8999999999996,13303.835616438355,7316,null,"５０～５４歳",52.3,9.6999999999999993,161,6,227.2,211.7,367.1,3093.4999999999995,8475.3424657534233,1962]
[22,"５５～５９歳",57.4,19.3,168,16,334.1,296.7,610.5,4619.7000000000007,12656.712328767126,7307,null,"５５～５９歳",57.4,20.399999999999999,170,18,356.8,313.5,648.70000000000005,4930.3,13507.671232876713,5871,null,"５５～５９歳",57.4,14.6,160,8,241,228.1,453.8,3345.8,9166.5753424657541,1435]
[23,"６０～６４歳",62.6,19.7,167,11,263.10000000000002,240.8,370.7,3527.9,9665.4794520547948,6622,null,"６０～６４歳",62.6,20.9,168,12,276.89999999999998,251.9,398.7,3721.4999999999995,10195.890410958902,5455,null,"６０～６４歳",62.8,14.3,162,6,198.5,188.9,239.7,2621.7,7182.7397260273974,1168]
[24,"６５～６９歳",67.400000000000006,19.399999999999999,165,8,231.1,215.6,217.3,2990.5,8193.1506849315065,5461,null,"６５～６９歳",67.400000000000006,19.899999999999999,167,9,244,226.1,222.9,3150.9,8632.6027397260277,4314,null,"６５～６９歳",67.5,17.399999999999999,158,4,182.8,176,196,2389.6000000000004,6546.8493150684935,1147]
[25,"７０歳～",73.3,18.899999999999999,164,5,216.3,206.2,173.7,2769.3,7587.1232876712338,4503,null,"７０歳～",73.3,18.8,165,6,224.7,214,176.2,2872.5999999999995,7870.1369863013679,3532,null,"７０歳～",73.2,19.3,160,4,185.5,178.1,164.8,2390.8000000000002,6550.1369863013706,971]
[26,"高校",45.4,13.7,166,13,301.2,271.5,693,4307.3999999999996,11801.095890410958,1008893,null,"高校",45.4,14.9,167,16,332.3,295.10000000000002,799.8,4787.4000000000005,13116.164383561645,690823,null,"高校",45.2,11.1,163,7,233.5,220,461.1,3263.1,8940,318071]
[27,"　　～１９歳",19.100000000000001,0.9,167,10,199.8,182.5,149.5,2547.1000000000004,6978.3561643835628,23764,null,"　　～１９歳",19.100000000000001,0.9,167,12,206,185.6,157.4,2629.4,7203.8356164383558,15079,null,"　　～１９歳",19.100000000000001,0.9,167,7,189.1,177,135.6,2404.7999999999997,6588.4931506849307,8684]
[28,"２０～２４歳",22.5,3.2,166,16,227.4,199,477.2,3206,8783.5616438356174,71651,null,"２０～２４歳",22.6,3.3,166,19,239,204.3,536.29999999999995,3404.3,9326.8493150684935,45118,null,"２０～２４歳",22.4,3,165,10,207.8,190,376.7,2870.3,7863.8356164383558,26533]
[29,"２５～２９歳",27.5,5.6,166,15,255.3,224.1,528.79999999999995,3592.4000000000005,9842.1917808219187,71050,null,"２５～２９歳",27.5,5.9,167,19,272.89999999999998,234.5,605.4,3880.2,10630.684931506848,48461,null,"２５～２９歳",27.5,4.9000000000000004,163,8,217.6,202,364.5,2975.7,8152.6027397260259,22590]
[30,"３０～３４歳",32.6,8.3000000000000007,165,16,282.7,247.1,645.5,4037.8999999999996,11062.739726027397,76751,null,"３０～３４歳",32.6,8.8000000000000007,166,20,305.60000000000002,261.10000000000002,739.9,4407.1000000000004,12074.246575342468,54921,null,"３０～３４歳",32.6,7,162,7,225.2,212,408.1,3110.4999999999995,8521.9178082191775,21830]
[31,"３５～３９歳",37.6,10.199999999999999,166,15,299.89999999999998,265.3,679.9,4278.7,11722.465753424658,89756,null,"３５～３９歳",37.6,10.8,168,18,327.60000000000002,284.7,773.8,4705,12890.410958904109,64437,null,"３５～３９歳",37.6,8.6999999999999993,162,7,229.4,216,440.9,3193.7000000000003,8749.8630136986303,25318]
[32,"４０～４４歳",42.6,12.8,166,15,319.39999999999998,283.10000000000002,752.8,4585.5999999999995,12563.287671232874,113636,null,"４０～４４歳",42.6,14,168,19,353.1,307.7,867.4,5104.6000000000004,13985.205479452055,80923,null,"４０～４４歳",42.6,10.1,163,7,236,222.3,469.3,3301.3,9044.6575342465767,32713]
[33,"４５～４９歳",47.6,15.9,167,14,336.6,301.60000000000002,850.7,4889.9000000000005,13396.986301369865,154804,null,"４５～４９歳",47.6,17.399999999999999,168,17,377.1,332.7,988.8,5514.0000000000009,15106.849315068495,105669,null,"４５～４９歳",47.6,12.6,163,7,249.7,234.7,553.6,3549.9999999999995,9726.0273972602736,49135]
[34,"５０～５４歳",52.4,17.899999999999999,166,13,341.9,310.39999999999998,858,4960.7999999999993,13591.232876712327,147311,null,"５０～５４歳",52.4,20,168,16,386.3,346.5,1001,5636.6,15442.739726027397,98968,null,"５０～５４歳",52.4,13.5,162,7,250.9,236.5,565.29999999999995,3576.1000000000004,9797.5342465753438,48344]
[35,"５５～５９歳",57.4,20.399999999999999,166,11,341.4,314.5,897.8,4994.5999999999995,13683.835616438355,126121,null,"５５～５９歳",57.4,22.7,167,13,385.8,351.8,1060.4000000000001,5690,15589.04109589041,84040,null,"５５～５９歳",57.4,15.8,162,6,252.7,240,573,3605.3999999999996,9877.8082191780813,42081]
[36,"６０～６４歳",62.3,19.2,165,8,268.39999999999998,252.1,520.20000000000005,3741,10249.31506849315,82684,null,"６０～６４歳",62.3,20.5,166,10,291.39999999999998,271.39999999999998,590.79999999999995,4087.5999999999995,11198.904109589039,57071,null,"６０～６４歳",62.3,16.5,161,4,217,208.9,362.9,2966.9,8128.4931506849316,25613]
[37,"６５～６９歳",67.2,16.600000000000001,164,6,238.2,226.8,282.10000000000002,3140.4999999999995,8604.1095890410943,34828,null,"６５～６９歳",67.3,16.7,166,7,251.3,238,292.7,3308.3,9063.8356164383567,24581,null,"６５～６９歳",67.2,16.399999999999999,160,4,206.8,200,256.7,2738.3,7502.1917808219177,10247]
[38,"７０歳～",73,17.8,162,5,224.6,216.6,217.3,2912.5,7979.4520547945203,16537,null,"７０歳～",72.900000000000006,17.100000000000001,164,5,231.8,222.6,202.4,2984.0000000000005,8175.342465753426,11555,null,"７０歳～",73.099999999999994,19.2,158,3,208,202.9,252,2748,7528.767123287671,4982]
[39,"専門学校",42.1,11,164,9,311.89999999999998,288.39999999999998,725.1,4467.8999999999996,12240.821917808218,362236,null,"専門学校",42.1,12.4,167,12,337.6,309.39999999999998,818.8,4870,13342.465753424656,191460,null,"専門学校",42.1,9.4,162,6,283.10000000000002,264.8,620.20000000000005,4017.4000000000005,11006.575342465756,170776]
[40,"　　～１９歳","-","-","-","-","-","-","-",null,null,"-",null,"　　～１９歳","-","-","-","-","-","-","-",null,null,"-",null,"　　～１９歳","-","-","-","-","-","-","-",null,null,"-"]
[41,"２０～２４歳",22.8,1.9,166,9,231.9,214.1,305.60000000000002,3088.4,8461.3698630136987,32748,null,"２０～２４歳",22.9,1.9,167,12,232.4,212,314.89999999999998,3103.7000000000003,8503.287671232878,14020,null,"２０～２４歳",22.8,1.8,165,7,231.5,215.7,298.5,3076.5,8428.767123287671,18728]
[42,"２５～２９歳",27.4,4.2,165,9,261.10000000000002,239,509.9,3643.1000000000004,9981.0958904109593,37463,null,"２５～２９歳",27.5,4.4000000000000004,166,12,265.39999999999998,240.7,534.1,3718.8999999999996,10188.767123287671,18706,null,"２５～２９歳",27.4,4.0999999999999996,163,6,256.89999999999998,237.4,485.7,3568.4999999999995,9776.712328767122,18757]
[43,"３０～３４歳",32.6,6.6,164,10,280.60000000000002,256.7,592.6,3959.8,10848.767123287673,38362,null,"３０～３４歳",32.700000000000003,6.9,166,13,295.8,266.10000000000002,652.6,4202.2000000000007,11512.876712328769,21599,null,"３０～３４歳",32.6,6.2,162,6,261,244.5,515.20000000000005,3647.2,9992.3287671232865,16763]
[44,"３５～３９歳",37.5,9.1999999999999993,164,10,306.3,279.2,703.5,4379.1000000000004,11997.534246575344,44707,null,"３５～３９歳",37.5,9.8000000000000007,166,14,326.89999999999998,293.60000000000002,772.8,4695.5999999999995,12864.657534246573,25964,null,"３５～３９歳",37.6,8.3000000000000007,160,5,277.7,259.2,607.5,3939.8999999999996,10794.246575342464,18744]
[45,"４０～４４歳",42.6,11.7,164,10,331.4,304.8,832.6,4809.3999999999996,13176.438356164383,51806,null,"４０～４４歳",42.6,12.9,167,12,358.8,327.5,933.8,5239.4000000000005,14354.520547945207,28985,null,"４０～４４歳",42.6,10.199999999999999,161,6,296.60000000000002,276,704,4263.2000000000007,11680.000000000002,22821]
[46,"４５～４９歳",47.5,14.3,165,10,346.4,319.60000000000002,888.3,5045.0999999999995,13822.191780821915,59859,null,"４５～４９歳",47.5,16.2,168,13,377,345.1,991.6,5515.6,15111.232876712331,34691,null,"４５～４９歳",47.4,11.6,161,6,304.2,284.5,746,4396.3999999999996,12044.931506849314,25168]
[47,"５０～５４歳",52.3,16.399999999999999,164,9,361.6,337.1,982.3,5321.5000000000009,14579.452054794523,45126,null,"５０～５４歳",52.3,19.3,167,11,402.6,374.6,1140.3,5971.5000000000009,16360.273972602741,23983,null,"５０～５４歳",52.4,13.1,161,6,315,294.5,803.2,4583.2,12556.712328767124,21143]
[48,"５５～５９歳",57.4,17.3,163,7,355.9,335.4,907.8,5178.5999999999995,14187.945205479451,30510,null,"５５～５９歳",57.3,20.3,166,8,397.4,373.9,1030,5798.7999999999993,15887.123287671231,14043,null,"５５～５９歳",57.4,14.8,161,5,320.60000000000002,302.60000000000002,803.7,4650.9000000000005,12742.191780821919,16467]
[49,"６０～６４歳",62.2,17.100000000000001,163,5,289.7,275.8,579.1,4055.4999999999995,11110.958904109588,15353,null,"６０～６４歳",62.3,19.8,167,7,313.8,298.2,616.70000000000005,4382.3,12006.301369863013,6626,null,"６０～６４歳",62.2,15,161,4,271.39999999999998,258.8,550.5,3807.2999999999997,10430.958904109588,8727]
[50,"６５～６９歳",67.2,16.7,163,5,262.60000000000002,251.3,345.8,3497.0000000000005,9580.82191780822,4660,null,"６５～６９歳",67.2,17.899999999999999,167,6,262.8,252.4,287.5,3441.1000000000004,9427.6712328767135,2066,null,"６５～６９歳",67.2,15.7,159,4,262.39999999999998,250.5,392.3,3541.1,9701.6438356164381,2594]
[51,"７０歳～",72.8,18.3,161,3,241.8,236.8,328,3229.6000000000004,8848.2191780821922,1642,null,"７０歳～",72.7,17.5,165,3,254.5,248.6,305.3,3359.3,9203.5616438356174,777,null,"７０歳～",72.900000000000006,19,158,2,230.4,226.2,348.4,3113.2000000000003,8529.3150684931516,865]
[52,"高専・短大",43.4,12.6,163,8,310.10000000000002,289.2,897.6,4618.8,12654.246575342466,224493,null,"高専・短大",43.2,14.8,164,13,379.2,345.7,1206.5,5756.9,15772.328767123288,71870,null,"高専・短大",43.5,11.6,163,6,277.60000000000002,262.60000000000002,752.1,4083.3,11187.123287671235,152623]
[53,"　　～１９歳","-","-","-","-","-","-","-",null,null,"-",null,"　　～１９歳","-","-","-","-","-","-","-",null,null,"-",null,"　　～１９歳","-","-","-","-","-","-","-",null,null,"-"]
[54,"２０～２４歳",22.8,2,166,8,225.7,210.7,448.3,3156.7,8648.4931506849316,19553,null,"２０～２４歳",22.9,2,164,14,237.9,212.1,462.3,3317.1000000000004,9087.9452054794529,5077,null,"２０～２４歳",22.8,2.1,167,6,221.4,210.2,443.4,3100.2000000000003,8493.698630136987,14476]
[55,"２５～２９歳",27.4,4.7,165,10,258.10000000000002,236.7,671.8,3769,10326.027397260274,20451,null,"２５～２９歳",27.4,4.9000000000000004,164,18,287.5,249.7,775.9,4225.8999999999996,11577.808219178081,6946,null,"２５～２９歳",27.4,4.5999999999999996,165,6,243,230.1,618.29999999999995,3534.3,9683.0136986301368,13505]
[56,"３０～３４歳",32.6,7.8,163,10,283.2,257.3,767.5,4165.8999999999996,11413.424657534244,19697,null,"３０～３４歳",32.6,8.6,162,17,329.7,285.3,962.5,4918.8999999999996,13476.438356164383,7653,null,"３０～３４歳",32.5,7.3,163,6,253.6,239.5,643.6,3686.7999999999997,10100.821917808218,12045]
[57,"３５～３９歳",37.6,10.5,162,9,304,279.39999999999998,860.3,4508.3,12351.506849315068,22803,null,"３５～３９歳",37.5,11.6,163,16,359.2,317,1077,5387.4,14760,8957,null,"３５～３９歳",37.6,9.8000000000000007,162,5,268.3,255.1,720.1,3939.7000000000003,10793.698630136987,13846]
[58,"４０～４４歳",42.6,12.6,162,9,321.7,297.10000000000002,927.4,4787.7999999999993,13117.260273972601,31215,null,"４０～４４歳",42.5,14.7,164,14,395.8,356,1226.5,5976.1,16372.876712328769,9990,null,"４０～４４歳",42.6,11.6,161,7,286.89999999999998,269.3,786.6,4229.3999999999996,11587.397260273972,21225]
[59,"４５～４９歳",47.5,14.8,163,9,334.1,311.2,1044.4000000000001,5053.6000000000004,13845.479452054797,39941,null,"４５～４９歳",47.5,18.5,165,12,429.5,394.6,1538.9,6692.9,18336.71232876712,11357,null,"４５～４９歳",47.5,13.3,162,7,296.2,278,847.9,4402.2999999999993,12061.095890410958,28584]
[60,"５０～５４歳",52.4,17.899999999999999,163,8,356.8,336.2,1166.7,5448.3,14926.849315068494,32054,null,"５０～５４歳",52.3,22.2,164,10,468.1,440.3,1727.7,7344.9000000000005,20123.01369863014,9301,null,"５０～５４歳",52.4,16.100000000000001,162,7,311.3,293.60000000000002,937.3,4672.9000000000005,12802.46575342466,22753]
[61,"５５～５９歳",57.4,19.399999999999999,163,6,356.3,339.3,1152.5999999999999,5428.2000000000007,14871.78082191781,22048,null,"５５～５９歳",57.4,25.3,165,8,480.8,457.2,1754.5,7524.1,20613.97260273973,6613,null,"５５～５９歳",57.4,17,162,5,302.89999999999998,288.8,894.7,4529.5,12409.589041095889,15436]
[62,"６０～６４歳",62.3,19.3,162,5,288.7,277.39999999999998,721.8,4186.2,11469.04109589041,12108,null,"６０～６４歳",62.4,21.6,165,6,340.9,326,910.7,5001.5,13702.739726027397,4280,null,"６０～６４歳",62.2,18.100000000000001,161,4,260.10000000000002,250.9,618.6,3739.8,10246.027397260274,7828]
[63,"６５～６９歳",66.900000000000006,16.5,163,5,273.10000000000002,262.8,441,3718.2000000000003,10186.849315068495,3494,null,"６５～６９歳",67,16.2,166,7,303.3,290.3,454,4093.6000000000004,11215.342465753425,1232,null,"６５～６９歳",66.900000000000006,16.600000000000001,161,4,256.60000000000002,247.9,433.9,3513.1000000000004,9624.9315068493161,2262]
[64,"７０歳～",73.5,18,164,2,260.3,257,454.3,3577.9000000000005,9802.4657534246599,1130,null,"７０歳～",74.099999999999994,11.9,171,3,234,229.2,224,3032,8306.8493150684935,466,null,"７０歳～",73.099999999999994,22.3,160,1,278.8,276.5,616,3961.6000000000004,10853.698630136987,664]
[65,"男女計\n大学",41.1,11.9,165,11,387.3,359.5,1167.4000000000001,5815,15931.506849315068,876420,null,"男\n大学",43,13.5,166,12,417.4,386.9,1301.5999999999999,6310.4,17288.767123287671,630788,null,"女\n大学",36.200000000000003,7.8,162,9,310,288.89999999999998,823,4543,12446.575342465752,245633]
[66,"　　～１９歳","-","-","-","-","-","-","-",null,null,"-",null,"　　～１９歳","-","-","-","-","-","-","-",null,null,"-",null,"　　～１９歳","-","-","-","-","-","-","-",null,null,"-"]
[67,"２０～２４歳",23.6,1.3,165,10,249.6,229.4,341.5,3336.7,9141.6438356164381,73346,null,"２０～２４歳",23.7,1.3,166,12,254.4,231.1,346.5,3399.3,9313.1506849315065,37687,null,"２０～２４歳",23.6,1.3,164,8,244.5,227.5,336.3,3270.3,8959.7260273972606,35659]
[68,"２５～２９歳",27.4,3.8,165,15,294.2,260.7,774.8,4305.2,11795.068493150686,137077,null,"２５～２９歳",27.5,3.9,166,18,306.5,267,798.5,4476.5,12264.383561643835,78110,null,"２５～２９歳",27.4,3.8,163,11,277.8,252.3,743.3,4076.9000000000005,11169.589041095891,58967]
[69,"３０～３４歳",32.5,6.7,164,14,336.3,301.2,931,4966.6000000000004,13607.123287671235,113332,null,"３０～３４歳",32.5,6.8,166,16,355.5,314.10000000000002,1008.1,5274.1,14449.589041095891,75444,null,"３０～３４歳",32.4,6.4,162,9,298.2,275.5,777.6,4356,11934.246575342466,37888]
[70,"３５～３９歳",37.5,10,164,14,382.7,346,1175.4000000000001,5767.7999999999993,15802.191780821917,109150,null,"３５～３９歳",37.5,10.3,166,16,407.8,364.8,1274.8,6168.4000000000005,16899.726027397261,78398,null,"３５～３９歳",37.4,9.4,160,8,318.60000000000002,298.2,922.2,4745.4000000000005,13001.095890410961,30753]
[71,"４０～４４歳",42.5,13.1,165,11,417.5,386.1,1351.4,6361.4,17428.493150684928,106837,null,"４０～４４歳",42.6,13.7,167,12,442.1,407.2,1455.7,6760.9000000000005,18523.013698630137,79906,null,"４０～４４歳",42.4,11.3,161,8,344.6,323.3,1041.9000000000001,5177.1000000000004,14183.835616438357,26931]
[72,"４５～４９歳",47.5,16.399999999999999,166,9,452.9,426.9,1519.2,6953.9999999999991,19052.054794520547,109010,null,"４５～４９歳",47.5,17.399999999999999,166,9,478.6,451,1641.9,7385.1,20233.150684931508,86325,null,"４５～４９歳",47.3,12.5,162,8,355.3,335.2,1052.0999999999999,5315.7000000000007,14563.561643835617,22685]
[73,"５０～５４歳",52.4,20.7,165,7,507.2,484.5,1845.3,7931.7,21730.68493150685,92878,null,"５０～５４歳",52.4,21.8,165,7,528.6,505.2,1972.1,8315.3000000000011,22781.643835616444,77136,null,"５０～５４歳",52.3,15.6,162,7,402.8,383,1224,6057.6,16596.164383561645,15742]
[74,"５５～５９歳",57.4,22.7,164,6,503.4,485.1,1763.1,7803.9,21380.547945205479,69649,null,"５５～５９歳",57.4,23.7,165,6,523.70000000000005,505.3,1861,8145.4000000000005,22316.164383561645,59173,null,"５５～５９歳",57.4,17.100000000000001,162,6,388.7,371.1,1210.4000000000001,5874.7999999999993,16095.342465753421,10476]
[75,"６０～６４歳",62.3,20,163,5,385.2,371.8,942.7,5565.0999999999995,15246.849315068492,46574,null,"６０～６４歳",62.3,20.5,164,6,392.7,379,971.7,5684.0999999999995,15572.876712328765,41611,null,"６０～６４歳",62.1,15.9,160,4,322.3,311.60000000000002,699.9,4567.5,12513.698630136985,4963]
[76,"６５～６９歳",67,16.3,164,4,361.7,352,579.9,4920.2999999999993,13480.273972602738,13484,null,"６５～６９歳",67,16.3,164,4,359.8,349.8,572.5,4890.1000000000004,13397.534246575344,12278,null,"６５～６９歳",67,16.899999999999999,160,3,381.7,374.6,655.20000000000005,5235.5999999999995,14344.109589041094,1206]
[77,"７０歳～",73.099999999999994,18,164,3,390.3,383,433.2,5116.8,14018.630136986301,5083,null,"７０歳～",73,17.100000000000001,164,3,390.1,382.5,386.5,5067.7000000000007,13884.109589041098,4720,null,"７０歳～",74.2,29.4,162,1,393.5,389.9,1040.5999999999999,5762.6,15787.945205479453,363]
[78,"大学院",41.2,11.3,164,12,489.1,454.1,1806.8,7676.0000000000009,21030.136986301372,100251,null,"大学院",41.4,11.9,165,13,502.9,465.4,1897,7931.7999999999993,21730.95890410959,82706,null,"大学院",40.4,8.6,163,8,424,400.6,1381.6,6469.6,17724.931506849316,17545]
[79,"　　～１９歳","-","-","-","-","-","-","-",null,null,"-",null,"　　～１９歳","-","-","-","-","-","-","-",null,null,"-",null,"　　～１９歳","-","-","-","-","-","-","-",null,null,"-"]
[80,"２０～２４歳",24.5,0.5,164,5,256.8,245,41.5,3123.1000000000004,8556.4383561643845,1551,null,"２０～２４歳",24.5,0.5,164,6,258.2,245.8,33.1,3131.4999999999995,8579.4520547945194,1120,null,"２０～２４歳",24.5,0.6,164,4,253,243,63.2,3099.2,8490.9589041095878,431]
[81,"２５～２９歳",27.5,2.7,164,19,322.60000000000002,278.8,908.1,4779.3,13093.972602739728,16167,null,"２５～２９歳",27.5,2.7,164,20,327,281,926.4,4850.3999999999996,13288.767123287669,12640,null,"２５～２９歳",27.6,2.6,163,16,306.5,270.89999999999998,842.3,4520.3,12384.383561643837,3527]
[82,"３０～３４歳",32.5,6.1,163,18,394.5,345.2,1359.7,6093.7,16695.068493150684,16166,null,"３０～３４歳",32.5,6.2,164,20,401.7,348.7,1421.7,6242.0999999999995,17101.643835616436,13632,null,"３０～３４歳",32.4,5.4,163,12,355.9,325.89999999999998,1026.8,5297.5999999999995,14513.972602739725,2535]
[83,"３５～３９歳",37.6,9.5,163,15,472.3,425.3,1730.6,7398.2000000000007,20269.04109589041,16102,null,"３５～３９歳",37.6,9.6999999999999993,163,16,482.7,431.2,1801.5,7593.9,20805.205479452052,13458,null,"３５～３９歳",37.700000000000003,8.4,161,8,419,395.5,1369.5,6397.5,17527.39726027397,2644]
[84,"４０～４４歳",42.4,12.6,164,11,529.5,490.4,2066.6,8420.6,23070.136986301372,15035,null,"４０～４４歳",42.4,13,165,12,547,503.8,2181,8745,23958.904109589042,12378,null,"４０～４４歳",42.6,10.6,162,6,448,427.6,1533.7,6909.7,18930.68493150685,2657]
[85,"４５～４９歳",47.4,15.6,166,7,562.6,538.20000000000005,2209.3000000000002,8960.5,24549.31506849315,13352,null,"４５～４９歳",47.4,16.5,166,7,578.1,552.4,2304.6999999999998,9241.9000000000015,25320.273972602747,11088,null,"４５～４９歳",47.5,11,164,5,486.7,468.8,1741.9,7582.2999999999993,20773.424657534248,2264]
[86,"５０～５４歳",52.4,19.8,167,4,630,611.20000000000005,2583.6,10143.6,27790.68493150685,9596,null,"５０～５４歳",52.4,21,168,4,643.79999999999995,625.70000000000005,2719.8,10445.4,28617.534246575342,8038,null,"５０～５４歳",52.5,13.2,163,5,559,536.4,1881,8589,23531.506849315068,1558]
[87,"５５～５９歳",57.4,22.3,165,3,669.7,657.1,2985.3,11021.7,30196.438356164384,6723,null,"５５～５９歳",57.4,23.4,165,3,690.3,676.7,3125.7,11409.3,31258.35616438356,5695,null,"５５～５９歳",57.3,16.3,166,2,555.9,548.70000000000005,2207.4,8878.1999999999989,24323.835616438351,1028]
[88,"６０～６４歳",62.3,19.399999999999999,164,3,617.20000000000005,606.9,2176.3000000000002,9582.7000000000007,26253.97260273973,3922,null,"６０～６４歳",62.3,20.100000000000001,164,3,632.5,620.79999999999995,2191.1,9781.1,26797.534246575342,3226,null,"６０～６４歳",62.2,16.3,166,1,546.6,542.20000000000005,2107.5,8666.7000000000007,23744.383561643837,696]
[89,"６５～６９歳",67.099999999999994,16.2,164,3,619.29999999999995,611.5,1646.2,9077.7999999999993,24870.684931506847,1413,null,"６５～６９歳",67.2,15.7,164,3,620.1,611.79999999999995,1642.1,9083.3000000000011,24885.753424657538,1223,null,"６５～６９歳",66.8,19.8,162,2,613.79999999999995,609.6,1672.2,9037.7999999999993,24761.095890410958,190]
[90,"７０歳～",73.3,14.7,161,1,546.70000000000005,543.6,1114,7674.4000000000005,21025.753424657538,224,null,"７０歳～",73.3,15,161,2,552.6,549.20000000000005,1122.8,7754.0000000000009,21243.835616438359,210,null,"７０歳～",73.599999999999994,10.7,169,0,460.7,460.7,983.2,6511.5999999999995,17840,14]
[91,"不明",45.4,9,164,12,275.8,252.7,399.3,3708.9000000000005,10161.369863013701,179720,null,"不明",46,10.199999999999999,167,15,314.8,284.3,528.9,4306.5,11798.630136986301,96478,null,"不明",44.7,7.7,160,8,230.6,216.1,249,3016.2,8263.5616438356155,83242]
[92,"　　～１９歳",19.2,1.1000000000000001,165,9,195,182.7,56.8,2396.8000000000002,6566.5753424657541,909,null,"　　～１９歳",19.2,1.3,164,8,189.2,176.9,74.900000000000006,2345.2999999999997,6425.4794520547939,390,null,"　　～１９歳",19.100000000000001,0.9,166,9,199.4,187,43.1,2435.9,6673.698630136987,519]
[93,"２０～２４歳",23.1,1.9,165,14,220.3,197.1,136.5,2780.1000000000004,7616.7123287671247,11657,null,"２０～２４歳",23.1,2,166,15,230.4,203.9,176.3,2941.1000000000004,8057.8082191780832,5712,null,"２０～２４歳",23,1.8,163,13,210.6,190.5,98.3,2625.5,7193.1506849315074,5945]
[94,"２５～２９歳",27.5,3.1,165,13,246.7,222.5,238.7,3199.0999999999995,8764.6575342465731,17475,null,"２５～２９歳",27.5,3.3,166,16,261.10000000000002,230.3,298.60000000000002,3431.8,9402.1917808219168,8654,null,"２５～２９歳",27.4,2.9,164,10,232.5,214.9,180,2970,8136.9863013698623,8821]
[95,"３０～３４歳",32.5,4.9000000000000004,164,12,267.10000000000002,243,333,3538.2000000000003,9693.698630136987,16652,null,"３０～３４歳",32.5,5.3,166,15,290.5,259.60000000000002,423.4,3909.4,10710.684931506848,8985,null,"３０～３４歳",32.4,4.5999999999999996,161,9,239.8,223.5,227.1,3104.7000000000003,8506.0273972602736,7666]
[96,"３５～３９歳",37.5,6.7,163,13,282.89999999999998,255.2,424.6,3819.3999999999996,10464.109589041096,17264,null,"３５～３９歳",37.4,7.1,166,18,314.60000000000002,277.8,543.4,4318.6000000000004,11831.780821917808,9536,null,"３５～３９歳",37.6,6.2,159,8,243.9,227.3,278,3204.8,8780.2739726027412,7729]
[97,"４０～４４歳",42.6,9.1,163,12,300.3,274.7,531,4134.6000000000004,11327.671232876713,19105,null,"４０～４４歳",42.7,10.1,166,16,343.2,308.7,693.6,4812,13183.561643835617,10720,null,"４０～４４歳",42.5,7.9,159,7,245.6,231.3,323.10000000000002,3270.2999999999997,8959.7260273972588,8385]
[98,"４５～４９歳",47.5,10.4,164,13,304.5,277.8,533.79999999999995,4187.8,11473.424657534248,25705,null,"４５～４９歳",47.5,12.4,169,17,361.8,325.10000000000002,724.2,5065.8,13878.904109589042,13544,null,"４５～４９歳",47.4,8.1,159,8,240.7,225.1,321.8,3210.2,8795.0684931506858,12161]
[99,"５０～５４歳",52.4,11.8,164,12,300.2,275.7,519.5,4121.8999999999996,11292.876712328767,23573,null,"５０～５４歳",52.3,14.3,169,17,361,326.2,726,5058,13857.534246575342,12029,null,"５０～５４歳",52.4,9.1999999999999993,159,7,236.8,223.2,304.3,3145.9000000000005,8618.9041095890425,11544]
[100,"５５～５９歳",57.4,12.7,164,11,294.39999999999998,272.8,505,4037.7999999999997,11062.465753424658,20000,null,"５５～５９歳",57.4,14.7,168,15,358.5,327.2,725.4,5027.3999999999996,13773.698630136985,10227,null,"５５～５９歳",57.3,10.6,160,6,227.3,215.9,274.2,3001.8,8224.1095890410979,9773]
[101,"６０～６４歳",62.3,13,162,8,257.5,241.2,326,3416,9358.9041095890407,14686,null,"６０～６４歳",62.4,13.1,166,10,293.89999999999998,273.2,419.6,3946.3999999999996,10812.054794520547,8551,null,"６０～６４歳",62.2,12.9,157,6,206.8,196.5,195.5,2677.1000000000004,7334.520547945207,6135]
[102,"６５～６９歳",67.2,14.2,162,7,234.7,221.4,181.8,2998.2,8214.246575342464,8438,null,"６５～６９歳",67.2,13.7,165,8,256.60000000000002,240.5,202.7,3281.9,8991.5068493150684,5518,null,"６５～６９歳",67.3,15.1,156,5,193.3,185.3,142.4,2462.0000000000005,6745.2054794520564,2920]
[103,"７０歳～",73.3,15,159,4,209.7,202.2,125.2,2641.5999999999995,7237.2602739726008,4256,null,"７０歳～",73.2,15.1,163,5,229.1,220.1,123.1,2872.2999999999997,7869.3150684931497,2611,null,"７０歳～",73.5,14.8,153,4,178.9,174,128.4,2275.2000000000003,6233.4246575342468,1645]

{"sheet":"賃セＲ２","index":14,"n_rows":112,"n_cols":36,"rows_kept":112,"cut":false,"hidden":true,"merged":[[4,26,4,35],[5,2,6,2],[5,3,6,3],[5,4,6,4],[5,5,6,5],[5,27,6,27],[5,26,6,26],[5,28,6,28],[5,29,6,29],[5,30,6,30],[5,32,6,32],[5,35,6,35],[4,0,6,1],[4,2,4,11],[4,12,6,13],[4,14,4,23],[4,24,6,25],[5,6,6,6],[5,8,6,8],[5,11,6,11],[5,14,6,14],[5,15,6,15],[5,16,6,16],[5,17,6,17],[5,18,6,18],[5,20,6,20],[5,23,6,23]]}
["令和２年賃金構造基本統計調査"]
["第１表　　年齢階級別きまって支給する現金給与額、所定内給与額及び年間賞与その他特別給与額"]
["産業",null,"産業計"]
[]
["区　分",null,"企業規模計（10人以上）",null,null,null,null,null,null,null,null,null,"区　分",null,"企業規模計（10人以上）",null,null,null,null,null,null,null,null,null,"区　分",null,"企業規模計（10人以上）"]
[null,null,"年齢","勤続\n年数","所定内\n実労働\n時間数","超過\n実労働\n時間数","きまって\n支給す\nる現金\n給与額",null,"年間賞与その他特別給与額","年額計","日額","労働者数",null,null,"年齢","勤続\n年数","所定内\n実労働\n時間数","超過\n実労働\n時間数","きまって\n支給す\nる現金\n給与額",null,"年間賞与その他特別給与額","年額計","日額","労働者数",null,null,"年齢","勤続\n年数","所定内\n実労働\n時間数","超過\n実労働\n時間数","きまって\n支給す\nる現金\n給与額",null,"年間賞与その他特別給与額","年額計","日額","労働者数"]
[null,null,null,null,null,null,null,"所定内\n給与額",null,null,"÷365",null,null,null,null,null,null,null,null,"所定内\n給与額",null,null,"÷365",null,null,null,null,null,null,null,null,"所定内\n給与額",null,null,"÷365"]
[null,null,"歳","年","時間","時間","千円","千円","千円",null,null,"十人"]
[0,"男女計\n学歴計",43.2,11.9,165,10,330.6,307.7,905.7,{"$f":"G9*12+I9","v":4872.9000000000005},{"$f":"J9/365*1000","v":13350.410958904111},2765005,null,"男\n学歴計",43.8,13.4,166,12,366.6,338.8,1060.3,{"$f":"S9*12+U9","v":5459.5000000000009},{"$f":"V9/365*1000","v":14957.534246575346},1775633,null,"女\n学歴計",42,9.3000000000000007,162,6,265.89999999999998,251.9,628.4,{"$f":"AE9*12+AG9","v":3819.2},{"$f":"AH9/365*1000","v":10463.561643835616},989373]
[1,"　　～１９歳",19.100000000000001,0.9,165,7,191.6,179.6,128.1,2427.2999999999997,6650.1369863013697,25121,null,"　　～１９歳",19,0.9,165,8,197,183.2,141.5,2505.5,6864.3835616438355,15620,null,"　　～１９歳",19.100000000000001,0.9,166,6,182.6,173.7,106.1,2297.2999999999997,6293.9726027397246,9501]
[2,"２０～２４歳",23,2.1,165,9,230.1,212.1,378.3,3139.5,8601.3698630136987,210264,null,"２０～２４歳",23,2.2000000000000002,166,12,237.1,214.6,411.5,3256.7,8922.4657534246562,109795,null,"２０～２４歳",23,1.9,165,7,222.4,209.4,342.1,3010.9,8249.0410958904104,100469]
[3,"２５～２９歳",27.5,4.0999999999999996,165,11,269.2,244.6,665,3895.3999999999996,10672.328767123287,300805,null,"２５～２９歳",27.5,4.3,166,14,282.3,252.6,716.1,4103.7000000000007,11243.013698630139,176463,null,"２５～２９歳",27.4,3.9,163,8,250.5,233.4,592.70000000000005,3598.7,9859.4520547945194,124342]
[4,"３０～３４歳",32.5,6.8,165,12,301.60000000000002,274.39999999999998,795,4414.2000000000007,12093.698630136987,286143,null,"３０～３４歳",32.5,7.1,166,14,322.3,289.2,888.7,4756.3,13030.95890410959,186082,null,"３０～３４歳",32.5,6.3,162,7,263.10000000000002,246.8,620.79999999999995,3778,10350.68493150685,100061]
[5,"３５～３９歳",37.5,9.5,165,11,333.3,305.2,935.4,4935,13520.547945205479,303760,null,"３５～３９歳",37.5,10,166,14,362.8,328.3,1057.7,5411.3,14825.479452054795,203177,null,"３５～３９歳",37.5,8.4,161,6,273.8,258.5,688.3,3973.9000000000005,10887.397260273974,100583]
[6,"４０～４４歳",42.6,12.1,165,10,355.8,329.8,1036.5999999999999,5306.2000000000007,14537.534246575344,353141,null,"４０～４４歳",42.6,13.2,167,13,392.5,360.7,1193.3,5903.3,16173.424657534248,235073,null,"４０～４４歳",42.6,10,162,6,282.7,268.3,724.6,4117,11279.452054794519,118068]
[7,"４５～４９歳",47.5,15.1,165,10,372.8,347.4,1133,5606.6,15360.547945205481,403473,null,"４５～４９歳",47.5,16.899999999999999,167,12,418.9,387.9,1331.1,6357.9,17418.904109589039,263484,null,"４５～４９歳",47.5,11.6,162,6,286,271.10000000000002,760.2,4192.2,11485.479452054793,139989]
[8,"５０～５４歳",52.4,17.5,165,9,390.5,368,1218.4000000000001,5904.4,16176.438356164383,340309,null,"５０～５４歳",52.4,20,167,10,446.6,419.6,1480.4,6839.6,18738.630136986303,219248,null,"５０～５４歳",52.4,12.8,162,6,288.89999999999998,274.7,744,4210.7999999999993,11536.438356164383,121061]
[9,"５５～５９歳",57.4,19.7,165,7,387.7,368.6,1190.2,5842.5999999999995,16007.123287671231,273041,null,"５５～５９歳",57.4,22.4,166,9,443,420.1,1445.7,6761.7,18525.205479452055,178633,null,"５５～５９歳",57.4,14.7,162,5,283.10000000000002,271.10000000000002,706.7,4103.9000000000005,11243.561643835617,94408]
[10,"６０～６４歳",62.3,18.2,164,6,302.60000000000002,289.3,670.5,4301.7000000000007,11785.479452054797,170067,null,"６０～６４歳",62.3,19.5,166,7,329.8,314.3,761.6,4719.2000000000007,12929.315068493153,118324,null,"６０～６４歳",62.2,15.3,161,4,240.3,232,462.1,3345.7000000000003,9166.301369863013,51743]
[11,"６５～６９歳",67.2,16.100000000000001,164,5,267.8,257.39999999999998,363.4,3577.0000000000005,9800,67540,null,"６５～６９歳",67.2,16,166,6,287.10000000000002,275,394.6,3839.8,10520.000000000002,47529,null,"６５～６９歳",67.2,16.100000000000001,160,3,222,215.5,289.39999999999998,2953.4,8091.5068493150684,20012]
[12,"７０歳～",73,17.3,164,4,255.6,247.9,272.7,3339.8999999999996,9150.4109589041091,31341,null,"７０歳～",73,16.7,166,5,269.39999999999998,260.5,258.8,3491.6,9566.0273972602754,22205,null,"７０歳～",73.099999999999994,18.8,160,3,222.1,217.3,306.3,2971.5,8141.0958904109593,9136]
[13,"中学",49.4,13.4,168,13,282.7,257.2,450.4,3842.7999999999997,10528.21917808219,69516,null,"中学",49.6,14.2,171,14,304,274.5,494,4142,11347.945205479451,54274,null,"中学",48.8,10.4,161,6,206.9,195.7,295.39999999999998,2778.2000000000003,7611.5068493150693,15243]
[14,"　　～１９歳",18.5,1.4,166,7,214.8,205.4,68,2645.6000000000004,7248.2191780821931,786,null,"　　～１９歳",18.5,1.4,166,6,225.7,217.1,67.3,2775.7,7604.6575342465749,575,null,"　　～１９歳",18.7,1.5,167,8,185,173.8,69.8,2289.8000000000002,6273.4246575342468,212]
[15,"２０～２４歳",22.7,2.6,165,13,224.8,204.3,164.4,2862.0000000000005,7841.0958904109602,2377,null,"２０～２４歳",22.7,2.6,171,18,248.9,220.9,203.6,3190.4,8740.82191780822,1558,null,"２０～２４歳",22.6,2.7,153,4,179,172.7,90,2238,6131.5068493150684,820]
[16,"２５～２９歳",27.5,4.3,169,14,250.1,225.8,332.4,3333.6,9133.1506849315065,3946,null,"２５～２９歳",27.5,4.5999999999999996,173,16,269.10000000000002,240.3,367.9,3597.1000000000004,9855.0684931506858,2894,null,"２５～２９歳",27.6,3.6,158,8,197.7,185.8,234.8,2607.1999999999998,7143.0136986301368,1052]
[17,"３０～３４歳",32.5,5.7,167,15,270.10000000000002,240.9,397.8,3639.0000000000005,9969.8630136986321,4966,null,"３０～３４歳",32.5,6.1,169,17,287.89999999999998,252.1,447.9,3902.7,10692.328767123287,3675,null,"３０～３４歳",32.6,4.5,160,7,219.7,208.7,255.3,2891.7,7922.4657534246571,1291]
[18,"３５～３９歳",37.5,8,169,15,297.3,265.7,475.8,4043.4000000000005,11077.808219178083,7085,null,"３５～３９歳",37.5,8.6,170,17,319,282.8,534.70000000000005,4362.7,11952.602739726028,5501,null,"３５～３９歳",37.4,6,163,8,222,206.3,271.2,2935.2,8041.6438356164372,1584]
[19,"４０～４４歳",42.7,10.7,171,14,313.7,285.2,548,4312.3999999999996,11814.794520547943,6782,null,"４０～４４歳",42.7,11.5,172,16,333.4,302.2,605,4605.7999999999993,12618.630136986299,5598,null,"４０～４４歳",43,7.1,163,9,220.3,204.8,278.60000000000002,2922.2000000000003,8006.0273972602736,1184]
[20,"４５～４９歳",47.5,12.9,170,16,322.5,287,569.70000000000005,4439.7,12163.561643835616,9995,null,"４５～４９歳",47.5,13.8,171,18,343.2,302.89999999999998,612.20000000000005,4730.5999999999995,12960.547945205479,8109,null,"４５～４９歳",47.5,8.9,162,8,233.5,219,386.7,3188.7,8736.1643835616433,1886]
[21,"５０～５４歳",52.3,15.2,169,14,319,287.3,595.5,4423.5,12119.17808219178,8348,null,"５０～５４歳",52.3,16.3,171,16,342,306.10000000000002,641.79999999999995,4745.8,13002.191780821919,6748,null,"５０～５４歳",52.4,10.8,160,7,222,207.9,400.4,3064.4,8395.6164383561645,1600]
[22,"５５～５９歳",57.5,18.3,169,13,307.5,281.5,618.6,4308.6000000000004,11804.383561643837,6501,null,"５５～５９歳",57.5,19.100000000000001,172,14,329.3,299.7,645.20000000000005,4596.8,12593.972602739728,5160,null,"５５～５９歳",57.6,15.1,160,6,223.4,211.3,516.4,3197.2000000000003,8759.4520547945212,1340]
[23,"６０～６４歳",62.5,20.7,167,10,261.8,242.6,405.7,3547.3,9718.6301369863031,7529,null,"６０～６４歳",62.6,22.1,170,11,280,258,439.5,3799.5,10409.589041095889,6005,null,"６０～６４歳",62.5,14.9,157,4,190.3,182,272.7,2556.3000000000002,7003.5616438356174,1524]
[24,"６５～６９歳",67.400000000000006,19.3,168,8,234.6,221.2,247.5,3062.7,8390.9589041095878,6087,null,"６５～６９歳",67.400000000000006,19.600000000000001,170,8,249.6,234.3,267,3262.2,8937.534246575342,4747,null,"６５～６９歳",67.400000000000006,17.899999999999999,163,4,181.6,174.9,178.3,2357.5,6458.9041095890416,1340]
[25,"７０歳～",73.400000000000006,19.7,166,5,216.1,207.2,243.4,2836.6,7771.5068493150684,5113,null,"７０歳～",73.3,19.899999999999999,168,6,234.9,224.2,238.6,3057.4,8376.4383561643845,3704,null,"７０歳～",73.400000000000006,19.3,162,3,166.8,162.5,255.8,2257.4,6184.6575342465758,1409]
[26,"高校",45.2,13.2,166,11,295.39999999999998,270.39999999999998,711.4,4256.2,11660.82191780822,994514,null,"高校",45.1,14.6,167,14,326.60000000000002,295,828.3,4747.5,13006.849315068494,676441,null,"高校",45.2,10.5,163,6,228.9,218,462.7,3209.5,8793.1506849315065,318073]
[27,"　　～１９歳",19.100000000000001,0.9,165,7,190.9,179.4,133.9,2424.7000000000003,6643.0136986301377,23320,null,"　　～１９歳",19,0.9,165,8,196.5,182.4,146.80000000000001,2504.8000000000002,6862.465753424658,14541,null,"　　～１９歳",19.100000000000001,0.9,166,5,181.8,174.5,112.4,2294.0000000000005,6284.931506849317,8778]
[28,"２０～２４歳",22.5,3.1,165,12,220.3,199,468.2,3111.8,8525.4794520547948,72286,null,"２０～２４歳",22.6,3.2,165,14,230.6,204.3,520,3287.2,9006.0273972602736,46324,null,"２０～２４歳",22.5,2.9,164,7,202,189.6,375.6,2799.6,7670.1369863013697,25963]
[29,"２５～２９歳",27.5,5.4,165,12,248.1,223.1,536.70000000000005,3513.8999999999996,9627.1232876712311,70353,null,"２５～２９歳",27.5,5.7,166,15,264.2,233.1,609.70000000000005,3780.0999999999995,10356.438356164383,48045,null,"２５～２９歳",27.5,5,163,7,213.6,201.5,379.6,2942.7999999999997,8062.4657534246571,22308]
[30,"３０～３４歳",32.5,7.7,165,13,271.39999999999998,243.7,623.29999999999995,3880.0999999999995,10630.410958904107,76470,null,"３０～３４歳",32.5,8.1999999999999993,166,16,292.7,258.7,715.1,4227.5,11582.191780821917,54393,null,"３０～３４歳",32.5,6.5,162,7,218.8,206.6,397,3022.6000000000004,8281.0958904109593,22077]
[31,"３５～３９歳",37.6,10,166,13,294.60000000000002,265.7,708.9,4244.1000000000004,11627.671232876713,88625,null,"３５～３９歳",37.6,10.7,167,16,321.2,285.2,809.7,4664.0999999999995,12778.35616438356,63574,null,"３５～３９歳",37.6,8.1999999999999993,162,6,227.2,216.1,453.4,3179.7999999999997,8711.7808219178078,25052]
[32,"４０～４４歳",42.6,12.7,166,13,316.7,285.5,794.9,4595.2999999999993,12589.863013698627,116464,null,"４０～４４歳",42.6,13.9,168,16,350.6,311.39999999999998,915.2,5122.4000000000005,14033.972602739726,82805,null,"４０～４４歳",42.6,10,163,6,233.5,221.9,499.1,3301.1,9044.1095890410961,33660]
[33,"４５～４９歳",47.6,15.6,166,12,331.8,301.3,889.2,4870.8,13344.657534246575,152995,null,"４５～４９歳",47.5,17.5,168,15,372.5,333.3,1039.8,5509.8,15095.342465753425,103673,null,"４５～４９歳",47.6,11.7,163,6,246.3,234,572.70000000000005,3528.3,9666.5753424657541,49323]
[34,"５０～５４歳",52.4,17.3,166,11,334,307,881.1,4889.1000000000004,13394.794520547946,142316,null,"５０～５４歳",52.4,19.7,168,14,379.9,345.4,1043.0999999999999,5601.9,15347.671232876712,93578,null,"５０～５４歳",52.4,12.8,162,6,245.9,233.5,570.20000000000005,3521,9646.5753424657541,48738]
[35,"５５～５９歳",57.4,19.899999999999999,166,9,335.3,312.8,917.4,4941,13536.986301369863,125574,null,"５５～５９歳",57.4,22.7,167,12,382.8,353.7,1116.8,5710.4000000000005,15644.931506849316,82665,null,"５５～５９歳",57.5,14.4,163,4,243.7,234,533.20000000000005,3457.5999999999995,9472.8767123287653,42910]
[36,"６０～６４歳",62.3,18.399999999999999,165,7,263.3,248.7,511.7,3671.3,10058.356164383562,78052,null,"６０～６４歳",62.3,19.8,166,9,285.89999999999998,268,582.20000000000005,4013,10994.520547945205,53735,null,"６０～６４歳",62.2,15.3,162,4,213.2,206.1,355.8,2914.2,7984.1095890410952,24316]
[37,"６５～６９歳",67.2,16.2,165,6,236.3,225.3,290.60000000000002,3126.2000000000003,8564.9315068493161,33454,null,"６５～６９歳",67.2,16.3,167,7,252.1,238.6,316.89999999999998,3342.1,9156.4383561643826,23061,null,"６５～６９歳",67.2,16.100000000000001,161,3,201.2,195.7,232.2,2646.5999999999995,7250.9589041095878,10393]
[38,"７０歳～",72.900000000000006,17.7,165,5,224.9,216.5,230.1,2928.9,8024.3835616438355,14604,null,"７０歳～",72.8,16.8,167,6,231.1,221.3,227.4,3000.6,8220.82191780822,10048,null,"７０歳～",73.2,19.600000000000001,161,3,211.2,205.8,236,2770.3999999999996,7590.1369863013688,4555]
[39,"専門学校",41.8,10.5,165,8,307.8,287.60000000000002,753.5,4447.1000000000004,12183.835616438357,366417,null,"専門学校",41.6,11.9,167,10,333.1,309.3,846.7,4843.9000000000005,13270.958904109591,192801,null,"専門学校",42.1,8.9,162,5,279.7,263.39999999999998,650,4006.3999999999996,10976.438356164383,173616]
[40,"　　～１９歳","-","-","-","-","-","-","-","-","-","-",null,"　　～１９歳","-","-","-","-","-","-","-","-","-","-",null,"　　～１９歳","-","-","-","-","-","-","-","-","-","-"]
[41,"２０～２４歳",22.8,1.8,166,7,230.9,215.1,332.5,3103.3,8502.1917808219187,33091,null,"２０～２４歳",22.8,1.8,168,10,231.4,213.4,343.9,3120.7000000000003,8549.8630136986303,13879,null,"２０～２４歳",22.9,1.8,165,5,230.5,216.4,324.2,3090.2,8466.301369863013,19212]
[42,"２５～２９歳",27.4,4.0999999999999996,166,8,256.39999999999998,238.7,515.1,3591.8999999999996,9840.8219178082181,38525,null,"２５～２９歳",27.5,4.2,168,9,259.5,241.2,520.70000000000005,3634.7,9958.0821917808207,19619,null,"２５～２９歳",27.3,4,163,6,253.1,236.1,509.3,3546.5,9716.4383561643826,18906]
[43,"３０～３４歳",32.700000000000003,6.6,165,8,283,263.10000000000002,641.70000000000005,4037.7,11062.191780821917,40021,null,"３０～３４歳",32.700000000000003,7,166,10,297.2,274.2,705.8,4272.2,11704.657534246575,23182,null,"３０～３４歳",32.6,6.2,162,5,263.39999999999998,247.8,553.29999999999995,3714.0999999999995,10175.616438356163,16839]
[44,"３５～３９歳",37.5,8.9,164,9,304.39999999999998,282.3,740,4392.7999999999993,12035.068493150684,45555,null,"３５～３９歳",37.5,9.6,166,12,326.8,299.8,801.7,4723.3,12940.547945205481,26973,null,"３５～３９歳",37.5,8,161,5,271.89999999999998,256.8,650.4,3913.2,10721.095890410959,18583]
[45,"４０～４４歳",42.6,11.1,165,8,323.60000000000002,301.39999999999998,824.7,4707.9000000000005,12898.356164383562,56109,null,"４０～４４歳",42.6,12.3,167,11,345.7,319.8,881.8,5030.2,13781.369863013697,32987,null,"４０～４４歳",42.5,9.4,161,5,292.10000000000002,275.2,743.1,4248.3,11639.178082191782,23122]
[46,"４５～４９歳",47.4,14.3,165,9,345.2,320.2,971.1,5113.5,14009.589041095891,59858,null,"４５～４９歳",47.4,16.600000000000001,167,12,380.9,351.4,1098.8,5669.5999999999995,15533.150684931506,33943,null,"４５～４９歳",47.5,11.2,162,6,298.5,279.39999999999998,803.9,4385.8999999999996,12016.164383561643,25915]
[47,"５０～５４歳",52.2,15.1,165,7,349,329.7,960,5148,14104.109589041096,43558,null,"５０～５４歳",52.2,19,168,9,398.8,376.2,1192.8,5978.4000000000005,16379.178082191782,20703,null,"５０～５４歳",52.2,11.5,163,5,303.89999999999998,287.60000000000002,749.1,4395.8999999999996,12043.561643835614,22855]
[48,"５５～５９歳",57.3,16.899999999999999,164,6,351.2,332.5,975.9,5190.2999999999993,14219.999999999998,29019,null,"５５～５９歳",57.3,20.399999999999999,167,8,399.4,378.5,1155.8,5948.5999999999995,16297.534246575342,12225,null,"５５～５９歳",57.3,14.3,161,5,316.10000000000002,299,845,4638.2000000000007,12707.397260273976,16794]
[49,"６０～６４歳",62.2,16.3,164,5,292.3,278.39999999999998,610.1,4117.7000000000007,11281.369863013701,14550,null,"６０～６４歳",62.1,17.8,167,7,309.2,293.8,622.4,4332.7999999999993,11870.684931506847,6556,null,"６０～６４歳",62.2,15,161,3,278.39999999999998,265.89999999999998,600,3940.7999999999997,10796.712328767124,7995]
[50,"６５～６９歳",67.099999999999994,15.1,162,4,263.5,252.1,404.7,3566.7,9771.7808219178078,4682,null,"６５～６９歳",67,14.8,164,6,269.60000000000002,258.10000000000002,386.9,3622.1000000000004,9923.5616438356174,2095,null,"６５～６９歳",67.2,15.4,161,3,258.60000000000002,247.2,419.2,3522.4,9650.4109589041109,2586]
[51,"７０歳～",72.7,16.2,161,3,248.5,242.3,376,3358,9200,1448,null,"７０歳～",72.599999999999994,15.2,164,4,229.5,221.6,249.9,3003.9,8229.8630136986303,638,null,"７０歳～",72.8,17,159,1,263.5,258.60000000000002,475.2,3637.2,9964.9315068493142,810]
[52,"高専・短大",43.2,12.1,164,7,301.7,284.5,908.2,4528.5999999999995,12407.123287671231,214995,null,"高専・短大",43.3,14.7,165,11,373,345.5,1261.2,5737.2,15718.35616438356,64894,null,"高専・短大",43.2,11,163,5,270.89999999999998,258.10000000000002,755.6,4006.3999999999996,10976.438356164383,150101]
[53,"　　～１９歳","-","-","-","-","-","-","-","-","-","-",null,"　　～１９歳","-","-","-","-","-","-","-","-","-","-",null,"　　～１９歳","-","-","-","-","-","-","-","-","-","-"]
[54,"２０～２４歳",22.7,2,167,6,220.9,207.9,436.9,3087.7000000000003,8459.4520547945212,18275,null,"２０～２４歳",22.9,2,166,12,237.5,213.7,478.7,3328.7,9119.7260273972588,4374,null,"２０～２４歳",22.7,2,168,4,215.6,206.1,423.7,3010.8999999999996,8249.0410958904104,13900]
[55,"２５～２９歳",27.4,4.7,165,8,251.1,232.1,699,3712.2,10170.410958904109,20133,null,"２５～２９歳",27.5,4.8,165,14,280,249.1,827.7,4187.7,11473.150684931506,6202,null,"２５～２９歳",27.4,4.5999999999999996,165,6,238.2,224.6,641.70000000000005,3500.0999999999995,9589.3150684931497,13931]
[56,"３０～３４歳",32.6,7.5,164,8,273,253.2,777.4,4053.4,11105.205479452055,19381,null,"３０～３４歳",32.6,7.9,165,14,315.89999999999998,281.60000000000002,979.4,4770.2,13069.04109589041,7174,null,"３０～３４歳",32.5,7.3,163,5,247.7,236.5,658.7,3631.0999999999995,9948.2191780821904,12208]
[57,"３５～３９歳",37.6,9.9,163,8,296.5,275.5,875.9,4433.8999999999996,12147.67123287671,21564,null,"３５～３９歳",37.5,11.2,164,13,363.2,325.7,1181.7,5540.0999999999995,15178.35616438356,7346,null,"３５～３９歳",37.6,9.3000000000000007,162,5,262,249.5,717.9,3861.9,10580.547945205479,14218]
[58,"４０～４４歳",42.6,12.2,163,7,311.60000000000002,292.60000000000002,946.5,4685.7000000000007,12837.534246575346,31924,null,"４０～４４歳",42.5,14.2,165,12,392.4,359.8,1278.5999999999999,5987.4,16403.835616438355,9309,null,"４０～４４歳",42.7,11.4,163,6,278.39999999999998,264.89999999999998,809.8,4150.5999999999995,11371.506849315067,22615]
[59,"４５～４９歳",47.5,14.3,163,7,326.10000000000002,307.8,1053.7,4966.9000000000005,13607.945205479453,38533,null,"４５～４９歳",47.5,17.8,166,11,418,390.9,1475.9,6491.9,17786.027397260274,10690,null,"４５～４９歳",47.5,13,162,6,290.8,275.8,891.6,4381.2000000000007,12003.28767123288,27843]
[60,"５０～５４歳",52.3,17.100000000000001,163,7,350.2,333.2,1187.5999999999999,5390,14767.123287671233,29273,null,"５０～５４歳",52.3,22.9,165,9,462.8,439.9,1846.2,7399.8,20273.424657534248,8567,null,"５０～５４歳",52.3,14.8,162,6,303.60000000000002,289,915.1,4558.3,12488.493150684932,20706]
[61,"５５～５９歳",57.4,18.8,163,6,344.8,330.2,1149.9000000000001,5287.5,14486.301369863015,20708,null,"５５～５９歳",57.5,24.8,165,7,459.2,440.4,1846.3,7356.7,20155.342465753423,6038,null,"５５～５９歳",57.4,16.3,163,5,297.7,284.8,863.3,4435.7,12152.602739726026,14670]
[62,"６０～６４歳",62.2,18.3,162,4,275.8,266.89999999999998,696.3,4005.9000000000005,10975.068493150688,11472,null,"６０～６４歳",62.3,21.9,164,6,324.60000000000002,311.39999999999998,944.8,4840,13260.273972602739,3754,null,"６０～６４歳",62.2,16.600000000000001,160,3,252.1,245.2,575.5,3600.7,9864.9315068493142,7718]
[63,"６５～６９歳",67.2,18.399999999999999,164,4,273.3,266.39999999999998,428.1,3707.7000000000003,10158.082191780823,2710,null,"６５～６９歳",67,18.2,165,6,303.3,292.3,401.8,4041.4000000000005,11072.32876712329,1086,null,"６５～６９歳",67.400000000000006,18.600000000000001,163,2,253.2,249,445.7,3484.0999999999995,9545.479452054793,1624]
[64,"７０歳～",72.7,21.7,164,2,273.7,271.10000000000002,694.2,{"$f":"G73*12+I73","v":3978.5999999999995},{"$f":"J73/365*1000","v":10900.273972602738},1023,null,"７０歳～",72.599999999999994,25.3,169,1,249,247.3,796.2,{"$f":"S73*12+U73","v":3784.2},{"$f":"V73/365*1000","v":10367.671232876712},353,null,"７０歳～",72.8,19.8,161,2,286.7,283.7,640.29999999999995,{"$f":"AE73*12+AG73","v":4080.7},{"$f":"AH73/365*1000","v":11180},669]
[65,"男女計\n大学",40.9,11.6,165,9,385.8,362.9,1227,5856.6,16045.479452054795,851562,null,"男\n大学",42.7,13.2,166,10,416.8,391.9,1377.7,6379.3,17477.534246575342,613381,null,"女\n大学",36.200000000000003,7.5,163,7,306,288.3,838.8,4510.8,12358.356164383562,238181]
[66,"　　～１９歳","-","-","-","-","-","-","-","-","-","-",null,"　　～１９歳","-","-","-","-","-","-","-","-","-","-",null,"　　～１９歳","-","-","-","-","-","-","-","-","-","-"]
[67,"２０～２４歳",23.6,1.3,165,9,244.6,227.8,349.7,3284.8999999999996,8999.7260273972588,71004,null,"２０～２４歳",23.7,1.3,166,10,248.7,229.1,357.7,3342.0999999999995,9156.4383561643826,36886,null,"２０～２４歳",23.6,1.3,164,7,240.2,226.5,341.1,3223.4999999999995,8831.5068493150666,34118]
[68,"２５～２９歳",27.5,3.7,165,12,285.39999999999998,259.10000000000002,799.1,4223.8999999999996,11572.328767123287,133710,null,"２５～２９歳",27.5,3.8,166,14,297.2,266.10000000000002,838.5,4404.8999999999996,12068.21917808219,77501,null,"２５～２９歳",27.4,3.6,164,9,269.10000000000002,249.4,744.9,3974.1000000000004,10887.945205479453,56209]
[69,"３０～３４歳",32.5,6.7,164,12,330.9,301.10000000000002,983.5,4954.2999999999993,13573.424657534246,112848,null,"３０～３４歳",32.5,6.8,165,14,348.1,313.89999999999998,1057.7,5234.9000000000005,14342.191780821919,75248,null,"３０～３４歳",32.4,6.4,162,8,296.60000000000002,275.3,835,4394.2000000000007,12038.904109589042,37599]
[70,"３５～３９歳",37.5,9.8000000000000007,164,11,376.3,346.1,1206.8,5722.4000000000005,15677.808219178085,107219,null,"３５～３９歳",37.5,10.1,166,13,399.6,365.2,1308.3,6103.5000000000009,16721.917808219183,76590,null,"３５～３９歳",37.5,8.9,161,8,318,298.2,953.1,4769.1000000000004,13066.027397260275,30629]
[71,"４０～４４歳",42.5,12.7,165,9,416.8,392.3,1407,6408.6,17557.808219178081,107764,null,"４０～４４歳",42.5,13.5,166,10,443.6,416.4,1552.9,6876.1,18838.630136986303,80792,null,"４０～４４歳",42.5,10.3,162,6,336.6,320.3,970.2,5009.4000000000005,13724.383561643837,26972]
[72,"４５～４９歳",47.5,16.3,166,8,458.1,436.6,1638.9,7136.1,19550.95890410959,105979,null,"４５～４９歳",47.5,17.3,167,8,484.3,461.5,1774.7,7586.3,20784.383561643837,84099,null,"４５～４９歳",47.4,12.4,162,6,357.4,340.9,1117.0999999999999,5405.9,14810.684931506848,21880]
[73,"５０～５４歳",52.4,20.5,165,6,521,501.6,1986.1,8238.1,22570.136986301372,86801,null,"５０～５４歳",52.4,21.7,166,6,546.4,526.6,2133.3000000000002,8690.0999999999985,23808.493150684928,71813,null,"５０～５４歳",52.3,14.8,162,6,399.4,382,1280.9000000000001,6073.6999999999989,16640.273972602739,14988]
[74,"５５～５９歳",57.4,22.8,164,5,511.1,496.7,1864.3,7997.5000000000009,21910.958904109593,67463,null,"５５～５９歳",57.4,23.9,165,5,531.29999999999995,516.5,1980.4,8356,22893.150684931505,57600,null,"５５～５９歳",57.4,16.3,163,4,393.7,381.3,1186.2,5910.5999999999995,16193.424657534244,9862]
[75,"６０～６４歳",62.3,20,164,5,382.1,370.8,990.6,5575.8000000000011,15276.164383561647,41107,null,"６０～６４歳",62.3,20.5,164,5,389.6,378,1017,5692.2000000000007,15595.068493150688,36916,null,"６０～６４歳",62.2,15.9,161,3,316.2,307.3,757.8,4552.2,12471.780821917808,4190]
[76,"６５～６９歳",67.099999999999994,16,164,4,361.1,352.9,545.4,4878.6000000000004,13366.027397260275,12502,null,"６５～６９歳",67.099999999999994,16,164,4,363.4,354.8,544.29999999999995,4905.0999999999995,13438.630136986299,11294,null,"６５～６９歳",67.2,16.2,159,1,340.1,335.3,554.79999999999995,4636,12701.369863013699,1209]
[77,"７０歳～",73.2,15.9,165,3,371.2,364.3,343.7,4798.0999999999995,13145.479452054793,5166,null,"７０歳～",73.2,15.6,166,3,377.5,370.2,308.3,4838.3,13255.616438356166,4642,null,"７０歳～",73.400000000000006,19.3,162,2,315.3,311.7,657.4,4441,12167.123287671233,524]
[78,"大学院",40.9,10.8,165,10,483.3,454.5,1859.9,7659.5,20984.931506849312,100355,null,"大学院",41.1,11.4,165,11,496.3,465.2,1954.9,7910.5,21672.602739726026,82732,null,"大学院",40,7.8,164,6,422.2,404.3,1414.2,6480.5999999999995,17755.068493150684,17624]
[79,"　　～１９歳","-","-","-","-","-","-","-","-","-","-",null,"　　～１９歳","-","-","-","-","-","-","-","-","-","-",null,"　　～１９歳","-","-","-","-","-","-","-","-","-","-"]
[80,"２０～２４歳",24.5,0.6,164,3,256.5,250.6,68.099999999999994,3146.1,8619.4520547945194,1582,null,"２０～２４歳",24.5,0.6,163,2,257.2,252.3,63.9,3150.2999999999997,8630.9589041095878,1290,null,"２０～２４歳",24.5,0.6,165,5,253.4,243.3,86.7,3127.5,8568.4931506849316,293]
[81,"２５～２９歳",27.6,2.7,165,16,316,280.5,953.5,4745.5,13001.369863013699,17136,null,"２５～２９歳",27.7,2.8,165,17,320.2,282,981.1,4823.5,13215.068493150686,13703,null,"２５～２９歳",27.4,2.5,166,11,299.2,274.39999999999998,843.2,4433.5999999999995,12146.849315068492,3433]
[82,"３０～３４歳",32.4,5.8,165,15,378.1,337.6,1325.7,5862.9000000000005,16062.739726027399,16213,null,"３０～３４歳",32.4,6.1,165,17,383.1,337.8,1391.5,5988.7000000000007,16407.397260273974,13429,null,"３０～３４歳",32.299999999999997,4.7,164,7,354.2,336.4,1008.1,5258.5,14406.849315068494,2783]
[83,"３５～３９歳",37.4,9.1999999999999993,165,13,463.6,422.1,1774.2,7337.4000000000005,20102.465753424662,16450,null,"３５～３９歳",37.5,9.6,165,14,481.2,435.9,1895.2,7669.5999999999995,21012.602739726026,13254,null,"３５～３９歳",37.299999999999997,7.8,164,8,390.5,364.7,1272.5,5958.5,16324.657534246577,3196]
[84,"４０～４４歳",42.4,12.2,165,9,518.9,490.6,2152.6,8379.4,22957.260273972603,14987,null,"４０～４４歳",42.4,12.7,165,10,529.5,498.9,2251.1,8605.1,23575.616438356163,12427,null,"４０～４４歳",42.5,9.6999999999999993,162,5,467.5,450.3,1674.4,7284.4,19957.260273972603,2560]
[85,"４５～４９歳",47.4,15.4,166,6,571.6,550.5,2391.9,9251.1,25345.479452054795,12854,null,"４５～４９歳",47.4,16.399999999999999,166,6,582.70000000000005,560.29999999999995,2519,9511.4000000000015,26058.630136986307,10762,null,"４５～４９歳",47.3,10.5,165,4,514.79999999999995,500.1,1738,7915.5999999999995,21686.575342465752,2092]
[86,"５０～５４歳",52.4,18.7,165,3,636.20000000000005,623.5,2838,10472.400000000001,28691.506849315072,8758,null,"５０～５４歳",52.3,19.899999999999999,165,3,650.29999999999995,636.5,2974.7,10778.3,29529.589041095889,7312,null,"５０～５４歳",52.4,12.4,166,3,564.70000000000005,558,2146.1999999999998,8922.6,24445.479452054795,1446]
[87,"５５～５９歳",57.3,20.100000000000001,164,3,701.8,688.9,2926.3,11347.899999999998,31090.136986301364,6778,null,"５５～５９歳",57.3,21.1,165,3,728.5,714.9,3033.1,11775.1,32260.547945205482,5800,null,"５５～５９歳",57.5,14.2,164,3,543.29999999999995,534.5,2292.6999999999998,8812.2999999999993,24143.287671232876,978]
[88,"６０～６４歳",62.3,19.3,163,2,615.1,608.70000000000005,2259,9640.2000000000007,26411.506849315072,4114,null,"６０～６４歳",62.3,20,163,2,624.79999999999995,617.6,2251.3000000000002,9748.9,26709.31506849315,3467,null,"６０～６４歳",62.3,15.7,165,0,562.9,560.79999999999995,2300.4,9055.1999999999989,24808.767123287671,647]
[89,"６５～６９歳",67,17.8,164,2,599.5,590.6,1842.9,9036.9,24758.630136986303,1151,null,"６５～６９歳",66.900000000000006,18.2,165,2,605.5,595.20000000000005,1776.8,9042.7999999999993,24774.794520547941,992,null,"６５～６９歳",67.2,15.5,162,0,562,562,2253.8000000000002,8997.7999999999993,24651.506849315065,160]
[90,"７０歳～",74.2,13.6,160,1,749.2,745.6,1264.3,10254.700000000001,28095.068493150688,333,null,"７０歳～",74.400000000000006,13.7,160,1,741.7,737.6,1363.5,10263.900000000001,28120.273972602743,296,null,"７０歳～",73,13.2,160,0,808.6,808.6,478.3,10181.5,27894.520547945205,37]
[91,"不明",44.7,8.4,163,9,274.39999999999998,255.5,374.1,3666.8999999999996,10046.301369863013,167645,null,"不明",45.3,9.3000000000000007,166,11,311.7,288.2,479.7,4220.0999999999995,11561.917808219176,91110,null,"不明",44,7.5,160,8,230,216.5,248.4,3008.4,8242.1917808219168,76535]
[92,"　　～１９歳",19.3,1.1000000000000001,162,17,187.7,163.30000000000001,42.3,2294.6999999999998,6286.8493150684926,1015,null,"　　～１９歳",19.3,1.1000000000000001,161,7,180.8,168,72.099999999999994,2241.7000000000003,6141.643835616439,504,null,"　　～１９歳",19.3,1.1000000000000001,162,26,194.5,158.6,13,2347,6430.1369863013697,511]
[93,"２０～２４歳",22.9,1.7,165,13,211.4,192,119.7,2656.5,7278.0821917808216,11649,null,"２０～２４歳",22.8,1.7,167,13,219.3,197.7,115.2,2746.8,7525.4794520547948,5486,null,"２０～２４歳",23,1.7,163,12,204.5,186.9,123.8,2577.8000000000002,7062.465753424658,6163]
[94,"２５～２９歳",27.5,3,165,11,236.5,216.8,227.4,3065.4,8398.3561643835619,17002,null,"２５～２９歳",27.5,3.1,167,11,247.3,224.6,261.5,3229.1000000000004,8846.8493150684953,8498,null,"２５～２９歳",27.5,2.8,163,10,225.8,208.9,193.3,2902.9000000000005,7953.1506849315092,8504]
[95,"３０～３４歳",32.4,4.8,164,10,253.1,233.4,284.89999999999998,3322.1,9101.6438356164381,16244,null,"３０～３４歳",32.4,5.0999999999999996,167,11,277.5,253.3,352.2,3682.2,10088.21917808219,8980,null,"３０～３４歳",32.5,4.3,161,8,222.9,208.9,201.6,2876.4,7880.5479452054797,7264]
[96,"３５～３９歳",37.5,6.8,163,11,278.2,256.60000000000002,391.1,3729.4999999999995,10217.808219178081,17261,null,"３５～３９歳",37.5,7.2,165,13,309.3,281.10000000000002,489.1,4200.7000000000007,11508.767123287675,9940,null,"３５～３９歳",37.5,6.3,159,7,236.1,223.4,257.89999999999998,3091.1,8468.767123287671,7321]
[97,"４０～４４歳",42.5,8.8000000000000007,165,10,305.3,283.3,491.3,4154.9000000000005,11383.287671232878,19109,null,"４０～４４歳",42.5,9.8000000000000007,168,12,349.9,321.89999999999998,620,4818.7999999999993,13202.191780821917,11155,null,"４０～４４歳",42.6,7.3,160,7,242.7,229.2,310.8,3223.2,8830.6849315068484,7955]
[98,"４５～４９歳",47.5,9.9,164,10,313.10000000000002,292.7,525.9,4283.1000000000004,11734.520547945207,23259,null,"４５～４９歳",47.5,11.7,167,12,374.4,347.8,697.8,5190.5999999999995,14220.821917808218,12209,null,"４５～４９歳",47.5,7.8,160,7,245.4,231.9,335.8,3280.6000000000004,8987.9452054794529,11050]
[99,"５０～５４歳",52.4,11.3,163,9,303.2,283.89999999999998,491.2,4129.5999999999995,11313.972602739725,21255,null,"５０～５４歳",52.4,13.5,166,11,365.4,339.6,680.6,5065.3999999999996,13877.808219178081,10527,null,"５０～５４歳",52.4,9.1999999999999993,161,7,242.1,229.3,305.3,3210.5,8795.8904109589039,10728]
[100,"５５～５９歳",57.3,12.8,163,8,304.7,286.3,471,4127.3999999999996,11307.945205479451,16998,null,"５５～５９歳",57.4,14.1,166,10,361,337.1,618.1,4950.1000000000004,13561.917808219179,9145,null,"５５～５９歳",57.3,11.4,160,6,239.1,227.1,299.60000000000002,3168.7999999999997,8681.6438356164381,7853]
[101,"６０～６４歳",62.3,12.1,161,7,247.8,234.2,313.8,3287.4000000000005,9006.575342465756,13243,null,"６０～６４歳",62.4,11.5,164,8,276.3,260,407.3,3722.9000000000005,10199.726027397261,7890,null,"６０～６４歳",62.2,13,158,6,205.7,196,175.9,2644.2999999999997,7244.657534246574,5353]
[102,"６５～６９歳",67.3,11.9,159,5,226.6,216.5,190.4,2909.6,7971.5068493150675,6954,null,"６５～６９歳",67.400000000000006,10.3,164,6,246.6,235.2,240.5,3199.7,8766.301369863013,4254,null,"６５～６９歳",67.099999999999994,14.6,152,4,195.2,187.1,111.5,2453.8999999999996,6723.0136986301359,2700]
[103,"７０歳～",72.900000000000006,13.9,159,4,223,216.2,134,2810,7698.6301369863013,3655,null,"７０歳～",73,13,163,4,231.3,223.5,120,2895.6000000000004,7933.1506849315074,2523,null,"７０歳～",72.7,15.8,150,3,204.3,199.9,165.3,2616.9000000000005,7169.5890410958918,1132]

{"sheet":"賃セＲ１","index":15,"n_rows":73,"n_cols":36,"rows_kept":73,"cut":false,"hidden":true,"merged":[[4,26,4,35],[5,2,6,2],[5,3,6,3],[5,4,6,4],[5,5,6,5],[5,27,6,27],[5,26,6,26],[5,28,6,28],[5,29,6,29],[5,30,6,30],[5,32,6,32],[5,35,6,35],[4,0,6,1],[4,2,4,11],[4,12,6,13],[4,14,4,23],[4,24,6,25],[5,6,6,6],[5,8,6,8],[5,11,6,11],[5,14,6,14],[5,15,6,15],[5,16,6,16],[5,17,6,17],[5,18,6,18],[5,20,6,20],[5,23,6,23]]}
["令和元年賃金構造基本統計調査"]
["第１表　　年齢階級別きまって支給する現金給与額、所定内給与額及び年間賞与その他特別給与額"]
["産業",null,"産業計"]
[]
["区　分",null,"企業規模計（10人以上）",null,null,null,null,null,null,null,null,null,"区　分",null,"企業規模計（10人以上）",null,null,null,null,null,null,null,null,null,"区　分",null,"企業規模計（10人以上）"]
[null,null,"年齢","勤続\n年数","所定内\n実労働\n時間数","超過\n実労働\n時間数","きまって\n支給す\nる現金\n給与額",null,"年間賞与その他特別給与額","年額計","日額","労働者数",null,null,"年齢","勤続\n年数","所定内\n実労働\n時間数","超過\n実労働\n時間数","きまって\n支給す\nる現金\n給与額",null,"年間賞与その他特別給与額","年額計","日額","労働者数",null,null,"年齢","勤続\n年数","所定内\n実労働\n時間数","超過\n実労働\n時間数","きまって\n支給す\nる現金\n給与額",null,"年間賞与その他特別給与額","年額計","日額","労働者数"]
[null,null,null,null,null,null,null,"所定内\n給与額",null,null,"÷365",null,null,null,null,null,null,null,null,"所定内\n給与額",null,null,"÷365",null,null,null,null,null,null,null,null,"所定内\n給与額",null,null,"÷365"]
[null,null,"歳","年","時間","時間","千円","千円","千円",null,null,"十人"]
[0,"男　 女　 計\n学　 歴   計",43.1,12.4,160,13,338,307.7,950.9,{"$f":"G9*12+I9","v":5006.8999999999996},{"$f":"J9/365*1000","v":13717.534246575342},2218142,null,"     男\n学　 歴   計",43.8,13.8,162,16,374.9,338,1110.9000000000001,{"$f":"S9*12+U9","v":5609.6999999999989},{"$f":"V9/365*1000","v":15369.041095890409},1445008,null,"     女\n学　 歴   計",41.8,9.8000000000000007,158,8,269,251,652,{"$f":"AE9*12+AG9","v":3880},{"$f":"AH9/365*1000","v":10630.13698630137},773134]
[1,"　　～１９歳",19.100000000000001,0.9,164,12,198.7,179,139,2523.3999999999996,6913.4246575342459,20819,null,"　　～１９歳",19.100000000000001,0.9,163,13,206.2,182.8,151.19999999999999,2625.5999999999995,7193.4246575342449,13317,null,"　　～１９歳",19.100000000000001,0.9,164,9,185.6,172.4,117.2,2344.3999999999996,6423.0136986301359,7502]
[2,"２０～２４歳",23,2.1,161,14,236,210.9,396.3,3228.3,8844.6575342465749,166317,null,"２０～２４歳",23,2.2999999999999998,162,18,245.5,213.4,430.8,3376.8,9251.5068493150684,87254,null,"２０～２４歳",23,2,160,10,225.5,208.1,358.3,3064.3,8395.3424657534251,79063]
[3,"２５～２９歳",27.5,4.3,159,16,277.89999999999998,243.9,696.4,4031.2,11044.383561643835,237150,null,"２５～２９歳",27.5,4.5,160,20,293.89999999999998,251.6,754.9,4281.7,11730.684931506848,139360,null,"２５～２９歳",27.4,4.0999999999999996,158,11,255.2,232.9,613,3675.3999999999996,10069.589041095889,97791]
[4,"３０～３４歳",32.5,7.1,160,16,313,275.89999999999998,847.6,4603.6000000000004,12612.60273972603,237305,null,"３０～３４歳",32.5,7.4,161,20,336.6,290.8,946.6,4985.8,13659.726027397261,155977,null,"３０～３４歳",32.5,6.5,157,9,267.8,247.4,657.9,3871.5000000000005,10606.849315068494,81328]
[5,"３５～３９歳",37.5,9.8000000000000007,160,15,341.9,305.3,962.7,5065.4999999999991,13878.082191780819,248956,null,"３５～３９歳",37.5,10.3,162,19,373.6,328.4,1090,5573.2000000000007,15269.041095890414,169291,null,"３５～３９歳",37.5,8.6999999999999993,156,8,274.60000000000002,256.2,692.2,3987.4000000000005,10924.383561643837,79665]
[6,"４０～４４歳",42.6,12.7,160,14,363.9,329.6,1073.2,5439.9999999999991,14904.109589041092,290750,null,"４０～４４歳",42.6,13.7,162,17,402.5,360.1,1233,6063,16610.958904109586,193883,null,"４０～４４歳",42.6,10.7,157,8,286.8,268.60000000000002,753.2,4194.8,11492.602739726028,96866]
[7,"４５～４９歳",47.4,15.7,161,13,382.4,350.3,1189.4000000000001,5778.1999999999989,15830.684931506847,318369,null,"４５～４９歳",47.4,17.399999999999999,162,15,429.3,390.4,1395.8,6547.4000000000005,17938.082191780821,210716,null,"４５～４９歳",47.5,12.4,157,8,290.5,271.60000000000002,785.5,4271.5,11702.739726027397,107654]
[8,"５０～５４歳",52.4,18.5,160,11,402.4,373.5,1313.9,6142.6999999999989,16829.31506849315,265481,null,"５０～５４歳",52.4,20.9,162,13,458.5,423.7,1586.1,7088.1,19419.452054794521,175349,null,"５０～５４歳",52.4,13.9,158,8,293.3,275.8,784.2,4303.8,11791.232876712329,90132]
[9,"５５～５９歳",57.4,20.7,160,10,392.2,367.2,1259.5,5965.9,16344.931506849314,215994,null,"５５～５９歳",57.4,23.2,161,12,446.1,416.6,1518.6,6871.8000000000011,18826.849315068495,144748,null,"５５～５９歳",57.4,15.8,158,7,282.60000000000002,266.8,732.9,4124.1000000000004,11298.904109589042,71246]
[10,"６０～６４歳",62.3,18.8,160,8,299.60000000000002,283,684.1,4279.3,11724.109589041098,140568,null,"６０～６４歳",62.4,19.899999999999999,160,10,324.60000000000002,305.5,773.3,4668.5,12790.410958904109,99005,null,"６０～６４歳",62.2,16,158,6,240.2,229.5,471.4,3353.7999999999997,9188.4931506849298,41563]
[11,"６５～６９歳",67.2,15.9,161,8,263.10000000000002,249,393.5,3550.7000000000003,9727.9452054794529,54687,null,"６５～６９歳",67.2,15.9,162,9,277.5,261.89999999999998,420,3750,10273.972602739725,40192,null,"６５～６９歳",67.099999999999994,16,159,6,223.2,213.3,320.10000000000002,2998.4999999999995,8215.0684931506839,14495]
[12,"７０歳～",73,17.5,161,6,247.8,237.6,244.5,3218.1000000000004,8816.7123287671238,21746,null,"７０歳～",72.900000000000006,16.7,163,7,257.39999999999998,246,229.6,3318.3999999999996,9091.5068493150666,15917,null,"７０歳～",73.2,19.7,157,5,221.7,214.6,285.2,2945.5999999999995,8070.1369863013688,5829]
[13,"中   学   卒",49.7,13.6,166,17,281.39999999999998,249.1,431.7,3808.4999999999995,10434.246575342466,60400,null,"中   学   卒",50.1,14.6,167,19,303.10000000000002,265.8,477.4,4114.6000000000004,11272.876712328769,46569,null,"中   学   卒",48.5,10.199999999999999,160,10,208.4,193,278,2778.8,7613.1506849315074,13831]
[14,"　　～１９歳",18.600000000000001,1.4,163,14,197.4,176.8,58.6,2427.4,6650.41095890411,712,null,"　　～１９歳",18.600000000000001,1.6,164,14,207.5,185.4,73.599999999999994,2563.6,7023.5616438356155,516,null,"　　～１９歳",18.8,0.9,161,13,170.9,154.19999999999999,19,2069.8000000000002,5670.6849315068503,196]
[15,"２０～２４歳",22.6,2.4,166,18,222.8,194.8,137.1,2810.7000000000003,7700.5479452054806,2555,null,"２０～２４歳",22.5,2.6,167,20,235.6,203.3,158.80000000000001,2986,8180.821917808219,1804,null,"２０～２４歳",22.6,2.1,161,13,192.2,174.3,85,2391.3999999999996,6551.7808219178078,751]
[16,"２５～２９歳",27.5,4.4000000000000004,164,18,247.2,214.7,305.2,3271.5999999999995,8963.2876712328743,3218,null,"２５～２９歳",27.6,4.8,166,21,265.39999999999998,228.1,364.2,3548.9999999999995,9723.2876712328743,2174,null,"２５～２９歳",27.3,3.6,159,14,209.3,186.7,182.4,2694.0000000000005,7380.8219178082209,1044]
[17,"３０～３４歳",32.700000000000003,5.8,166,20,273.60000000000002,236.8,392.9,3676.1000000000004,10071.506849315068,4460,null,"３０～３４歳",32.799999999999997,6.3,168,23,296.89999999999998,254.2,454.1,4016.8999999999996,11005.205479452054,3359,null,"３０～３４歳",32.299999999999997,4.4000000000000004,158,12,202.3,183.9,206.3,2633.9000000000005,7216.164383561646,1100]
[18,"３５～３９歳",37.6,7.7,167,21,302,262.7,481.5,4105.5,11247.945205479451,5437,null,"３５～３９歳",37.6,8.4,169,23,325.5,280.89999999999998,543.9,4449.8999999999996,12191.506849315067,4240,null,"３５～３９歳",37.5,5.2,160,13,218.7,198.3,260.7,2885.0999999999995,7904.3835616438337,1197]
[19,"４０～４４歳",42.6,11,168,19,310.8,272,552.29999999999995,4281.9000000000005,11731.232876712329,6187,null,"４０～４４歳",42.6,11.9,170,21,336.3,291.5,617,4652.6000000000004,12746.849315068495,4815,null,"４０～４４歳",42.6,7.9,161,11,221.3,203.6,325.3,2980.9000000000005,8166.8493150684944,1372]
[20,"４５～４９歳",47.4,13.2,168,19,322.60000000000002,282.2,570.5,4441.7000000000007,12169.041095890414,7575,null,"４５～４９歳",47.5,14.4,170,22,349,303,624.9,4812.8999999999996,13186.027397260274,5946,null,"４５～４９歳",47.4,8.8000000000000007,162,11,226.3,206.6,371.7,3087.3,8458.3561643835637,1629]
[21,"５０～５４歳",52.4,14.9,166,20,322.10000000000002,279.5,583.9,4449.1000000000004,12189.315068493152,6422,null,"５０～５４歳",52.5,16.100000000000001,167,24,350.9,299.8,648,4858.7999999999993,13311.780821917806,4941,null,"５０～５４歳",52.1,10.9,160,9,225.9,211.7,370.1,3080.9,8440.82191780822,1481]
[22,"５５～５９歳",57.5,19,164,18,325.2,286.8,640.9,4543.2999999999993,12447.39726027397,5875,null,"５５～５９歳",57.5,20.5,166,20,351.1,306.60000000000002,693.7,4906.9000000000005,13443.561643835619,4733,null,"５５～５９歳",57.5,12.9,158,7,218,204.9,422.2,3038.2,8323.8356164383549,1143]
[23,"６０～６４歳",62.6,20.3,164,12,256.39999999999998,233.9,389,3465.7999999999997,9495.3424657534233,7514,null,"６０～６４歳",62.6,21.5,165,14,273.3,247.7,423.8,3703.4000000000005,10146.301369863017,5903,null,"６０～６４歳",62.7,15.9,160,7,194.7,183.3,261.60000000000002,2597.9999999999995,7117.8082191780813,1611]
[24,"６５～６９歳",67.400000000000006,18.3,164,11,230.7,211.7,232.5,3000.8999999999996,8221.6438356164363,6523,null,"６５～６９歳",67.400000000000006,18.5,165,12,242.8,220.7,218.5,3132.1000000000004,8581.0958904109611,5134,null,"６５～６９歳",67.5,17.5,162,6,186.2,178.6,284.10000000000002,2518.4999999999995,6899.9999999999982,1388]
[25,"７０歳～",73.3,21.2,164,7,217.4,205.5,162.6,2771.4,7592.8767123287671,3921,null,"７０歳～",73.400000000000006,21.4,165,7,226,213.1,162.6,2874.6,7875.6164383561636,3002,null,"７０歳～",73.2,20.5,160,5,189.2,180.7,162.6,2432.9999999999995,6665.7534246575324,919]
[26,"高   校   卒",45.1,13.1,163,15,300.39999999999998,267.60000000000002,704.2,4309,11805.479452054793,952003,null,"高   校   卒",45.1,14.4,164,18,334.1,292.89999999999998,826.3,4835.5,13247.945205479451,645191,null,"高   校   卒",45,10.6,160,8,229.5,214.6,447.6,3201.6,8771.5068493150684,306812]
[27,"　　～１９歳",19.100000000000001,0.9,164,12,198.8,179.1,141.80000000000001,2527.4000000000005,6924.3835616438373,20106,null,"　　～１９歳",19.100000000000001,0.9,163,13,206.1,182.7,154.4,2627.6,7198.9041095890407,12800,null,"　　～１９歳",19.100000000000001,0.9,164,9,186,172.9,119.8,2351.8000000000002,6443.2876712328771,7306]
[28,"２０～２４歳",22.5,3,163,18,228,196.9,453.2,3189.2,8737.534246575342,65041,null,"２０～２４歳",22.6,3.2,164,21,241.4,203,515.9,3412.7000000000003,9349.8630136986303,41235,null,"２０～２４歳",22.5,2.8,163,12,204.8,186.4,344.5,2802.1000000000004,7676.9863013698632,23806]
[29,"２５～２９歳",27.5,5.4,162,18,257.10000000000002,221.9,533.6,3618.8,9914.5205479452052,69195,null,"２５～２９歳",27.5,5.8,163,22,277.60000000000002,233.4,624.4,3955.6000000000004,10837.260273972603,46409,null,"２５～２９歳",27.5,4.5999999999999996,160,10,215.4,198.3,348.7,2933.5,8036.9863013698632,22786]
[30,"３０～３４歳",32.5,7.5,163,18,280,243.1,609.9,3969.9,10876.438356164384,77345,null,"３０～３４歳",32.5,8,164,21,304.5,258.8,704.7,4358.7,11941.643835616438,55029,null,"３０～３４歳",32.5,6.4,159,9,219.5,204.5,376.3,3010.3,8247.3972602739723,22316]
[31,"３５～３９歳",37.6,9.9,163,18,303.2,264,685.3,4323.7,11845.753424657534,90846,null,"３５～３９歳",37.6,10.5,165,22,333.6,284.89999999999998,794.1,4797.3,13143.287671232876,65163,null,"３５～３９歳",37.6,8.1999999999999993,159,9,226.2,211.2,409.3,3123.7,8558.0821917808207,25683]
[32,"４０～４４歳",42.6,12.8,163,17,322.3,283.2,792.4,4660,12767.123287671233,117103,null,"４０～４４歳",42.6,13.9,165,21,358.7,309.39999999999998,920.2,5224.5999999999995,14313.972602739725,82345,null,"４０～４４歳",42.6,10.1,159,8,236.1,221,489.6,3322.7999999999997,9103.5616438356155,34758]
[33,"４５～４９歳",47.5,15.5,163,16,337.2,299.60000000000002,880.8,4927.2,13499.178082191782,145588,null,"４５～４９歳",47.4,17.3,164,20,381.8,333.8,1044.5,5626.1,15413.972602739728,97596,null,"４５～４９歳",47.5,11.8,159,8,246.4,230.1,547.70000000000005,3504.5,9601.3698630136987,47991]
[34,"５０～５４歳",52.4,17.600000000000001,163,15,341.7,307.3,901.6,5002,13704.109589041096,130733,null,"５０～５４歳",52.4,20,164,18,392.6,348.1,1087.2,5798.4000000000005,15886.027397260275,85059,null,"５０～５４歳",52.5,13.1,159,8,246.8,231.3,555.9,3517.5000000000005,9636.986301369865,45675]
[35,"５５～５９歳",57.4,20.2,162,12,336.9,307.39999999999998,915.2,4958,13583.561643835617,113737,null,"５５～５９歳",57.4,22.7,163,15,386.7,349.2,1109.3,5749.7,15752.602739726028,74367,null,"５５～５９歳",57.4,15.4,159,7,242.7,228.4,548.4,3460.7999999999997,9481.6438356164381,39371]
[36,"６０～６４歳",62.3,18.2,161,10,259.3,240.9,494,3605.6000000000004,9878.3561643835637,75913,null,"６０～６４歳",62.4,19.2,162,12,282.10000000000002,259.7,565.5,3950.7000000000003,10823.835616438357,51886,null,"６０～６４歳",62.3,16,159,6,210.2,200.4,339.8,2862.2,7841.6438356164381,24027]
[37,"６５～６９歳",67.2,15.2,162,9,234.9,219.9,268.5,3087.3,8458.3561643835637,33027,null,"６５～６９歳",67.3,15.1,163,10,247.7,230.9,283.39999999999998,3255.7999999999997,8920,23670,null,"６５～６９歳",67.099999999999994,15.6,159,7,202.6,192.2,230.9,2662.1,7293.4246575342468,9357]
[38,"７０歳～",72.8,16.399999999999999,162,7,218.7,207.9,179.9,2804.2999999999997,7683.0136986301359,13367,null,"７０歳～",72.8,15.4,164,7,224.7,212.5,167.7,2864.0999999999995,7846.8493150684917,9631,null,"７０歳～",72.900000000000006,18.899999999999999,155,5,203.2,196.1,211.4,2649.7999999999997,7259.7260273972588,3736]
[39,"高専・短大卒",41.9,11.5,159,10,307.8,283.2,829.4,4523,12391.780821917808,409694,null,"高専・短大卒",41.5,12.9,162,14,348.2,314.89999999999998,986.7,5165.0999999999995,14150.958904109588,170231,null,"高専・短大卒",42.2,10.4,158,7,279,260.60000000000002,717.5,4065.5,11138.35616438356,239463]
[40,"　　～１９歳","-","-","-","-","-","-","-","-","-","-",null,"　　～１９歳","-","-","-","-","-","-","-","-","-","-",null,"　　～１９歳","-","-","-","-","-","-","-","-","-","-"]
[41,"２０～２４歳",22.8,2,162,10,229.3,210.3,387,3138.6000000000004,8598.9041095890425,38763,null,"２０～２４歳",22.9,2,163,14,236.6,210.6,397.7,{"$f":"S50*12+U50","v":3236.8999999999996},{"$f":"V50/365*1000","v":8868.2191780821904},13601,null,"２０～２４歳",22.8,1.9,162,7,225.4,210.2,381.2,{"$f":"AE50*12+AG50","v":3086},{"$f":"AH50/365*1000","v":8454.7945205479464},25162]
[42,"２５～２９歳",27.4,4.5,160,11,260.89999999999998,235.3,595.1,3725.8999999999996,10207.945205479451,40743,null,"２５～２９歳",27.4,4.5999999999999996,162,17,273.60000000000002,239.4,639.79999999999995,3923,10747.945205479451,16677,null,"２５～２９歳",27.4,4.4000000000000004,159,7,252.1,232.4,564.1,3589.2999999999997,9833.698630136987,24066]
[43,"３０～３４歳",32.6,7.2,160,12,283.39999999999998,255.9,709.5,4110.2999999999993,11261.095890410958,44982,null,"３０～３４歳",32.6,7.5,162,17,307.7,270.60000000000002,807.6,4500,12328.767123287671,22176,null,"３０～３４歳",32.5,6.8,158,7,259.7,241.5,614.1,3730.4999999999995,10220.547945205479,22805]
[44,"３５～３９歳",37.5,9.5,159,12,301.8,274.3,786.9,4408.5,12078.082191780823,48002,null,"３５～３９歳",37.5,10.1,162,17,336.9,298.10000000000002,887.8,4930.5999999999995,13508.493150684932,22699,null,"３５～３９歳",37.6,9,157,7,270.2,253,696.5,3938.8999999999996,10791.506849315068,25303]
[45,"４０～４４歳",42.6,12.2,159,11,322.39999999999998,294.39999999999998,900,4768.7999999999993,13065.205479452052,64931,null,"４０～４４歳",42.6,13.6,163,16,365.9,326.60000000000002,1053.9000000000001,5444.6999999999989,14916.98630136986,28173,null,"４０～４４歳",42.6,11.2,156,7,289,269.7,782.2,4250.2,11644.383561643835,36758]
[46,"４５～４９歳",47.4,15.1,159,10,344.7,317.7,1039.4000000000001,5175.7999999999993,14180.273972602738,67153,null,"４５～４９歳",47.4,17.7,163,14,401.8,366.6,1247.3,6068.9000000000005,16627.123287671235,28384,null,"４５～４９歳",47.4,13.2,156,8,302.89999999999998,281.89999999999998,887.2,4522,12389.04109589041,38769]
[47,"５０～５４歳",52.3,17.100000000000001,158,9,356.1,332.4,1100.7,5373.9000000000005,14723.013698630139,47699,null,"５０～５４歳",52.2,21.1,161,11,428.2,399,1431.1,6569.5,17998.630136986299,18145,null,"５０～５４歳",52.4,14.6,157,7,311.89999999999998,291.5,897.8,4640.5999999999995,12713.972602739725,29554]
[48,"５５～５９歳",57.4,18.7,158,7,348.2,328.2,1066.4000000000001,5244.7999999999993,14369.31506849315,33966,null,"５５～５９歳",57.3,23.4,161,9,424,400,1451.1,6539.1,17915.342465753427,11778,null,"５５～５９歳",57.4,16.2,157,6,308,290,862.2,4558.2,12488.219178082192,22188]
[49,"６０～６４歳",62.1,16.899999999999999,158,6,280.39999999999998,266.2,630.4,3995.2,10945.753424657534,17525,null,"６０～６４歳",62.2,19.600000000000001,162,8,310.2,293.10000000000002,717.1,4439.5,12163.013698630137,6142,null,"６０～６４歳",62.1,15.5,157,5,264.2,251.7,583.70000000000005,3754.0999999999995,10285.205479452052,11383]
[50,"６５～６９歳",67,16.8,159,4,260.7,250.2,494.5,3622.8999999999996,9925.7534246575324,4601,null,"６５～６９歳",67.099999999999994,16.5,162,6,270.39999999999998,260.2,591.20000000000005,3836,10509.589041095891,1931,null,"６５～６９歳",67,17,157,3,253.7,242.9,424.6,3468.9999999999995,9504.1095890410943,2670]
[51,"７０歳～",72.900000000000006,19.8,157,4,253.5,245.9,423,3465,9493.1506849315065,1329,null,"７０歳～",72.2,16.2,161,5,237.2,229.5,244.8,3091.2,8469.0410958904104,525,null,"７０歳～",73.3,22.1,155,3,264.10000000000002,256.7,539.4,3708.6000000000004,10160.547945205481,804]
[52,"大学・大学院卒",40.9,11.9,157,12,402.8,372.6,1347.9,6181.5,16935.616438356163,796045,null,"大学・大学院卒",42.6,13.4,158,13,433.5,400.5,1512.6,6714.6,18396.164383561645,583017,null,"大学・大学院卒",36.299999999999997,7.8,155,10,318.60000000000002,296.39999999999998,897.2,4720.4000000000005,12932.60273972603,213028]
[53,"　　～１９歳","-","-","-","-","-","-","-","-","-","-",null,"　　～１９歳","-","-","-","-","-","-","-","-","-","-",null,"　　～１９歳","-","-","-","-","-","-","-","-","-","-"]
[54,"２０～２４歳",23.7,1.3,158,12,249.6,227,351.7,3346.8999999999996,9169.5890410958891,59957,null,"２０～２４歳",23.7,1.3,160,14,255.5,229.2,346.9,{"$f":"S63*12+U63","v":3412.9},{"$f":"V63/365*1000","v":9350.4109589041109},30614,null,"２０～２４歳",23.7,1.3,157,10,243.4,224.8,356.7,{"$f":"AE63*12+AG63","v":3277.5},{"$f":"AH63/365*1000","v":8979.4520547945212},29343]
[55,"２５～２９歳",27.4,3.6,157,17,295.89999999999998,259.7,830.7,4381.5,12004.109589041096,123994,null,"２５～２９歳",27.5,3.6,158,20,309.5,266.39999999999998,874,4588,12569.86301369863,74100,null,"２５～２９歳",27.3,3.7,156,12,275.8,249.9,766.3,4075.9000000000005,11166.849315068495,49895]
[56,"３０～３４歳",32.5,6.8,157,17,349.8,308.7,1088.5999999999999,5286.2000000000007,14482.739726027399,110519,null,"３０～３４歳",32.5,7,158,20,370.3,321.8,1185.8,5629.4000000000005,15423.013698630139,75413,null,"３０～３４歳",32.4,6.5,154,10,305.8,280.39999999999998,879.6,4549.2000000000007,12463.561643835617,35106]
[57,"３５～３９歳",37.5,9.9,157,15,396.1,357.5,1309.0999999999999,6062.3000000000011,16609.041095890414,104671,null,"３５～３９歳",37.5,10.199999999999999,159,17,420.9,376.6,1429.3,6480.0999999999995,17753.698630136983,77188,null,"３５～３９歳",37.5,9.1999999999999993,153,9,326.39999999999998,303.8,971.3,4888.0999999999995,13392.054794520547,27483]
[58,"４０～４４歳",42.5,13,158,12,441,408.5,1534.9,6826.9,18703.835616438355,102528,null,"４０～４４歳",42.5,13.6,159,13,465.5,429.5,1663,7249,19860.273972602739,78550,null,"４０～４４歳",42.5,11.2,154,8,360.7,339.6,1115.3,5443.7,14914.246575342466,23978]
[59,"４５～４９歳",47.4,16.8,158,10,480,453,1798.4,7558.4,20707.945205479449,98053,null,"４５～４９歳",47.5,17.7,159,10,504.2,475.8,1942.6,7993,21898.630136986303,78789,null,"４５～４９歳",47.4,12.8,154,8,381,359.7,1208.4000000000001,5780.4,15836.712328767122,19265]
[60,"５０～５４歳",52.4,21.1,157,7,534.79999999999995,512.5,2166.6999999999998,8584.2999999999993,23518.630136986299,80626,null,"５０～５４歳",52.4,22.3,157,7,558.1,535.20000000000005,2328.4,9025.6,24727.671232876713,67204,null,"５０～５４歳",52.3,15.3,154,7,418.3,399.2,1356.7,6376.3,17469.315068493153,13423]
[61,"５５～５９歳",57.4,23,157,6,523.20000000000005,504.8,2050.1999999999998,8328.6,22818.082191780824,62415,null,"５５～５９歳",57.4,24,157,6,541.20000000000005,522.9,2170.9,8665.3000000000011,23740.547945205482,53871,null,"５５～５９歳",57.3,17.100000000000001,155,6,409.2,391.2,1289.0999999999999,6199.5,16984.931506849312,8544]
[62,"６０～６４歳",62.3,20.3,156,6,393.6,380.4,1127.8,5851.0000000000009,16030.136986301372,39616,null,"６０～６４歳",62.3,20.7,157,6,398.6,385.1,1149.5,5932.7000000000007,16253.97260273973,35074,null,"６０～６４歳",62.2,17.100000000000001,154,4,355,344.3,960.8,5220.8,14303.561643835616,4542]
[63,"６５～６９歳",67,16.3,158,5,372.3,362.8,840.9,5308.5,14543.835616438357,10536,null,"６５～６９歳",67,16.399999999999999,159,5,372.2,362.2,836.3,5302.7,14527.945205479451,9456,null,"６５～６９歳",67,15.4,158,2,373.4,367.7,881.2,5361.9999999999991,14690.410958904105,1080]
[64,"７０歳～",73.400000000000006,16.600000000000001,160,3,407.9,400.6,547.1,{"$f":"G73*12+I73","v":5441.9},{"$f":"J73/365*1000","v":14909.31506849315},3129,null,"７０歳～",73.099999999999994,16.100000000000001,159,4,409.4,401.5,515.5,5428.2999999999993,14872.054794520545,2759,null,"７０歳～",75.400000000000006,21.1,163,1,396.7,393.9,782.6,5543,15186.301369863013,370]

{"sheet":"賃セＨ３０","index":16,"n_rows":73,"n_cols":36,"rows_kept":73,"cut":false,"hidden":true,"merged":[[4,26,4,35],[5,2,6,2],[5,3,6,3],[5,4,6,4],[5,5,6,5],[5,27,6,27],[5,26,6,26],[5,28,6,28],[5,29,6,29],[5,30,6,30],[5,32,6,32],[5,35,6,35],[4,0,6,1],[4,2,4,11],[4,12,6,13],[4,14,4,23],[4,24,6,25],[5,6,6,6],[5,8,6,8],[5,11,6,11],[5,14,6,14],[5,15,6,15],[5,16,6,16],[5,17,6,17],[5,18,6,18],[5,20,6,20],[5,23,6,23]]}
["平成30年賃金構造基本統計調査"]
["第１表　　年齢階級別きまって支給する現金給与額、所定内給与額及び年間賞与その他特別給与額"]
["産業",null,"産業計"]
[]
["区　分",null,"企業規模計（10人以上）",null,null,null,null,null,null,null,null,null,"区　分",null,"企業規模計（10人以上）",null,null,null,null,null,null,null,null,null,"区　分",null,"企業規模計（10人以上）"]
[null,null,"年齢","勤続\n年数","所定内\n実労働\n時間数","超過\n実労働\n時間数","きまって\n支給す\nる現金\n給与額",null,"年間賞与その他特別給与額","年額計","日額","労働者数",null,null,"年齢","勤続\n年数","所定内\n実労働\n時間数","超過\n実労働\n時間数","きまって\n支給す\nる現金\n給与額",null,"年間賞与その他特別給与額","年額計","日額","労働者数",null,null,"年齢","勤続\n年数","所定内\n実労働\n時間数","超過\n実労働\n時間数","きまって\n支給す\nる現金\n給与額",null,"年間賞与その他特別給与額","年額計","日額","労働者数"]
[null,null,null,null,null,null,null,"所定内\n給与額",null,null,"÷365",null,null,null,null,null,null,null,null,"所定内\n給与額",null,null,"÷365",null,null,null,null,null,null,null,null,"所定内\n給与額",null,null,"÷365"]
[null,null,"歳","年","時間","時間","千円","千円","千円",null,null,"十人"]
[0,"男　 女　 計\n学　 歴   計",42.9,12.4,164,13,336.7,306.2,931.6,{"$f":"G9*12+I9","v":4972},{"$f":"J9/365*1000","v":13621.917808219179},2122450,null,"     男\n学　 歴   計",43.6,13.7,165,16,374.7,337.6,1088.0999999999999,{"$f":"S9*12+U9","v":5584.5},{"$f":"V9/365*1000","v":15300},1382788,null,"     女\n学　 歴   計",41.4,9.6999999999999993,162,8,265.60000000000002,247.5,639.1,{"$f":"AE9*12+AG9","v":3826.3},{"$f":"AH9/365*1000","v":10483.013698630139},739661]
[1,"　　～１９歳",19.100000000000001,1,167,13,198.8,177.8,138.6,2524.2000000000003,6915.6164383561654,19414,null,"　　～１９歳",19.100000000000001,1,167,15,205.6,180.6,153.30000000000001,2620.5,7179.4520547945203,12521,null,"　　～１９歳",19.100000000000001,0.9,168,9,186.4,172.6,111.8,2348.6000000000004,6434.520547945207,6893]
[2,"２０～２４歳",23,2.2000000000000002,165,14,235.1,209.7,393.3,3214.5,8806.8493150684935,162273,null,"２０～２４歳",23,2.2999999999999998,166,18,245.1,212.6,423.3,3364.5,9217.8082191780813,84822,null,"２０～２４歳",23,2,165,9,224.1,206.5,360.6,3049.7999999999997,8355.6164383561627,77451]
[3,"２５～２９歳",27.5,4.4000000000000004,164,17,274.39999999999998,240.3,676.4,3969.2,10874.520547945205,229189,null,"２５～２９歳",27.5,4.5,165,21,290.2,247.9,730.3,4212.7,11541.643835616436,134125,null,"２５～２９歳",27.4,4.0999999999999996,162,11,251.9,229.6,600.4,3623.2000000000003,9926.5753424657541,95064]
[4,"３０～３４歳",32.5,7.2,163,17,310.5,273.5,825.6,4551.6000000000004,12470.136986301372,230782,null,"３０～３４歳",32.5,7.4,165,20,335.2,289.39999999999998,919.1,4941.5,13538.356164383562,150784,null,"３０～３４歳",32.5,6.8,161,9,263.89999999999998,243.4,649.4,3816.2,10455.342465753423,79998]
[5,"３５～３９歳",37.5,9.9,164,16,338.8,301.7,941.9,5007.5,13719.178082191782,245390,null,"３５～３９歳",37.5,10.4,166,20,371.4,325.2,1070.7,5527.4999999999991,15143.835616438353,164673,null,"３５～３９歳",37.5,8.8000000000000007,161,8,272.2,253.6,679.1,3945.4999999999995,10809.589041095889,80717]
[6,"４０～４４歳",42.6,12.8,164,14,361.7,327.39999999999998,1060.3,5400.7,14796.438356164383,289232,null,"４０～４４歳",42.6,13.9,166,17,401.2,358.7,1220.8,6035.2,16534.794520547945,193455,null,"４０～４４歳",42.6,10.8,161,8,281.8,264.10000000000002,736,4117.6000000000004,11281.095890410959,95777]
[7,"４５～４９歳",47.4,15.8,164,13,384.3,352.4,1193.7,5805.3,15904.931506849316,294999,null,"４５～４９歳",47.4,17.399999999999999,166,15,433.4,394.9,1411.3,6612.0999999999995,18115.342465753423,195749,null,"４５～４９歳",47.4,12.5,161,8,287.39999999999998,268.7,764.5,4213.2999999999993,11543.287671232874,99251]
[8,"５０～５４歳",52.4,18.600000000000001,164,12,402.8,373.8,1287.5999999999999,6121.2000000000007,16770.410958904111,246213,null,"５０～５４歳",52.4,20.9,165,14,460.8,426,1552.7,7082.3,19403.561643835616,163514,null,"５０～５４歳",52.4,13.9,162,8,288.10000000000002,270.60000000000002,763.5,4220.7000000000007,11563.561643835617,82699]
[9,"５５～５９歳",57.4,20.8,164,10,395.8,370.3,1223.5999999999999,5973.2000000000007,16364.931506849316,207402,null,"５５～５９歳",57.4,23,165,12,449.4,419.5,1457.9,6850.6999999999989,18769.041095890407,140804,null,"５５～５９歳",57.4,16,161,7,282.5,266.5,728.2,4118.2,11282.739726027397,66598]
[10,"６０～６４歳",62.3,18.600000000000001,163,8,294.5,278.39999999999998,643.6,4177.6000000000004,11445.479452054797,129123,null,"６０～６４歳",62.3,19.7,164,9,319.10000000000002,300.60000000000002,721.6,4550.8,12467.945205479453,92331,null,"６０～６４歳",62.2,15.9,162,5,233,222.6,447.8,3243.8,8887.1232876712329,36793]
[11,"６５～６９歳",67.2,15.7,165,8,259.8,245.3,333.9,3451.5000000000005,9456.1643835616451,50318,null,"６５～６９歳",67.2,15.5,166,9,275.39999999999998,258.8,341.2,3645.9999999999995,9989.0410958904104,36774,null,"６５～６９歳",67.2,16.399999999999999,161,5,217.5,208.7,314.10000000000002,2924.1,8011.232876712329,13545]
[12,"７０歳～",73,17.600000000000001,164,6,254,243.3,256.60000000000002,3304.6,9053.698630136987,18113,null,"７０歳～",73,16.5,165,6,265.89999999999998,253.4,239.1,3429.8999999999996,9396.9863013698632,13238,null,"７０歳～",73,20.5,160,4,221.5,215.8,304.2,2962.2,8115.6164383561627,4876]
[13,"中   学   卒",50,13.6,168,16,279.89999999999998,248.7,448.3,3807.1,10430.410958904111,61406,null,"中   学   卒",50.5,14.6,170,18,302.39999999999998,266.10000000000002,499.4,4128.2,11310.13698630137,47236,null,"中   学   卒",48.3,10.5,163,9,204.9,190.4,278,2736.8,7498.0821917808225,14170]
[14,"　　～１９歳",18.5,1.6,166,11,186.2,170.7,52.1,2286.4999999999995,6264.3835616438346,617,null,"　　～１９歳",18.600000000000001,1.6,168,11,193.7,178.1,67.900000000000006,2392.2999999999997,6554.2465753424649,439,null,"　　～１９歳",18.2,1.6,161,10,167.8,152.30000000000001,13.2,2026.8000000000002,5552.876712328768,179]
[15,"２０～２４歳",22.7,2.5,168,17,223.6,197.1,203.3,2886.5,7908.2191780821913,2583,null,"２０～２４歳",22.7,2.5,171,19,240.6,209.8,237.2,3124.3999999999996,8559.9999999999982,1680,null,"２０～２４歳",22.7,2.4,162,12,191.9,173.6,140.30000000000001,2443.1000000000004,6693.4246575342477,903]
[16,"２５～２９歳",27.5,3.9,167,18,248.6,217.4,329.1,3312.2999999999997,9074.7945205479446,3346,null,"２５～２９歳",27.5,4.2,168,21,265.3,229.1,370.3,3553.9000000000005,9736.7123287671238,2311,null,"２５～２９歳",27.4,3.3,164,14,211.5,191.3,237.1,2775.1,7603.0136986301368,1035]
[17,"３０～３４歳",32.700000000000003,5.9,168,20,273,237,403.8,3679.8,10081.64383561644,4610,null,"３０～３４歳",32.700000000000003,6.4,170,24,298.5,255.3,462.7,4044.7,11081.369863013699,3238,null,"３０～３４歳",32.5,4.7,162,11,212.8,193.7,264.60000000000002,2818.2000000000003,7721.0958904109593,1372]
[18,"３５～３９歳",37.5,8,168,20,296.10000000000002,256.89999999999998,527.9,4081.1000000000004,11181.095890410959,5323,null,"３５～３９歳",37.5,8.5,170,23,319.7,273.39999999999998,573.6,4410,12082.191780821917,4089,null,"３５～３９歳",37.299999999999997,6,161,10,217.9,202.1,376.4,2991.2000000000003,8195.0684931506858,1234]
[19,"４０～４４歳",42.6,10.7,168,19,308.60000000000002,271.39999999999998,544.5,4247.7000000000007,11637.534246575344,6115,null,"４０～４４歳",42.7,11.5,170,21,332.4,289.2,609.20000000000005,4598,12597.260273972603,4794,null,"４０～４４歳",42.6,7.9,163,10,222.2,206.5,309.8,2976.2,8153.9726027397264,1321]
[20,"４５～４９歳",47.4,13.7,170,21,329,285.7,630.1,4578.1000000000004,12542.739726027397,7224,null,"４５～４９歳",47.4,14.7,172,23,356.5,306.10000000000002,696.8,4974.8,13629.589041095891,5768,null,"４５～４９歳",47.4,9.5,163,10,220.4,204.7,366,3010.8,8248.7671232876728,1456]
[21,"５０～５４歳",52.4,16,169,18,328.3,288.8,674.1,4613.7000000000007,12640.273972602741,6562,null,"５０～５４歳",52.4,17.100000000000001,170,20,353,308.39999999999998,735.7,4971.7,13621.095890410958,5302,null,"５０～５４歳",52.4,11.3,165,10,224.4,206.6,414.6,3107.4,8513.4246575342459,1260]
[22,"５５～５９歳",57.7,19.5,169,16,328,292.10000000000002,680.6,4616.6000000000004,12648.219178082194,6374,null,"５５～５９歳",57.7,20.399999999999999,170,18,352,312,749.1,4973.1000000000004,13624.931506849316,5224,null,"５５～５９歳",57.7,15.4,163,9,218.8,201.7,369.3,2994.9000000000005,8205.2054794520554,1150]
[23,"６０～６４歳",62.6,19.7,167,12,248.6,227.2,351.3,3334.5,9135.6164383561645,7911,null,"６０～６４歳",62.6,20.6,168,14,265.89999999999998,241,374.5,3565.2999999999997,9767.945205479451,6115,null,"６０～６４歳",62.6,16.5,163,6,189.6,180.2,272.39999999999998,2547.6,6979.7260273972597,1796]
[24,"６５～６９歳",67.400000000000006,18.100000000000001,168,10,223.3,206.6,181.1,2860.7000000000003,7837.5342465753429,6571,null,"６５～６９歳",67.400000000000006,18.7,169,12,237.9,218.3,189.4,3044.2000000000003,8340.2739726027412,4965,null,"６５～６９歳",67.3,16.3,163,5,178.1,170.5,155.1,2292.2999999999997,6280.2739726027394,1606]
[25,"７０歳～",73.2,18.899999999999999,164,7,212.2,199.8,141.4,2687.7999999999997,7363.8356164383558,4170,null,"７０歳～",73.2,18.7,165,8,223.4,209,144.9,2825.7000000000003,7741.643835616439,3312,null,"７０歳～",73.3,19.399999999999999,160,4,169.1,164,127.7,2156.8999999999996,5909.3150684931488,858]
[26,"高   校   卒",44.8,13.1,166,15,299.2,266.10000000000002,690.3,4280.7,11727.945205479453,901229,null,"高   校   卒",44.8,14.3,167,19,333.5,291.60000000000002,809.1,4811.1000000000004,13181.095890410959,608871,null,"高   校   卒",44.8,10.6,163,8,227.7,212.9,442.7,3175.0999999999995,8698.9041095890389,292358]
[27,"　　～１９歳",19.100000000000001,0.9,167,13,199.2,178,141.4,2531.7999999999997,6936.4383561643835,18797,null,"　　～１９歳",19.100000000000001,0.9,167,15,206.1,180.7,156.4,2629.6,7204.3835616438355,12082,null,"　　～１９歳",19.100000000000001,0.9,168,9,186.9,173.1,114.4,2357.2000000000003,6458.0821917808225,6715]
[28,"２０～２４歳",22.5,3.1,166,18,226.7,195.5,451,3171.3999999999996,8688.767123287671,62139,null,"２０～２４歳",22.6,3.2,166,22,240.6,201.5,510,3397.2,9307.3972602739723,39648,null,"２０～２４歳",22.5,2.9,166,11,202.3,184.9,346.9,2774.5000000000005,7601.3698630136996,22492]
[29,"２５～２９歳",27.6,5.6,165,18,253,217.9,528.5,3564.5,9765.7534246575342,66979,null,"２５～２９歳",27.6,5.9,166,22,272.2,227.9,606.70000000000005,3873.0999999999995,10611.232876712327,45270,null,"２５～２９歳",27.5,5,164,10,213,197,365.5,2921.5,8004.1095890410961,21710]
[30,"３０～３４歳",32.6,7.5,166,18,276.60000000000002,240,590.9,3910.1000000000004,10712.602739726028,73122,null,"３０～３４歳",32.6,7.9,167,22,301.7,255.7,683.9,4304.2999999999993,11792.602739726024,51250,null,"３０～３４歳",32.6,6.6,162,9,217.9,203.1,373.1,2987.9,8186.0273972602736,21871]
[31,"３５～３９歳",37.6,10,166,18,299.10000000000002,260.2,681.2,4270.4000000000005,11699.726027397261,89224,null,"３５～３９歳",37.6,10.7,168,22,330.5,281.39999999999998,788.7,4754.7,13026.575342465752,63089,null,"３５～３９歳",37.6,8.3000000000000007,162,8,223.4,208.9,421.7,3102.5,8500,26135]
[32,"４０～４４歳",42.7,12.8,166,17,320.89999999999998,281.3,781.9,4632.7,12692.328767123287,117373,null,"４０～４４歳",42.6,14,168,21,358.5,308.10000000000002,910.6,5212.6000000000004,14281.095890410959,81928,null,"４０～４４歳",42.7,10,163,8,234,219.4,484.6,3292.6,9020.8219178082181,35445]
[33,"４５～４９歳",47.4,15.2,166,16,333.8,296.39999999999998,844.8,4850.4000000000005,13288.767123287673,134638,null,"４５～４９歳",47.4,17,167,20,379.4,331.5,1003,5555.7999999999993,15221.369863013697,89158,null,"４５～４９歳",47.5,11.7,163,9,244.3,227.6,534.70000000000005,3466.3,9496.7123287671238,45480]
[34,"５０～５４歳",52.5,17.8,166,15,344,309.2,892,5020,13753.424657534246,121609,null,"５０～５４歳",52.5,20.2,168,18,397.6,352.6,1078.4000000000001,5849.6,16026.301369863013,79266,null,"５０～５４歳",52.5,13.3,163,8,243.8,228.1,542.9,3468.5000000000005,9502.7397260273974,42343]
[35,"５５～５９歳",57.5,20.2,165,13,341.2,310.8,895.5,4989.8999999999996,13670.958904109588,106722,null,"５５～５９歳",57.5,22.6,166,16,390.5,352,1078.9000000000001,5764.9,15794.246575342464,70429,null,"５５～５９歳",57.4,15.5,162,8,245.6,230.8,539.79999999999995,3487,9553.4246575342477,36293]
[36,"６０～６４歳",62.4,18.399999999999999,164,10,255.2,237.1,467.7,3530.0999999999995,9671.5068493150666,70103,null,"６０～６４歳",62.4,19.600000000000001,165,12,278.39999999999998,256.8,543.1,3883.8999999999996,10640.821917808218,47750,null,"６０～６４歳",62.3,15.7,162,6,205.5,195.1,306.7,2772.7,7596.4383561643835,22353]
[37,"６５～６９歳",67.2,15.6,165,9,229.9,214.4,247.5,3006.3,8236.4383561643845,30255,null,"６５～６９歳",67.2,15.1,167,10,242.5,224.4,251.9,3161.9,8662.7397260273992,21736,null,"６５～６９歳",67.2,16.7,161,5,197.7,189,236.1,2608.4999999999995,7146.5753424657523,8519]
[38,"７０歳～",72.8,17,164,6,219.3,209.3,211.6,2843.2000000000003,7789.5890410958918,10268,null,"７０歳～",72.8,15.4,166,6,224.1,212.3,189.7,2878.8999999999996,7887.3972602739714,7265,null,"７０歳～",72.8,20.9,160,4,207.8,202.1,264.5,2758.1000000000004,7556.4383561643845,3003]
[39,"高専・短大卒",41.5,11.3,163,10,305.7,281.2,803.6,4472,12252.054794520549,400219,null,"高専・短大卒",41.3,12.8,166,15,347.2,313.8,938.3,5104.7,13985.479452054793,165966,null,"高専・短大卒",41.6,10.3,162,7,276.3,258.2,708.3,4023.9000000000005,11024.383561643837,234254]
[40,"　　～１９歳","-","-","-","-","-","-","-","-","-","-",null,"　　～１９歳","-","-","-","-","-","-","-","-","-","-",null,"　　～１９歳","-","-","-","-","-","-","-","-","-","-"]
[41,"２０～２４歳",22.8,2,166,10,226.3,207,376.3,3091.9000000000005,8470.9589041095896,38555,null,"２０～２４歳",22.8,2,166,15,233.6,207.5,364.4,{"$f":"S50*12+U50","v":3167.6},{"$f":"V50/365*1000","v":8678.3561643835619},13772,null,"２０～２４歳",22.8,2,166,7,222.3,206.8,382.8,{"$f":"AE50*12+AG50","v":3050.4000000000005},{"$f":"AH50/365*1000","v":8357.2602739726044},24782]
[42,"２５～２９歳",27.4,4.5,164,12,254.3,229.5,578.20000000000005,3629.8,9944.6575342465749,40191,null,"２５～２９歳",27.5,4.7,165,17,270.10000000000002,236.2,623.20000000000005,3864.4000000000005,10587.397260273974,15680,null,"２５～２９歳",27.4,4.4000000000000004,163,8,244.2,225.2,549.4,3479.7999999999997,9533.6986301369852,24511]
[43,"３０～３４歳",32.5,7.2,164,12,280.39999999999998,252.8,676.8,4041.5999999999995,11072.876712328765,46088,null,"３０～３４歳",32.6,7.3,165,18,304.10000000000002,266.3,739.1,4388.3,12022.739726027397,22184,null,"３０～３４歳",32.5,7.1,162,7,258.39999999999998,240.2,619.1,3719.8999999999996,10191.506849315067,23904]
[44,"３５～３９歳",37.6,9.6999999999999993,163,12,301.2,273.5,773.7,4388.0999999999995,12022.191780821917,50479,null,"３５～３９歳",37.6,10.3,166,17,335.7,297.2,880.2,4908.5999999999995,13448.21917808219,23035,null,"３５～３９歳",37.6,9.1,161,7,272.2,253.6,684.3,3950.7,10823.835616438355,27443]
[45,"４０～４４歳",42.6,12.5,163,11,323.60000000000002,296,894.4,4777.6000000000004,13089.315068493152,65576,null,"４０～４４歳",42.6,14,166,16,370.6,331.7,1031.5,5478.7000000000007,15010.136986301372,29032,null,"４０～４４歳",42.5,11.3,161,7,286.39999999999998,267.60000000000002,785.5,4222.2999999999993,11567.945205479451,36545]
[46,"４５～４９歳",47.4,15.1,163,10,346.6,320.39999999999998,1025,5184.2000000000007,14203.287671232878,61946,null,"４５～４９歳",47.3,17.7,166,14,405.4,371.1,1238.5999999999999,6103.4,16721.643835616436,26333,null,"４５～４９歳",47.4,13.2,160,8,303.10000000000002,282.89999999999998,867.1,4504.3,12340.547945205479,35613]
[47,"５０～５４歳",52.4,16.7,163,9,353.9,330.5,1050.5999999999999,5297.4,14513.424657534246,44039,null,"５０～５４歳",52.4,20.7,165,12,430.8,401.1,1356.4,6526,17879.452054794521,16254,null,"５０～５４歳",52.4,14.4,161,7,308.89999999999998,289.10000000000002,871.7,4578.5,12543.835616438357,27785]
[48,"５５～５９歳",57.3,18.399999999999999,162,7,346,325.8,1018,5170,14164.383561643835,32599,null,"５５～５９歳",57.3,22.1,165,10,422,397,1298.7,6362.7,17432.054794520547,11267,null,"５５～５９歳",57.3,16.399999999999999,161,6,305.8,288.2,869.7,4539.3,12436.438356164384,21332]
[49,"６０～６４歳",62.1,17.5,162,5,280.10000000000002,267.8,642,4003.2000000000003,10967.671232876713,15341,null,"６０～６４歳",62.3,19.899999999999999,165,7,307.10000000000002,292.3,697.8,4383,12008.21917808219,6180,null,"６０～６４歳",62.1,15.9,160,4,261.89999999999998,251.2,604.4,3747.2,10266.301369863013,9161]
[50,"６５～６９歳",67.099999999999994,15.6,163,5,261.39999999999998,250,392.9,3529.7,9670.4109589041091,4283,null,"６５～６９歳",67.099999999999994,15.3,164,6,267.89999999999998,255.2,322.39999999999998,3537.2,9690.9589041095896,1856,null,"６５～６９歳",67.2,15.9,162,3,256.39999999999998,246.1,446.8,3523.6,9653.698630136987,2427]
[51,"７０歳～",73.400000000000006,19.600000000000001,161,4,269.39999999999998,261,454.5,3687.2999999999997,10102.191780821917,1121,null,"７０歳～",73.099999999999994,16.7,162,5,264.3,254.7,291.7,3463.3,9488.4931506849316,372,null,"７０歳～",73.5,21,161,3,272,264.10000000000002,535.29999999999995,3799.3,10409.041095890412,750]
[52,"大学・大学院卒",40.700000000000003,11.9,162,12,402.1,371.6,1324.5,6149.7000000000007,16848.493150684935,759595,null,"大学・大学院卒",42.4,13.3,163,13,433.7,400.5,1484.9,6689.2999999999993,18326.849315068488,560716,null,"大学・大学院卒",35.799999999999997,7.7,160,10,312.8,290.10000000000002,872.3,4625.9000000000005,12673.698630136987,198880]
[53,"　　～１９歳","-","-","-","-","-","-","-","-","-","-",null,"　　～１９歳","-","-","-","-","-","-","-","-","-","-",null,"　　～１９歳","-","-","-","-","-","-","-","-","-","-"]
[54,"２０～２４歳",23.7,1.3,163,12,250.1,226.9,352.1,3353.2999999999997,9187.1232876712329,58996,null,"２０～２４歳",23.7,1.3,164,15,256.7,230,345.4,{"$f":"S63*12+U63","v":3425.7999999999997},{"$f":"V63/365*1000","v":9385.7534246575342},29722,null,"２０～２４歳",23.7,1.3,162,10,243.3,223.8,359,{"$f":"AE63*12+AG63","v":3278.6000000000004},{"$f":"AH63/365*1000","v":8982.4657534246599},29274]
[55,"２５～２９歳",27.4,3.7,162,17,293.89999999999998,257.2,802.9,4329.7,11862.191780821917,118673,null,"２５～２９歳",27.5,3.6,164,21,307.10000000000002,263.8,844.7,4529.9000000000005,12410.68493150685,70864,null,"２５～２９歳",27.3,3.7,161,12,274.5,247.5,741.1,4035.1,11055.068493150686,47809]
[56,"３０～３４歳",32.5,7,161,17,348.2,306.8,1068.3,5246.7,14374.520547945205,106963,null,"３０～３４歳",32.5,7.1,163,20,369.2,321.10000000000002,1155.5999999999999,5586,15304.109589041096,74112,null,"３０～３４歳",32.4,6.8,159,11,300.7,274.7,871.4,4479.7999999999993,12273.424657534244,32851]
[57,"３５～３９歳",37.5,9.9,162,15,395.2,355.1,1280.2,6022.5999999999995,16500.273972602739,100364,null,"３５～３９歳",37.5,10.199999999999999,164,17,420,373.9,1395.9,6435.9,17632.602739726026,74460,null,"３５～３９歳",37.4,9.1999999999999993,159,9,323.8,301.10000000000002,947.7,4833.3,13241.917808219177,25905]
[58,"４０～４４歳",42.5,13.3,163,12,437.6,405.3,1526.5,6777.7000000000007,18569.041095890414,100168,null,"４０～４４歳",42.5,13.8,164,13,461.9,426.4,1656.4,7199.1999999999989,19723.835616438355,77702,null,"４０～４４歳",42.4,11.3,158,8,353.4,332.3,1077.2,5317.9999999999991,14569.863013698628,22466]
[59,"４５～４９歳",47.4,17.2,163,9,488.8,462.2,1868,7733.6,21187.945205479456,91191,null,"４５～４９歳",47.5,18.100000000000001,164,10,513.79999999999995,486.1,2016.3,8181.9,22416.164383561641,74489,null,"４５～４９歳",47.4,13.4,159,8,377.4,355.7,1206.3,5735.0999999999995,15712.602739726026,16702]
[60,"５０～５４歳",52.4,21.2,162,8,535,513.20000000000005,2133.1,8553.1,23433.150684931508,74003,null,"５０～５４歳",52.4,22.2,162,8,557.6,535.1,2272.1999999999998,8963.4000000000015,24557.260273972606,62692,null,"５０～５４歳",52.3,15.4,159,7,409.6,391.6,1362,6277.2000000000007,17197.808219178085,11311]
[61,"５５～５９歳",57.4,23.1,162,7,523.4,505,1955.7,8236.5,22565.753424657534,61706,null,"５５～５９歳",57.4,24,162,7,541.4,522.79999999999995,2055.4,8552.1999999999989,23430.684931506847,53884,null,"５５～５９歳",57.3,17.100000000000001,159,7,399.5,382.3,1269.2,6063.2,16611.506849315068,7823]
[62,"６０～６４歳",62.2,19.399999999999999,162,6,388,375.2,1053.5999999999999,5709.6,15642.739726027399,35767,null,"６０～６４歳",62.3,19.600000000000001,162,6,391.5,378.4,1055.9000000000001,5753.9,15764.109589041094,32286,null,"６０～６４歳",62.1,16.899999999999999,160,4,355.6,345,1032,5299.2000000000007,14518.356164383564,3482]
[63,"６５～６９歳",67.099999999999994,14.6,162,5,383.6,372,699.3,5302.5000000000009,14527.397260273976,9210,null,"６５～６９歳",67.099999999999994,14.5,162,5,387,374.9,673.1,5317.1,14567.397260273972,8217,null,"６５～６９歳",67.099999999999994,15.2,159,3,355.9,347.9,916.2,5186.9999999999991,14210.958904109588,993]
[64,"７０歳～",73.2,16.899999999999999,162,3,454.7,443,539,{"$f":"G73*12+I73","v":5995.4},{"$f":"J73/365*1000","v":16425.753424657534},2553,null,"７０歳～",73.2,16.899999999999999,161,4,460.7,447.8,523.6,6052,16580.821917808218,2288,null,"７０歳～",73.900000000000006,16.600000000000001,165,1,403.3,401.5,671.8,5511.4000000000005,15099.726027397262,265]

{"sheet":"平均余命","index":17,"n_rows":107,"n_cols":13,"rows_kept":107,"cut":false,"hidden":true,"merged":[]}
["年齢","R4m","R4f","R3m","R3f","R2m","R2f","H31m","H31f","H30m","H30f","H29m","H29f"]
[0,81.05,87.09,81.47,87.57,81.64,87.74,81.41,87.45,81.25,87.32,81.09,87.26]
[1,80.2,86.23,80.62,86.71,80.790000000000006,86.89,80.569999999999993,86.6,80.41,86.47,80.25,86.42]
[2,79.22,85.25,79.64,85.73,79.8,85.91,79.59,85.63,79.430000000000007,85.5,79.27,85.44]
[3,78.23,84.26,78.650000000000006,84.74,78.819999999999993,84.92,78.61,84.64,78.45,84.51,78.290000000000006,84.46]
[4,77.239999999999995,83.27,77.66,83.75,77.83,83.93,77.62,83.65,77.459999999999994,83.52,77.3,83.47]
[5,76.25,82.28,76.67,82.76,76.83,82.93,76.63,82.66,76.47,82.53,76.3,82.48]
[6,75.260000000000005,81.28,75.680000000000007,81.760000000000005,75.84,81.94,75.63,81.67,75.47,81.540000000000006,75.31,81.48]
[7,74.260000000000005,80.290000000000006,74.680000000000007,80.77,74.84,80.94,74.64,80.680000000000007,74.48,80.540000000000006,74.319999999999993,80.489999999999995]
[8,73.27,79.290000000000006,73.69,79.77,73.849999999999994,79.95,73.650000000000006,79.680000000000007,73.489999999999995,79.55,73.319999999999993,79.489999999999995]
[9,72.27,78.3,72.69,78.78,72.849999999999994,78.95,72.650000000000006,78.69,72.489999999999995,78.55,72.33,78.5]
[10,71.28,77.3,71.7,77.78,71.849999999999994,77.959999999999994,71.66,77.69,71.489999999999995,77.56,71.33,77.5]
[11,70.28,76.3,70.7,76.78,70.86,76.959999999999994,70.66,76.69,70.5,76.56,70.34,76.5]
[12,69.28,75.31,69.709999999999994,75.790000000000006,69.86,75.97,69.67,75.7,69.510000000000005,75.569999999999993,69.34,75.510000000000005]
[13,68.290000000000006,74.31,68.709999999999994,74.790000000000006,68.87,74.97,68.67,74.7,68.510000000000005,74.569999999999993,68.349999999999994,74.510000000000005]
[14,67.3,73.319999999999993,67.72,73.8,67.88,73.98,67.680000000000007,73.709999999999994,67.52,73.58,67.36,73.52]
[15,66.31,72.33,66.73,72.81,66.89,72.98,66.69,72.72,66.53,72.58,66.37,72.52]
[16,65.319999999999993,71.34,65.739999999999995,71.819999999999993,65.900000000000006,71.989999999999995,65.7,71.73,65.540000000000006,71.59,65.38,71.53]
[17,64.33,70.349999999999994,64.75,70.83,64.91,71,64.709999999999994,70.73,64.55,70.599999999999994,64.39,70.540000000000006]
[18,63.35,69.36,63.77,69.84,63.93,70.010000000000005,63.73,69.739999999999995,63.57,69.61,63.41,69.55]
[19,62.37,68.38,62.79,68.849999999999994,62.95,69.03,62.75,68.760000000000005,62.59,68.62,62.43,68.56]
[20,61.39,67.39,61.81,67.87,61.97,68.040000000000006,61.77,67.77,61.61,67.63,61.45,67.569999999999993]
[21,60.42,66.41,60.84,66.88,61,67.06,60.8,66.78,60.63,66.650000000000006,60.48,66.58]
[22,59.45,65.430000000000007,59.87,65.900000000000006,60.03,66.069999999999993,59.83,65.8,59.66,65.66,59.51,65.59]
[23,58.48,64.44,58.9,64.92,59.06,65.09,58.85,64.81,58.69,64.680000000000007,58.54,64.599999999999994]
[24,57.5,63.46,57.92,63.94,58.09,64.099999999999994,57.88,63.82,57.72,63.69,57.56,63.62]
[25,56.53,62.48,56.95,62.95,57.12,63.12,56.91,62.84,56.74,62.7,56.59,62.63]
[26,55.56,61.49,55.98,61.97,56.15,62.13,55.93,61.85,55.77,61.71,55.62,61.64]
[27,54.58,60.51,55.01,60.98,55.17,61.15,54.96,60.86,54.8,60.73,54.65,60.66]
[28,53.61,59.53,54.04,60,54.2,60.17,53.98,59.88,53.83,59.74,53.68,59.67]
[29,52.63,58.54,53.06,59.02,53.23,59.18,53.01,58.89,52.85,58.76,52.7,58.69]
[30,51.66,57.56,52.09,58.03,52.25,58.2,52.03,57.91,51.88,57.77,51.73,57.7]
[31,50.69,56.58,51.12,57.05,51.28,57.21,51.06,56.92,50.91,56.79,50.76,56.72]
[32,49.71,55.6,50.14,56.07,50.31,56.23,50.09,55.94,49.94,55.81,49.79,55.74]
[33,48.74,54.61,49.17,55.09,49.34,55.25,49.12,54.96,48.97,54.82,48.82,54.75]
[34,47.77,53.63,48.2,54.11,48.37,54.26,48.15,53.98,48,53.84,47.85,53.77]
[35,46.8,52.65,47.23,53.13,47.4,53.28,47.18,53,47.03,52.86,46.88,52.79]
[36,45.83,51.68,46.26,52.15,46.44,52.3,46.21,52.02,46.06,51.88,45.91,51.81]
[37,44.86,50.7,45.3,51.17,45.47,51.32,45.24,51.04,45.09,50.9,44.94,50.83]
[38,43.9,49.72,44.33,50.19,44.5,50.35,44.28,50.06,44.13,49.92,43.98,49.86]
[39,42.93,48.75,43.37,49.21,43.54,49.37,43.31,49.08,43.16,48.95,43.01,48.88]
[40,41.97,47.77,42.4,48.24,42.57,48.4,42.35,48.11,42.2,47.97,42.05,47.9]
[41,41.01,46.8,41.44,47.26,41.61,47.43,41.39,47.14,41.24,47,41.09,46.93]
[42,40.06,45.83,40.479999999999997,46.29,40.659999999999997,46.46,40.43,46.17,40.28,46.03,40.14,45.96]
[43,39.1,44.86,39.53,45.32,39.700000000000003,45.49,39.47,45.2,39.32,45.06,39.18,44.99]
[44,38.15,43.9,38.57,44.36,38.75,44.52,38.520000000000003,44.23,38.369999999999997,44.09,38.229999999999997,44.03]
[45,37.200000000000003,42.93,37.619999999999997,43.39,37.799999999999997,43.56,37.57,43.26,37.42,43.13,37.28,43.06]
[46,36.25,41.97,36.67,42.43,36.86,42.6,36.619999999999997,42.3,36.479999999999997,42.17,36.340000000000003,42.1]
[47,35.31,41.01,35.729999999999997,41.47,35.92,41.64,35.68,41.34,35.54,41.21,35.4,41.15]
[48,34.369999999999997,40.06,34.79,40.51,34.979999999999997,40.68,34.74,40.39,34.6,40.26,34.46,40.19]
[49,33.44,39.11,33.86,39.56,34.049999999999997,39.729999999999997,33.81,39.44,33.67,39.31,33.54,39.24]
[50,32.51,38.159999999999997,32.93,38.61,33.119999999999997,38.78,32.89,38.49,32.74,38.29,32.61,38.29]
[51,31.59,37.21,32.01,37.659999999999997,32.200000000000003,37.840000000000003,31.97,37.54,31.82,37.340000000000003,31.69,37.340000000000003]
[52,30.67,36.270000000000003,31.09,36.72,31.29,36.9,31.05,36.6,30.91,36.4,30.78,36.4]
[53,29.76,35.33,30.19,35.78,30.38,35.96,30.14,35.659999999999997,30,35.46,29.87,35.46]
[54,28.86,34.39,29.29,34.85,29.48,35.03,29.24,34.729999999999997,29.1,34.53,28.97,34.53]
[55,27.97,33.46,28.39,33.909999999999997,28.58,34.090000000000003,28.34,33.79,28.21,33.590000000000003,28.08,33.590000000000003]
[56,27.08,32.53,27.5,32.979999999999997,27.69,33.159999999999997,27.45,32.86,27.32,32.659999999999997,27.19,32.659999999999997]
[57,26.19,31.6,26.62,32.049999999999997,26.81,32.229999999999997,26.57,31.93,26.44,31.74,26.31,31.74]
[58,25.32,30.68,25.75,31.13,25.94,31.31,25.7,31,25.56,30.81,25.44,30.81]
[59,24.45,29.76,24.88,30.21,25.07,30.38,24.83,30.08,24.69,29.89,24.57,29.89]
[60,23.59,28.84,24.02,29.28,24.21,29.46,23.97,29.17,23.84,28.97,23.72,28.97]
[61,22.74,27.92,23.17,28.37,23.36,28.54,23.13,28.25,22.99,28.05,22.87,28.05]
[62,21.9,27.01,22.32,27.45,22.52,27.63,22.29,27.34,22.15,27.14,22.03,27.14]
[63,21.07,26.1,21.49,26.54,21.68,26.72,21.46,26.43,21.33,26.23,21.2,26.23]
[64,20.25,25.2,20.67,25.64,20.86,25.82,20.64,25.53,20.51,25.33,20.38,25.33]
[65,19.440000000000001,24.3,19.850000000000001,24.73,20.05,24.91,19.829999999999998,24.63,19.7,24.43,19.57,24.43]
[66,18.64,23.41,19.05,23.84,19.25,24.02,19.03,23.73,18.899999999999999,23.54,18.78,23.54]
[67,17.850000000000001,22.52,18.260000000000002,22.95,18.46,23.13,18.239999999999998,22.84,18.12,22.65,18,22.65]
[68,17.07,21.64,17.48,22.06,17.690000000000001,22.24,17.47,21.96,17.350000000000001,21.77,17.23,21.77]
[69,16.309999999999999,20.76,16.71,21.18,16.93,21.36,16.71,21.08,16.59,20.89,16.48,20.89]
[70,15.56,19.89,15.96,20.309999999999999,16.18,20.49,15.96,20.21,15.84,20.03,15.73,20.03]
[71,14.82,19.03,15.23,19.45,15.45,19.63,15.23,19.350000000000001,15.11,19.170000000000002,15,19.170000000000002]
[72,14.11,18.170000000000002,14.51,18.59,14.73,18.77,14.51,18.489999999999998,14.38,18.309999999999999,14.27,18.309999999999999]
[73,13.4,17.329999999999998,13.8,17.739999999999998,14.01,17.920000000000002,13.79,17.64,13.67,17.46,13.56,17.46]
[74,12.72,16.489999999999998,13.1,16.91,13.32,17.079999999999998,13.09,16.8,12.97,16.62,12.86,16.62]
[75,12.04,15.67,12.42,16.079999999999998,12.63,16.25,12.41,15.97,12.29,15.79,12.18,15.79]
[76,11.38,14.86,11.75,15.26,11.96,15.43,11.73,15.15,11.62,14.97,11.5,14.97]
[77,10.73,14.06,11.09,14.45,11.3,14.62,11.08,14.34,10.95,14.16,10.83,14.16]
[78,10.1,13.27,10.45,13.66,10.66,13.82,10.43,13.55,10.31,13.37,10.18,13.37]
[79,9.48,12.49,9.82,12.88,10.029999999999999,13.04,9.8000000000000007,12.77,9.68,12.59,9.5500000000000007,12.59]
[80,8.89,11.74,9.2200000000000006,12.12,9.42,12.28,9.18,12.01,9.06,11.84,8.9499999999999993,11.84]
[81,8.31,11,8.6300000000000008,11.37,8.82,11.53,8.59,11.26,8.4700000000000006,11.1,8.36,11.1]
[82,7.75,10.29,8.06,10.64,8.25,10.81,8.02,10.54,7.9,10.39,7.8,10.39]
[83,7.21,9.59,7.51,9.94,7.69,10.1,7.48,9.84,7.36,9.6999999999999993,7.26,9.6999999999999993]
[84,6.69,8.92,6.98,9.26,7.17,9.42,6.95,9.16,6.84,9.0299999999999994,6.75,9.0299999999999994]
[85,6.2,8.2799999999999994,6.48,8.6,6.67,8.76,6.46,8.51,6.35,8.39,6.26,8.39]
[86,5.73,7.66,6.01,7.97,6.19,8.1300000000000008,5.99,7.89,5.89,7.77,5.8,7.77]
[87,5.29,7.07,5.56,7.36,5.75,7.53,5.55,7.3,5.45,7.19,5.37,7.19]
[88,4.88,6.51,5.14,6.79,5.33,6.96,5.14,6.73,5.05,6.64,4.97,6.64]
[89,4.5,5.97,4.75,6.25,4.95,6.42,4.76,6.21,4.68,6.11,4.5999999999999996,6.11]
[90,4.1399999999999997,5.47,4.38,5.74,4.59,5.92,4.41,5.71,4.33,5.61,4.25,5.61]
[91,3.8,5,4.04,5.26,4.26,5.45,4.08,5.24,4,5.15,3.92,5.15]
[92,3.49,4.5599999999999996,3.72,4.8,3.95,5,3.76,4.8,3.68,4.71,3.61,4.71]
[93,3.2,4.1399999999999997,3.43,4.38,3.65,4.58,3.47,4.3899999999999997,3.39,4.3,3.33,4.3]
[94,2.93,3.76,3.15,4,3.37,4.1900000000000004,3.19,4,3.11,3.92,3.06,3.92]
[95,2.68,3.41,2.9,3.66,3.1,3.82,2.94,3.64,2.86,3.59,2.81,3.59]
[96,2.4500000000000002,3.1,2.67,3.35,2.85,3.48,2.7,3.31,2.62,3.29,2.57,3.29]
[97,2.23,2.83,2.46,3.08,2.62,3.16,2.4700000000000002,3.02,2.4,3.03,2.36,3.03]
[98,2.0299999999999998,2.58,2.2599999999999998,2.83,2.4,2.88,2.2599999999999998,2.75,2.19,2.78,2.16,2.78]
[99,1.85,2.36,2.08,2.61,2.2000000000000002,2.61,2.0699999999999998,2.5099999999999998,2,2.57,1.97,2.57]
[100,1.69,2.16,1.91,2.41,2.0099999999999998,2.37,1.89,2.29,1.82,2.37,1.8,2.37]
[101,1.53,1.98,1.76,2.2200000000000002,1.84,2.15,1.73,2.09,1.66,2.19,1.64,2.19]
[102,1.39,1.82,1.62,2.06,1.68,1.95,1.58,1.9,1.51,2.02,1.5,2.02]
[103,1.26,1.67,1.48,1.9,1.53,1.77,1.44,1.74,1.37,1.87,1.36,1.87]
[104,1.1499999999999999,1.54,1.36,1.76,1.39,1.6,1.31,1.58,1.24,1.74,1.24,1.74]
[105,1.04,1.41,1.25,1.64,1.26,1.45,1.19,1.45,1.1299999999999999,1.61,1.1299999999999999,1.61]